BEGIN:VCALENDAR
VERSION:2.0
PRODID:-//L&#039;actu GrandAngoulême et ses 38 communes - ECPv6.15.20//NONSGML v1.0//EN
CALSCALE:GREGORIAN
METHOD:PUBLISH
X-ORIGINAL-URL:https://actu.grandangouleme.fr
X-WR-CALDESC:Évènements pour L&#039;actu GrandAngoulême et ses 38 communes
REFRESH-INTERVAL;VALUE=DURATION:PT1H
X-Robots-Tag:noindex
X-PUBLISHED-TTL:PT1H
BEGIN:VTIMEZONE
TZID:Europe/Paris
BEGIN:DAYLIGHT
TZOFFSETFROM:+0100
TZOFFSETTO:+0200
TZNAME:CEST
DTSTART:20220327T010000
END:DAYLIGHT
BEGIN:STANDARD
TZOFFSETFROM:+0200
TZOFFSETTO:+0100
TZNAME:CET
DTSTART:20221030T010000
END:STANDARD
BEGIN:DAYLIGHT
TZOFFSETFROM:+0100
TZOFFSETTO:+0200
TZNAME:CEST
DTSTART:20230326T010000
END:DAYLIGHT
BEGIN:STANDARD
TZOFFSETFROM:+0200
TZOFFSETTO:+0100
TZNAME:CET
DTSTART:20231029T010000
END:STANDARD
BEGIN:DAYLIGHT
TZOFFSETFROM:+0100
TZOFFSETTO:+0200
TZNAME:CEST
DTSTART:20240331T010000
END:DAYLIGHT
BEGIN:STANDARD
TZOFFSETFROM:+0200
TZOFFSETTO:+0100
TZNAME:CET
DTSTART:20241027T010000
END:STANDARD
BEGIN:DAYLIGHT
TZOFFSETFROM:+0100
TZOFFSETTO:+0200
TZNAME:CEST
DTSTART:20250330T010000
END:DAYLIGHT
BEGIN:STANDARD
TZOFFSETFROM:+0200
TZOFFSETTO:+0100
TZNAME:CET
DTSTART:20251026T010000
END:STANDARD
BEGIN:DAYLIGHT
TZOFFSETFROM:+0100
TZOFFSETTO:+0200
TZNAME:CEST
DTSTART:20260329T010000
END:DAYLIGHT
BEGIN:STANDARD
TZOFFSETFROM:+0200
TZOFFSETTO:+0100
TZNAME:CET
DTSTART:20261025T010000
END:STANDARD
END:VTIMEZONE
BEGIN:VEVENT
DTSTART;TZID=Europe/Paris:20250920T210000
DTEND;TZID=Europe/Paris:20250920T223000
DTSTAMP:20260420T090648
CREATED:20250821T135300Z
LAST-MODIFIED:20250919T143615Z
UID:10001260-1758402000-1758407400@actu.grandangouleme.fr
SUMMARY:Chrysalide / Torsac
DESCRIPTION:21h • Le bourg • TORSAC \nCHRYSALIDE / COMPAGNIE EPIKOI \nSPECTACLE DE FEU \n« Chrysalide » est un spectacle tout public\, poétique\, intimiste et chaleureux qui mêle tissu aérien et jonglage de feu. Les deux artistes cherchent l’équilibre dans un mouvement continu\, offrant une ode à la nature\, aux cycles de la vie des saisons. \n\n17h: Balade patrimoniale de Pays d’art et d’histoire.\nBuvette et restauration.\n\nContacts : \n\n05 45 24 54 20\nwww.torsac.fr
URL:https://actu.grandangouleme.fr/evenement/chrysalide-torsac/
LOCATION:Torsac\, Le Bourg\, Torsac\, 16410\, France
CATEGORIES:Les soirs bleus,Patrimoine,Spectacle de feu
ATTACH;FMTTYPE=image/jpeg:https://actu.grandangouleme.fr/wp-content/uploads/2025/08/Chrysalide_0307_Mornac-4-scaled-Gz6uXv.tmp_.jpg
END:VEVENT
BEGIN:VEVENT
DTSTART;TZID=Europe/Paris:20250620T183000
DTEND;TZID=Europe/Paris:20250620T213000
DTSTAMP:20260420T090648
CREATED:20250521T192153Z
LAST-MODIFIED:20250615T210603Z
UID:10001148-1750444200-1750455000@actu.grandangouleme.fr
SUMMARY:Ensemble National de Reggae/ Torsac
DESCRIPTION:18h30 • Le bourg • TORSAC \nENSEMBLE NATIONAL DE REGGAE \nMUSIQUE \nL’Ensemble National de Reggae vous embarque sur sa sono mobile au son puissant\, avec trio vocal et instruments : basse\, batterie\, guitare\, clavier et saxophone. Ce groupe-fanfare dénote avec son look imparable et son énergie communicative\, autour d’un répertoire composé des plus grands hits de la musique reggae ! \n\nBuvette et restauration.\n\nContacts : \n\n05 45 24 54 20\nwww.torsac.fr
URL:https://actu.grandangouleme.fr/evenement/ensemble-national-de-reggae-torsac/
LOCATION:Torsac\, Le Bourg\, Torsac\, 16410\, France
CATEGORIES:Concert,Déambulation musicale,Les soirs bleus,Musique
ATTACH;FMTTYPE=image/jpeg:https://actu.grandangouleme.fr/wp-content/uploads/2025/05/p11_Ensemble-National-de-Reggae-gTv9Bi.tmp_.jpg
END:VEVENT
BEGIN:VEVENT
DTSTART;TZID=Europe/Paris:20230701T213000
DTEND;TZID=Europe/Paris:20230701T230000
DTSTAMP:20260420T090648
CREATED:20220824T201106Z
LAST-MODIFIED:20230701T082108Z
UID:10000483-1688247000-1688252400@actu.grandangouleme.fr
SUMMARY:Babaï Lugu & Alala Katsa Katsa / Torsac
DESCRIPTION:21h30 • Place de la Mairie • TORSAC \nBABAÏ LUGU & ALALA KATSA KATSA \nMUSIQUE \nBabaï Lugu & Alala Katsa Katsa puise ses racines à Madagascar\, se nourrit de la diversité du monde et nous transporte avec rythme\, douceur et intensité vers un ailleurs de réconfort. \n•  Restauration et buvette sur place \n• Découverte libre de l’exposition conçue par Pays d’art et d’histoire « Eglises romanes d’Angoumois vers 1865 dessinées par l’architecte Paul Abadie fils.  » \nContacts : 05 50 24 54 20 / www.torsac.fr
URL:https://actu.grandangouleme.fr/evenement/diya-linars/
LOCATION:Place de la Maire / torsac\, Place de la Mairie\, Torsac\, 16410\, France
CATEGORIES:Concert,Les soirs bleus,Musique,Patrimoine
ATTACH;FMTTYPE=image/jpeg:https://actu.grandangouleme.fr/wp-content/uploads/2022/07/Diya-2-scaled-0aIzLM.tmp_.jpg
END:VEVENT
END:VCALENDAR