BEGIN:VCALENDAR
VERSION:2.0
PRODID:-//L&#039;actu GrandAngoulême et ses 38 communes - ECPv6.15.20//NONSGML v1.0//EN
CALSCALE:GREGORIAN
METHOD:PUBLISH
X-ORIGINAL-URL:https://actu.grandangouleme.fr
X-WR-CALDESC:Évènements pour L&#039;actu GrandAngoulême et ses 38 communes
REFRESH-INTERVAL;VALUE=DURATION:PT1H
X-Robots-Tag:noindex
X-PUBLISHED-TTL:PT1H
BEGIN:VTIMEZONE
TZID:Europe/Paris
BEGIN:DAYLIGHT
TZOFFSETFROM:+0100
TZOFFSETTO:+0200
TZNAME:CEST
DTSTART:20210328T010000
END:DAYLIGHT
BEGIN:STANDARD
TZOFFSETFROM:+0200
TZOFFSETTO:+0100
TZNAME:CET
DTSTART:20211031T010000
END:STANDARD
BEGIN:DAYLIGHT
TZOFFSETFROM:+0100
TZOFFSETTO:+0200
TZNAME:CEST
DTSTART:20220327T010000
END:DAYLIGHT
BEGIN:STANDARD
TZOFFSETFROM:+0200
TZOFFSETTO:+0100
TZNAME:CET
DTSTART:20221030T010000
END:STANDARD
BEGIN:DAYLIGHT
TZOFFSETFROM:+0100
TZOFFSETTO:+0200
TZNAME:CEST
DTSTART:20230326T010000
END:DAYLIGHT
BEGIN:STANDARD
TZOFFSETFROM:+0200
TZOFFSETTO:+0100
TZNAME:CET
DTSTART:20231029T010000
END:STANDARD
END:VTIMEZONE
BEGIN:VEVENT
DTSTART;TZID=Europe/Paris:20221001T133000
DTEND;TZID=Europe/Paris:20221001T173000
DTSTAMP:20260420T003247
CREATED:20220930T072801Z
LAST-MODIFIED:20221001T073551Z
UID:10000508-1664631000-1664645400@actu.grandangouleme.fr
SUMMARY:RANDONNEE PEDESTRE • “A Soyaux\, chacun sa rando” • Service des sports de la Ville
DESCRIPTION:REPORTEE – A partir de 13h30. Inscription gratuite. Départ de l’espace Henri Matisse. Distances : 2 km pour les personnes à mobilité réduite / 5 km / 8 km / 11 km. \nFiches d’inscription :  \n\n2 km\n5 km\n8 km\n11 km\n\n 
URL:https://actu.grandangouleme.fr/evenement/randonnee-pedestre-a-soyaux-chacun-sa-rando-service-des-sports-de-la-ville/
LOCATION:Espace Henri Matisse\, 196 avenue du Général de Gaulle\, SOYAUX\, 16800\, France
CATEGORIES:Soyaux
ATTACH;FMTTYPE=image/jpeg:https://actu.grandangouleme.fr/wp-content/uploads/2022/09/Rando-Soyaux-2022-Affiche-118-176-reportee-UrZInf.tmp_.jpg
ORGANIZER;CN="Service des sports &#8211%3B Ville de Soyaux":MAILTO:sports@mairie-soyaux.fr
END:VEVENT
END:VCALENDAR