BEGIN:VCALENDAR
VERSION:2.0
PRODID:-//L&#039;actu GrandAngoulême et ses 38 communes - ECPv6.15.20//NONSGML v1.0//EN
CALSCALE:GREGORIAN
METHOD:PUBLISH
X-WR-CALNAME:L&#039;actu GrandAngoulême et ses 38 communes
X-ORIGINAL-URL:https://actu.grandangouleme.fr
X-WR-CALDESC:Évènements pour L&#039;actu GrandAngoulême et ses 38 communes
REFRESH-INTERVAL;VALUE=DURATION:PT1H
X-Robots-Tag:noindex
X-PUBLISHED-TTL:PT1H
BEGIN:VTIMEZONE
TZID:Europe/Paris
BEGIN:DAYLIGHT
TZOFFSETFROM:+0100
TZOFFSETTO:+0200
TZNAME:CEST
DTSTART:20210328T010000
END:DAYLIGHT
BEGIN:STANDARD
TZOFFSETFROM:+0200
TZOFFSETTO:+0100
TZNAME:CET
DTSTART:20211031T010000
END:STANDARD
BEGIN:DAYLIGHT
TZOFFSETFROM:+0100
TZOFFSETTO:+0200
TZNAME:CEST
DTSTART:20220327T010000
END:DAYLIGHT
BEGIN:STANDARD
TZOFFSETFROM:+0200
TZOFFSETTO:+0100
TZNAME:CET
DTSTART:20221030T010000
END:STANDARD
BEGIN:DAYLIGHT
TZOFFSETFROM:+0100
TZOFFSETTO:+0200
TZNAME:CEST
DTSTART:20230326T010000
END:DAYLIGHT
BEGIN:STANDARD
TZOFFSETFROM:+0200
TZOFFSETTO:+0100
TZNAME:CET
DTSTART:20231029T010000
END:STANDARD
END:VTIMEZONE
BEGIN:VEVENT
DTSTART;TZID=Europe/Paris:20220311T140000
DTEND;TZID=Europe/Paris:20220311T180000
DTSTAMP:20260425T213153
CREATED:20220228T123615Z
LAST-MODIFIED:20220311T065206Z
UID:10000300-1647007200-1647021600@actu.grandangouleme.fr
SUMMARY:Exposition Dignac : Marguerite de Valois
DESCRIPTION:Dignac\, Mairie\, Place du Champ de Foire\, Salle des Mariages \nExposition Marguerite de Valois-Angoulême ou le « Beau XVIe siècle » \nUne exposition conçue par le Pays d’Art et d’Histoire de GrandAngoulême. Pour (re)découvrir une femme d’exception au coeur de la renaissance : reine et soeur de roi\, écrivaine\, femme politique\, diplomate et philosophe\, emblème de la Renaissance et de l’Angoumois… \nDu 11 Mars au 7 Avril\, tous les jours du lundi au dimanche de 14h à 18h. \nLecture de textes les Samedis 19/03\, 26/03 et 02/04 de 15h à 16h. \nEntrée gratuite. Renseignements : 0607307133
URL:https://actu.grandangouleme.fr/evenement/exposition-dignac-marguerite-de-valois/
LOCATION:Salle des mariages\, DIGNAC\, 16410\, France
CATEGORIES:Dignac
ATTACH;FMTTYPE=image/jpeg:https://actu.grandangouleme.fr/wp-content/uploads/2022/02/FORMAT-ACTUS-Marguerite-de-Valois-1-EFvvAw.tmp_.jpg
ORGANIZER;CN="Mairie de Dignac":MAILTO:mairie@dignac.fr
END:VEVENT
BEGIN:VEVENT
DTSTART;TZID=Europe/Paris:20220304T160000
DTEND;TZID=Europe/Paris:20220304T190000
DTSTAMP:20260425T213153
CREATED:20220202T083450Z
LAST-MODIFIED:20220304T040651Z
UID:10000284-1646409600-1646420400@actu.grandangouleme.fr
SUMMARY:Marché Local Dignac
DESCRIPTION:
URL:https://actu.grandangouleme.fr/evenement/marche-local-dignac-2/
LOCATION:Hangar\, 1 Route du Mas\, DIGNAC\, 16410
CATEGORIES:Dignac
ATTACH;FMTTYPE=image/jpeg:https://actu.grandangouleme.fr/wp-content/uploads/2022/02/csm_marche-producteurs_448cb6b630-3opYlk.tmp_.jpg
ORGANIZER;CN="Mairie de Dignac":MAILTO:mairie@dignac.fr
END:VEVENT
BEGIN:VEVENT
DTSTART;TZID=Europe/Paris:20220204T160000
DTEND;TZID=Europe/Paris:20220204T190000
DTSTAMP:20260425T213153
CREATED:20220201T083422Z
LAST-MODIFIED:20220204T083538Z
UID:10000282-1643990400-1644001200@actu.grandangouleme.fr
SUMMARY:Marché Local Dignac
DESCRIPTION:
URL:https://actu.grandangouleme.fr/evenement/marche-local-dignac/
LOCATION:Hangar\, 1 Route du Mas\, DIGNAC\, 16410
CATEGORIES:Dignac
ATTACH;FMTTYPE=image/jpeg:https://actu.grandangouleme.fr/wp-content/uploads/2022/02/actus-marche-local-2-ril5pl.tmp_.jpg
ORGANIZER;CN="Mairie de Dignac":MAILTO:mairie@dignac.fr
END:VEVENT
END:VCALENDAR