BEGIN:VCALENDAR
VERSION:2.0
PRODID:-//L&#039;actu GrandAngoulême et ses 38 communes - ECPv6.15.20//NONSGML v1.0//EN
CALSCALE:GREGORIAN
METHOD:PUBLISH
X-WR-CALNAME:L&#039;actu GrandAngoulême et ses 38 communes
X-ORIGINAL-URL:https://actu.grandangouleme.fr
X-WR-CALDESC:Évènements pour L&#039;actu GrandAngoulême et ses 38 communes
REFRESH-INTERVAL;VALUE=DURATION:PT1H
X-Robots-Tag:noindex
X-PUBLISHED-TTL:PT1H
BEGIN:VTIMEZONE
TZID:Europe/Paris
BEGIN:DAYLIGHT
TZOFFSETFROM:+0100
TZOFFSETTO:+0200
TZNAME:CEST
DTSTART:20210328T010000
END:DAYLIGHT
BEGIN:STANDARD
TZOFFSETFROM:+0200
TZOFFSETTO:+0100
TZNAME:CET
DTSTART:20211031T010000
END:STANDARD
BEGIN:DAYLIGHT
TZOFFSETFROM:+0100
TZOFFSETTO:+0200
TZNAME:CEST
DTSTART:20220327T010000
END:DAYLIGHT
BEGIN:STANDARD
TZOFFSETFROM:+0200
TZOFFSETTO:+0100
TZNAME:CET
DTSTART:20221030T010000
END:STANDARD
BEGIN:DAYLIGHT
TZOFFSETFROM:+0100
TZOFFSETTO:+0200
TZNAME:CEST
DTSTART:20230326T010000
END:DAYLIGHT
BEGIN:STANDARD
TZOFFSETFROM:+0200
TZOFFSETTO:+0100
TZNAME:CET
DTSTART:20231029T010000
END:STANDARD
BEGIN:DAYLIGHT
TZOFFSETFROM:+0100
TZOFFSETTO:+0200
TZNAME:CEST
DTSTART:20240331T010000
END:DAYLIGHT
BEGIN:STANDARD
TZOFFSETFROM:+0200
TZOFFSETTO:+0100
TZNAME:CET
DTSTART:20241027T010000
END:STANDARD
BEGIN:DAYLIGHT
TZOFFSETFROM:+0100
TZOFFSETTO:+0200
TZNAME:CEST
DTSTART:20250330T010000
END:DAYLIGHT
BEGIN:STANDARD
TZOFFSETFROM:+0200
TZOFFSETTO:+0100
TZNAME:CET
DTSTART:20251026T010000
END:STANDARD
END:VTIMEZONE
BEGIN:VEVENT
DTSTART;TZID=Europe/Paris:20241022T140000
DTEND;TZID=Europe/Paris:20241022T163000
DTSTAMP:20260425T164041
CREATED:20241018T114044Z
LAST-MODIFIED:20241022T120220Z
UID:10000941-1729605600-1729614600@actu.grandangouleme.fr
SUMMARY:22/10 Animation Biodiversité
DESCRIPTION:
URL:https://actu.grandangouleme.fr/evenement/22-10-animation-biodiversite/
LOCATION:Place de l’Ombrière\, Route du Mas\, DIGNAC\, 16410\, France
CATEGORIES:Dignac
ATTACH;FMTTYPE=image/jpeg:https://actu.grandangouleme.fr/wp-content/uploads/2024/10/BP-50C26_20241018_113331_0001-BgNjRk.tmp_.jpg
ORGANIZER;CN="Mairie de Dignac":MAILTO:mairie@dignac.fr
END:VEVENT
BEGIN:VEVENT
DTSTART;TZID=Europe/Paris:20240405T160000
DTEND;TZID=Europe/Paris:20240405T190000
DTSTAMP:20260425T164041
CREATED:20240306T072507Z
LAST-MODIFIED:20240405T113527Z
UID:10000795-1712332800-1712343600@actu.grandangouleme.fr
SUMMARY:Marché local
DESCRIPTION:
URL:https://actu.grandangouleme.fr/evenement/marche-local/
LOCATION:Hangar\, 1 Route du Mas\, DIGNAC\, 16410
CATEGORIES:Dignac
ATTACH;FMTTYPE=image/jpeg:https://actu.grandangouleme.fr/wp-content/uploads/2024/03/actus-marche-local-Avril-24-5HU5wA.tmp_.jpg
ORGANIZER;CN="Mairie de Dignac":MAILTO:mairie@dignac.fr
END:VEVENT
BEGIN:VEVENT
DTSTART;TZID=Europe/Paris:20230825T180000
DTEND;TZID=Europe/Paris:20230825T220000
DTSTAMP:20260425T164041
CREATED:20230820T170030Z
LAST-MODIFIED:20230821T190055Z
UID:10000756-1692986400-1693000800@actu.grandangouleme.fr
SUMMARY:Marché des Producteurs de Pays
DESCRIPTION:
URL:https://actu.grandangouleme.fr/evenement/marche-des-producteurs-de-pays/
LOCATION:Rue des Écoles\, Rue des Écoles\, DIGNAC\, 16410\, France
CATEGORIES:Dignac
ATTACH;FMTTYPE=image/jpeg:https://actu.grandangouleme.fr/wp-content/uploads/2023/08/20230810_082030_0001-scaled-95AGRR.tmp_.jpg
ORGANIZER;CN="Mairie de Dignac":MAILTO:mairie@dignac.fr
END:VEVENT
BEGIN:VEVENT
DTSTART;TZID=Europe/Paris:20230712T183000
DTEND;TZID=Europe/Paris:20230712T223000
DTSTAMP:20260425T164041
CREATED:20230613T132158Z
LAST-MODIFIED:20230712T145037Z
UID:10000708-1689186600-1689201000@actu.grandangouleme.fr
SUMMARY:Soirs Bleus Dignac
DESCRIPTION:
URL:https://actu.grandangouleme.fr/evenement/soirs-bleus-dignac/
LOCATION:Place des Écoles\, Place des Écoles\, DIGNAC\, 16410\, France
CATEGORIES:Dignac
ATTACH;FMTTYPE=image/jpeg:https://actu.grandangouleme.fr/wp-content/uploads/2023/06/diapo-soirs-bleus-2023-7jrMpU.tmp_.jpg
ORGANIZER;CN="Mairie de Dignac":MAILTO:mairie@dignac.fr
END:VEVENT
BEGIN:VEVENT
DTSTART;TZID=Europe/Paris:20230707T160000
DTEND;TZID=Europe/Paris:20230707T190000
DTSTAMP:20260425T164041
CREATED:20221005T190935Z
LAST-MODIFIED:20230706T143833Z
UID:10000515-1688745600-1688756400@actu.grandangouleme.fr
SUMMARY:Marché Local Dignac
DESCRIPTION:
URL:https://actu.grandangouleme.fr/evenement/marche-local-dignac-10/
LOCATION:Hangar\, 1 Route du Mas\, DIGNAC\, 16410
CATEGORIES:Dignac
ATTACH;FMTTYPE=image/jpeg:https://actu.grandangouleme.fr/wp-content/uploads/2022/02/csm_marche-producteurs_448cb6b630-3opYlk.tmp_.jpg
ORGANIZER;CN="Mairie de Dignac":MAILTO:mairie@dignac.fr
END:VEVENT
BEGIN:VEVENT
DTSTART;TZID=Europe/Paris:20230602T160000
DTEND;TZID=Europe/Paris:20230602T190000
DTSTAMP:20260425T164041
CREATED:20221102T204006Z
LAST-MODIFIED:20230602T130538Z
UID:10000540-1685721600-1685732400@actu.grandangouleme.fr
SUMMARY:Marché Local Dignac
DESCRIPTION:
URL:https://actu.grandangouleme.fr/evenement/marche-local-dignac-11/
LOCATION:Hangar\, 1 Route du Mas\, DIGNAC\, 16410
CATEGORIES:Dignac
ATTACH;FMTTYPE=image/jpeg:https://actu.grandangouleme.fr/wp-content/uploads/2023/05/actus-marche-local-juin-2023-BtZxAU.tmp_.jpg
ORGANIZER;CN="Mairie de Dignac":MAILTO:mairie@dignac.fr
END:VEVENT
BEGIN:VEVENT
DTSTART;TZID=Europe/Paris:20230514T100000
DTEND;TZID=Europe/Paris:20230514T170000
DTSTAMP:20260425T164041
CREATED:20230414T180726Z
LAST-MODIFIED:20230514T072202Z
UID:10000654-1684058400-1684083600@actu.grandangouleme.fr
SUMMARY:Dignac\, Mémoire de la Résistance
DESCRIPTION:
URL:https://actu.grandangouleme.fr/evenement/dignac-memoire-de-la-resistance-2/
LOCATION:Hangar\, 1 Route du Mas\, DIGNAC\, 16410
CATEGORIES:Dignac
ATTACH;FMTTYPE=image/png:https://actu.grandangouleme.fr/wp-content/uploads/2023/04/A3_297x420mm-IfsWJE.tmp_.png
ORGANIZER;CN="Mairie de Dignac":MAILTO:mairie@dignac.fr
END:VEVENT
BEGIN:VEVENT
DTSTART;TZID=Europe/Paris:20230508T120000
DTEND;TZID=Europe/Paris:20230517T170000
DTSTAMP:20260425T164041
CREATED:20230417T182118Z
LAST-MODIFIED:20230508T070811Z
UID:10000655-1683547200-1684342800@actu.grandangouleme.fr
SUMMARY:Dignac expositions Mémoire de la Résistance
DESCRIPTION:
URL:https://actu.grandangouleme.fr/evenement/dignac-expositions-memoire-de-la-resistance/
LOCATION:Salle des mariages\, DIGNAC\, 16410\, France
CATEGORIES:Dignac
ATTACH;FMTTYPE=image/jpeg:https://actu.grandangouleme.fr/wp-content/uploads/2023/04/affiche-expo-departementale-SnmLMZ.tmp_.jpg
ORGANIZER;CN="Mairie de Dignac":MAILTO:mairie@dignac.fr
END:VEVENT
BEGIN:VEVENT
DTSTART;TZID=Europe/Paris:20221214T140000
DTEND;TZID=Europe/Paris:20221214T170000
DTSTAMP:20260425T164041
CREATED:20221129T140630Z
LAST-MODIFIED:20221214T152426Z
UID:10000566-1671026400-1671037200@actu.grandangouleme.fr
SUMMARY:Animation Vendredi au jardin médiéval de Dignac
DESCRIPTION:Rendez vous à partir à partir de 14h30 pour jardiner à Dignac et ainsi découvrir près de 160 plantes utilisées autrefois. Les actions peuvent êtres diverses et variés\, de la taille\, du paillage\, récolte de graines\, bricolage\, desherbage…. \nPour plus d’informations contactez nous à contact@lescompagnonsduvegetal.fr ou sur ces téléphones 0629594995 ou 0651316440
URL:https://actu.grandangouleme.fr/evenement/animation-vendredi-au-jardin-medieval-de-dignac/
LOCATION:Jardin Médiéval\, Rue de l'Eglise\, DIGNAC\, Charente\, 16410\, France
CATEGORIES:Dignac
ATTACH;FMTTYPE=image/jpeg:https://actu.grandangouleme.fr/wp-content/uploads/2022/11/dign-6FGNg2.tmp_.jpg
ORGANIZER;CN="Mairie de Dignac":MAILTO:mairie@dignac.fr
END:VEVENT
BEGIN:VEVENT
DTSTART;TZID=Europe/Paris:20221020T170000
DTEND;TZID=Europe/Paris:20221020T190000
DTSTAMP:20260425T164041
CREATED:20220922T182117Z
LAST-MODIFIED:20221020T195030Z
UID:10000499-1666285200-1666292400@actu.grandangouleme.fr
SUMMARY:Octobre Rose Conférence/Atelier palpation à Dignac
DESCRIPTION:
URL:https://actu.grandangouleme.fr/evenement/octobre-rose-conference-atelier-palpation-a-dignac/
LOCATION:Salle polyvalente\, DIGNAC\, 16410\, France
CATEGORIES:Dignac
ATTACH;FMTTYPE=image/png:https://actu.grandangouleme.fr/wp-content/uploads/2022/09/Affiche-2022-oct-rose-1-AtKRHl.tmp_.png
ORGANIZER;CN="Mairie de Dignac":MAILTO:mairie@dignac.fr
END:VEVENT
BEGIN:VEVENT
DTSTART;TZID=Europe/Paris:20221008T120000
DTEND;TZID=Europe/Paris:20221021T180000
DTSTAMP:20260425T164041
CREATED:20220922T182117Z
LAST-MODIFIED:20221008T192208Z
UID:10000498-1665230400-1666375200@actu.grandangouleme.fr
SUMMARY:Exposition « Roger Baleix parcours d’un architecte Art Déco en Angoumois » à Dignac
DESCRIPTION:
URL:https://actu.grandangouleme.fr/evenement/exposition-roger-baleix-parcours-dun-architecte-art-deco-en-angoumois-a-dignac/
LOCATION:Salle des mariages\, DIGNAC\, 16410\, France
CATEGORIES:Dignac
ATTACH;FMTTYPE=image/jpeg:https://actu.grandangouleme.fr/wp-content/uploads/2022/09/actus-expo-roger-baleix-6XfQ9L.tmp_.jpg
ORGANIZER;CN="Mairie de Dignac":MAILTO:mairie@dignac.fr
END:VEVENT
BEGIN:VEVENT
DTSTART;TZID=Europe/Paris:20221008T110000
DTEND;TZID=Europe/Paris:20221008T120000
DTSTAMP:20260425T164041
CREATED:20220922T182113Z
LAST-MODIFIED:20221008T192206Z
UID:10000497-1665226800-1665230400@actu.grandangouleme.fr
SUMMARY:Vernissage exposition « Roger Baleix parcours d’un architecte Art Déco en Angoumois » à Dignac
DESCRIPTION:
URL:https://actu.grandangouleme.fr/evenement/vernissage-exposition-roger-baleix-parcours-dun-architecte-art-deco-en-angoumois-a-dignac/
LOCATION:Salle des mariages\, DIGNAC\, 16410\, France
CATEGORIES:Dignac
ATTACH;FMTTYPE=image/jpeg:https://actu.grandangouleme.fr/wp-content/uploads/2022/09/actus-expo-roger-baleix-6XfQ9L.tmp_.jpg
ORGANIZER;CN="Mairie de Dignac":MAILTO:mairie@dignac.fr
END:VEVENT
BEGIN:VEVENT
DTSTART;TZID=Europe/Paris:20221007T160000
DTEND;TZID=Europe/Paris:20221007T190000
DTSTAMP:20260425T164041
CREATED:20220907T173555Z
LAST-MODIFIED:20221007T192103Z
UID:10000491-1665158400-1665169200@actu.grandangouleme.fr
SUMMARY:Marché Local Dignac
DESCRIPTION:
URL:https://actu.grandangouleme.fr/evenement/marche-local-dignac-9/
LOCATION:Hangar\, 1 Route du Mas\, DIGNAC\, 16410
CATEGORIES:Dignac
ATTACH;FMTTYPE=image/jpeg:https://actu.grandangouleme.fr/wp-content/uploads/2022/02/csm_marche-producteurs_448cb6b630-3opYlk.tmp_.jpg
ORGANIZER;CN="Mairie de Dignac":MAILTO:mairie@dignac.fr
END:VEVENT
BEGIN:VEVENT
DTSTART;VALUE=DATE:20220916
DTEND;VALUE=DATE:20220917
DTSTAMP:20260425T164041
CREATED:20220817T000551Z
LAST-MODIFIED:20220916T180707Z
UID:10000476-1663286400-1663372799@actu.grandangouleme.fr
SUMMARY:Marché des Producteurs de Pays Dignac
DESCRIPTION:
URL:https://actu.grandangouleme.fr/evenement/marche-des-producteurs-de-pays-dignac/
LOCATION:Rue des Écoles\, Rue des Écoles\, DIGNAC\, 16410\, France
CATEGORIES:Dignac
ATTACH;FMTTYPE=image/jpeg:https://actu.grandangouleme.fr/wp-content/uploads/2022/09/DIGNAC-Vendredi-16-sept.-scaled-jcF8p7.tmp_.jpg
ORGANIZER;CN="Mairie de Dignac":MAILTO:mairie@dignac.fr
END:VEVENT
BEGIN:VEVENT
DTSTART;TZID=Europe/Paris:20220912T140000
DTEND;TZID=Europe/Paris:20220926T180000
DTSTAMP:20260425T164041
CREATED:20220912T175045Z
LAST-MODIFIED:20220912T175045Z
UID:10000494-1662991200-1664215200@actu.grandangouleme.fr
SUMMARY:Exposition photos Dignac
DESCRIPTION:
URL:https://actu.grandangouleme.fr/evenement/exposition-photos-dignac/
LOCATION:Salle des mariages\, DIGNAC\, 16410\, France
CATEGORIES:Dignac
ATTACH;FMTTYPE=image/jpeg:https://actu.grandangouleme.fr/wp-content/uploads/2022/09/actus-expo-photos-2022-X523lB.tmp_.jpg
ORGANIZER;CN="Mairie de Dignac":MAILTO:mairie@dignac.fr
END:VEVENT
BEGIN:VEVENT
DTSTART;TZID=Europe/Paris:20220902T160000
DTEND;TZID=Europe/Paris:20220902T190000
DTSTAMP:20260425T164041
CREATED:20220803T230552Z
LAST-MODIFIED:20220902T173534Z
UID:10000466-1662134400-1662145200@actu.grandangouleme.fr
SUMMARY:Marché Local Dignac
DESCRIPTION:
URL:https://actu.grandangouleme.fr/evenement/marche-local-dignac-8/
LOCATION:Hangar\, 1 Route du Mas\, DIGNAC\, 16410
CATEGORIES:Dignac
ATTACH;FMTTYPE=image/jpeg:https://actu.grandangouleme.fr/wp-content/uploads/2022/02/csm_marche-producteurs_448cb6b630-3opYlk.tmp_.jpg
ORGANIZER;CN="Mairie de Dignac":MAILTO:mairie@dignac.fr
END:VEVENT
BEGIN:VEVENT
DTSTART;TZID=Europe/Paris:20220826T183000
DTEND;TZID=Europe/Paris:20220826T230000
DTSTAMP:20260425T164041
CREATED:20220727T224302Z
LAST-MODIFIED:20220826T003526Z
UID:10000458-1661538600-1661554800@actu.grandangouleme.fr
SUMMARY:Soirs Bleus à Dignac
DESCRIPTION:
URL:https://actu.grandangouleme.fr/evenement/soirs-bleus-a-dignac/
LOCATION:Place des Écoles\, Place des Écoles\, DIGNAC\, 16410\, France
CATEGORIES:Dignac
ATTACH;FMTTYPE=image/jpeg:https://actu.grandangouleme.fr/wp-content/uploads/2022/07/Affiche-soirs-bleus-2022-iQExeu.tmp_.jpg
ORGANIZER;CN="Mairie de Dignac":MAILTO:mairie@dignac.fr
END:VEVENT
BEGIN:VEVENT
DTSTART;TZID=Europe/Paris:20220701T160000
DTEND;TZID=Europe/Paris:20220701T190000
DTSTAMP:20260425T164041
CREATED:20220601T163611Z
LAST-MODIFIED:20220701T192037Z
UID:10000408-1656691200-1656702000@actu.grandangouleme.fr
SUMMARY:Marché Local Dignac
DESCRIPTION:
URL:https://actu.grandangouleme.fr/evenement/marche-local-dignac-6/
LOCATION:Hangar\, 1 Route du Mas\, DIGNAC\, 16410
CATEGORIES:Dignac
ATTACH;FMTTYPE=image/jpeg:https://actu.grandangouleme.fr/wp-content/uploads/2022/02/csm_marche-producteurs_448cb6b630-3opYlk.tmp_.jpg
ORGANIZER;CN="Mairie de Dignac":MAILTO:mairie@dignac.fr
END:VEVENT
BEGIN:VEVENT
DTSTART;TZID=Europe/Paris:20220701T110000
DTEND;TZID=Europe/Paris:20220701T180000
DTSTAMP:20260425T164041
CREATED:20220607T170644Z
LAST-MODIFIED:20220701T192037Z
UID:10000421-1656673200-1656698400@actu.grandangouleme.fr
SUMMARY:Ma Maison A’Venir à Dignac
DESCRIPTION:
URL:https://actu.grandangouleme.fr/evenement/ma-maison-avenir-a-dignac/
LOCATION:Hangar\, 1 Route du Mas\, DIGNAC\, 16410
CATEGORIES:Dignac
ATTACH;FMTTYPE=image/jpeg:https://actu.grandangouleme.fr/wp-content/uploads/2022/06/Affiche-A4-ou-A3-Ma-Maison-AVenir-fsyOQ5.tmp_.jpg
ORGANIZER;CN="Mairie de Dignac":MAILTO:mairie@dignac.fr
END:VEVENT
BEGIN:VEVENT
DTSTART;TZID=Europe/Paris:20220603T160000
DTEND;TZID=Europe/Paris:20220603T190000
DTSTAMP:20260425T164041
CREATED:20220505T151633Z
LAST-MODIFIED:20220603T163547Z
UID:10000374-1654272000-1654282800@actu.grandangouleme.fr
SUMMARY:Marché Local Dignac
DESCRIPTION:
URL:https://actu.grandangouleme.fr/evenement/marche-local-dignac-5/
LOCATION:Hangar\, 1 Route du Mas\, DIGNAC\, 16410
CATEGORIES:Dignac
ATTACH;FMTTYPE=image/jpeg:https://actu.grandangouleme.fr/wp-content/uploads/2022/02/csm_marche-producteurs_448cb6b630-3opYlk.tmp_.jpg
ORGANIZER;CN="Mairie de Dignac":MAILTO:mairie@dignac.fr
END:VEVENT
BEGIN:VEVENT
DTSTART;TZID=Europe/Paris:20220506T160000
DTEND;TZID=Europe/Paris:20220506T190000
DTSTAMP:20260425T164041
CREATED:20220407T122150Z
LAST-MODIFIED:20220506T150602Z
UID:10000350-1651852800-1651863600@actu.grandangouleme.fr
SUMMARY:Marché Local Dignac
DESCRIPTION:
URL:https://actu.grandangouleme.fr/evenement/marche-local-dignac-4/
LOCATION:Hangar\, 1 Route du Mas\, DIGNAC\, 16410
CATEGORIES:Dignac
ATTACH;FMTTYPE=image/jpeg:https://actu.grandangouleme.fr/wp-content/uploads/2022/02/csm_marche-producteurs_448cb6b630-3opYlk.tmp_.jpg
ORGANIZER;CN="Mairie de Dignac":MAILTO:mairie@dignac.fr
END:VEVENT
BEGIN:VEVENT
DTSTART;TZID=Europe/Paris:20220407T140000
DTEND;TZID=Europe/Paris:20220407T180000
DTSTAMP:20260425T164041
CREATED:20220308T060830Z
LAST-MODIFIED:20220407T122150Z
UID:10000334-1649340000-1649354400@actu.grandangouleme.fr
SUMMARY:Exposition Dignac : Marguerite de Valois
DESCRIPTION:Dignac\, Mairie\, Place du Champ de Foire\, Salle des Mariages \nExposition Marguerite de Valois-Angoulême ou le « Beau XVIe siècle» \nUne exposition conçue par le Pays d’Art et d’Histoire de GrandAngoulême. Pour (re)découvrir une femme d’exception au coeur de la renaissance : reine et soeur de roi\, écrivaine\, femme politique\, diplomate et philosophe\, emblème de la Renaissance et de l’Angoumois… \nEntrée gratuite. Renseignements : 0607307133
URL:https://actu.grandangouleme.fr/evenement/exposition-dignac-marguerite-de-valois-28/
LOCATION:Salle des mariages\, DIGNAC\, 16410\, France
CATEGORIES:Dignac
ATTACH;FMTTYPE=image/jpeg:https://actu.grandangouleme.fr/wp-content/uploads/2022/02/FORMAT-ACTUS-Marguerite-de-Valois-1-EFvvAw.tmp_.jpg
ORGANIZER;CN="Mairie de Dignac":MAILTO:mairie@dignac.fr
END:VEVENT
BEGIN:VEVENT
DTSTART;TZID=Europe/Paris:20220405T140000
DTEND;TZID=Europe/Paris:20220405T180000
DTSTAMP:20260425T164041
CREATED:20220306T050246Z
LAST-MODIFIED:20220405T150707Z
UID:10000330-1649167200-1649181600@actu.grandangouleme.fr
SUMMARY:Exposition Dignac : Marguerite de Valois
DESCRIPTION:Dignac\, Mairie\, Place du Champ de Foire\, Salle des Mariages \nExposition Marguerite de Valois-Angoulême ou le « Beau XVIe siècle» \nUne exposition conçue par le Pays d’Art et d’Histoire de GrandAngoulême. Pour (re)découvrir une femme d’exception au coeur de la renaissance : reine et soeur de roi\, écrivaine\, femme politique\, diplomate et philosophe\, emblème de la Renaissance et de l’Angoumois… \nEntrée gratuite. Renseignements : 0607307133
URL:https://actu.grandangouleme.fr/evenement/exposition-dignac-marguerite-de-valois-26/
LOCATION:Salle des mariages\, DIGNAC\, 16410\, France
CATEGORIES:Dignac
ATTACH;FMTTYPE=image/jpeg:https://actu.grandangouleme.fr/wp-content/uploads/2022/02/FORMAT-ACTUS-Marguerite-de-Valois-1-EFvvAw.tmp_.jpg
ORGANIZER;CN="Mairie de Dignac":MAILTO:mairie@dignac.fr
END:VEVENT
BEGIN:VEVENT
DTSTART;TZID=Europe/Paris:20220404T140000
DTEND;TZID=Europe/Paris:20220404T180000
DTSTAMP:20260425T164041
CREATED:20220305T040622Z
LAST-MODIFIED:20220404T150610Z
UID:10000329-1649080800-1649095200@actu.grandangouleme.fr
SUMMARY:Exposition Dignac : Marguerite de Valois
DESCRIPTION:Dignac\, Mairie\, Place du Champ de Foire\, Salle des Mariages \nExposition Marguerite de Valois-Angoulême ou le « Beau XVIe siècle» \nUne exposition conçue par le Pays d’Art et d’Histoire de GrandAngoulême. Pour (re)découvrir une femme d’exception au coeur de la renaissance : reine et soeur de roi\, écrivaine\, femme politique\, diplomate et philosophe\, emblème de la Renaissance et de l’Angoumois… \nEntrée gratuite. Renseignements : 0607307133
URL:https://actu.grandangouleme.fr/evenement/exposition-dignac-marguerite-de-valois-25/
LOCATION:Salle des mariages\, DIGNAC\, 16410\, France
CATEGORIES:Dignac
ATTACH;FMTTYPE=image/jpeg:https://actu.grandangouleme.fr/wp-content/uploads/2022/02/FORMAT-ACTUS-Marguerite-de-Valois-1-EFvvAw.tmp_.jpg
ORGANIZER;CN="Mairie de Dignac":MAILTO:mairie@dignac.fr
END:VEVENT
BEGIN:VEVENT
DTSTART;TZID=Europe/Paris:20220403T140000
DTEND;TZID=Europe/Paris:20220403T180000
DTSTAMP:20260425T164041
CREATED:20220304T040650Z
LAST-MODIFIED:20220403T145559Z
UID:10000326-1648994400-1649008800@actu.grandangouleme.fr
SUMMARY:Exposition Dignac : Marguerite de Valois
DESCRIPTION:Dignac\, Mairie\, Place du Champ de Foire\, Salle des Mariages \nExposition Marguerite de Valois-Angoulême ou le « Beau XVIe siècle» \nUne exposition conçue par le Pays d’Art et d’Histoire de GrandAngoulême. Pour (re)découvrir une femme d’exception au coeur de la renaissance : reine et soeur de roi\, écrivaine\, femme politique\, diplomate et philosophe\, emblème de la Renaissance et de l’Angoumois… \nEntrée gratuite. Renseignements : 0607307133
URL:https://actu.grandangouleme.fr/evenement/exposition-dignac-marguerite-de-valois-24/
LOCATION:Salle des mariages\, DIGNAC\, 16410\, France
CATEGORIES:Dignac
ATTACH;FMTTYPE=image/jpeg:https://actu.grandangouleme.fr/wp-content/uploads/2022/02/FORMAT-ACTUS-Marguerite-de-Valois-1-EFvvAw.tmp_.jpg
ORGANIZER;CN="Mairie de Dignac":MAILTO:mairie@dignac.fr
END:VEVENT
BEGIN:VEVENT
DTSTART;TZID=Europe/Paris:20220402T140000
DTEND;TZID=Europe/Paris:20220402T180000
DTSTAMP:20260425T164041
CREATED:20220304T040650Z
LAST-MODIFIED:20220402T145811Z
UID:10000325-1648908000-1648922400@actu.grandangouleme.fr
SUMMARY:Exposition Dignac : Marguerite de Valois
DESCRIPTION:Dignac\, Mairie\, Place du Champ de Foire\, Salle des Mariages \nExposition Marguerite de Valois-Angoulême ou le « Beau XVIe siècles » et Lecture de textes de 15h à 16h\n \nUne exposition conçue par le Pays d’Art et d’Histoire de GrandAngoulême. Pour (re)découvrir une femme d’exception au coeur de la renaissance : reine et soeur de roi\, écrivaine\, femme politique\, diplomate et philosophe\, emblème de la Renaissance et de l’Angoumois… \nEntrée gratuite. Renseignements : 0607307133
URL:https://actu.grandangouleme.fr/evenement/exposition-dignac-marguerite-de-valois-23/
LOCATION:Salle des mariages\, DIGNAC\, 16410\, France
CATEGORIES:Dignac
ATTACH;FMTTYPE=image/jpeg:https://actu.grandangouleme.fr/wp-content/uploads/2022/02/FORMAT-ACTUS-Marguerite-de-Valois-1-EFvvAw.tmp_.jpg
ORGANIZER;CN="Mairie de Dignac":MAILTO:mairie@dignac.fr
END:VEVENT
BEGIN:VEVENT
DTSTART;TZID=Europe/Paris:20220401T160000
DTEND;TZID=Europe/Paris:20220401T190000
DTSTAMP:20260425T164041
CREATED:20220302T032856Z
LAST-MODIFIED:20220401T145207Z
UID:10000323-1648828800-1648839600@actu.grandangouleme.fr
SUMMARY:Marché Local Dignac
DESCRIPTION:
URL:https://actu.grandangouleme.fr/evenement/marche-local-dignac-3/
LOCATION:Hangar\, 1 Route du Mas\, DIGNAC\, 16410
CATEGORIES:Dignac
ATTACH;FMTTYPE=image/jpeg:https://actu.grandangouleme.fr/wp-content/uploads/2022/02/csm_marche-producteurs_448cb6b630-3opYlk.tmp_.jpg
ORGANIZER;CN="Mairie de Dignac":MAILTO:mairie@dignac.fr
END:VEVENT
BEGIN:VEVENT
DTSTART;TZID=Europe/Paris:20220401T140000
DTEND;TZID=Europe/Paris:20220401T180000
DTSTAMP:20260425T164041
CREATED:20220302T032856Z
LAST-MODIFIED:20220401T145206Z
UID:10000322-1648821600-1648836000@actu.grandangouleme.fr
SUMMARY:Exposition Dignac : Marguerite de Valois
DESCRIPTION:Dignac\, Mairie\, Place du Champ de Foire\, Salle des Mariages \nExposition Marguerite de Valois-Angoulême ou le « Beau XVIe siècle » \nUne exposition conçue par le Pays d’Art et d’Histoire de GrandAngoulême. Pour (re)découvrir une femme d’exception au coeur de la renaissance : reine et soeur de roi\, écrivaine\, femme politique\, diplomate et philosophe\, emblème de la Renaissance et de l’Angoumois… \nEntrée gratuite. Renseignements : 0607307133
URL:https://actu.grandangouleme.fr/evenement/exposition-dignac-marguerite-de-valois-22/
LOCATION:Salle des mariages\, DIGNAC\, 16410\, France
CATEGORIES:Dignac
ATTACH;FMTTYPE=image/jpeg:https://actu.grandangouleme.fr/wp-content/uploads/2022/02/FORMAT-ACTUS-Marguerite-de-Valois-1-EFvvAw.tmp_.jpg
ORGANIZER;CN="Mairie de Dignac":MAILTO:mairie@dignac.fr
END:VEVENT
BEGIN:VEVENT
DTSTART;TZID=Europe/Paris:20220331T140000
DTEND;TZID=Europe/Paris:20220331T180000
DTSTAMP:20260425T164041
CREATED:20220301T124615Z
LAST-MODIFIED:20220331T145051Z
UID:10000321-1648735200-1648749600@actu.grandangouleme.fr
SUMMARY:Exposition Dignac : Marguerite de Valois
DESCRIPTION:Dignac\, Mairie\, Place du Champ de Foire\, Salle des Mariages \nExposition Marguerite de Valois-Angoulême ou le « Beau XVIe siècles » \nUne exposition conçue par le Pays d’Art et d’Histoire de GrandAngoulême. Pour (re)découvrir une femme d’exception au coeur de la renaissance : reine et soeur de roi\, écrivaine\, femme politique\, diplomate et philosophe\, emblème de la Renaissance et de l’Angoumois… \nEntrée gratuite. Renseignements : 0607307133
URL:https://actu.grandangouleme.fr/evenement/exposition-dignac-marguerite-de-valois-21/
LOCATION:Salle des mariages\, DIGNAC\, 16410\, France
CATEGORIES:Dignac
ATTACH;FMTTYPE=image/jpeg:https://actu.grandangouleme.fr/wp-content/uploads/2022/02/FORMAT-ACTUS-Marguerite-de-Valois-1-EFvvAw.tmp_.jpg
ORGANIZER;CN="Mairie de Dignac":MAILTO:mairie@dignac.fr
END:VEVENT
BEGIN:VEVENT
DTSTART;TZID=Europe/Paris:20220330T140000
DTEND;TZID=Europe/Paris:20220330T180000
DTSTAMP:20260425T164041
CREATED:20220301T124615Z
LAST-MODIFIED:20220330T144337Z
UID:10000320-1648648800-1648663200@actu.grandangouleme.fr
SUMMARY:Exposition Dignac : Marguerite de Valois
DESCRIPTION:Dignac\, Mairie\, Place du Champ de Foire\, Salle des Mariages \nExposition Marguerite de Valois-Angoulême ou le « Beau XVIe siècle » \nUne exposition conçue par le Pays d’Art et d’Histoire de GrandAngoulême. Pour (re)découvrir une femme d’exception au coeur de la renaissance : reine et soeur de roi\, écrivaine\, femme politique\, diplomate et philosophe\, emblème de la Renaissance et de l’Angoumois… \nEntrée gratuite. Renseignements : 0607307133
URL:https://actu.grandangouleme.fr/evenement/exposition-dignac-marguerite-de-valois-20/
LOCATION:Salle des mariages\, DIGNAC\, 16410\, France
CATEGORIES:Dignac
ATTACH;FMTTYPE=image/jpeg:https://actu.grandangouleme.fr/wp-content/uploads/2022/02/FORMAT-ACTUS-Marguerite-de-Valois-1-EFvvAw.tmp_.jpg
ORGANIZER;CN="Mairie de Dignac":MAILTO:mairie@dignac.fr
END:VEVENT
END:VCALENDAR