BEGIN:VCALENDAR
VERSION:2.0
PRODID:-//L&#039;actu GrandAngoulême et ses 38 communes - ECPv6.15.20//NONSGML v1.0//EN
CALSCALE:GREGORIAN
METHOD:PUBLISH
X-WR-CALNAME:L&#039;actu GrandAngoulême et ses 38 communes
X-ORIGINAL-URL:https://actu.grandangouleme.fr
X-WR-CALDESC:Évènements pour L&#039;actu GrandAngoulême et ses 38 communes
REFRESH-INTERVAL;VALUE=DURATION:PT1H
X-Robots-Tag:noindex
X-PUBLISHED-TTL:PT1H
BEGIN:VTIMEZONE
TZID:Europe/Paris
BEGIN:DAYLIGHT
TZOFFSETFROM:+0100
TZOFFSETTO:+0200
TZNAME:CEST
DTSTART:20210328T010000
END:DAYLIGHT
BEGIN:STANDARD
TZOFFSETFROM:+0200
TZOFFSETTO:+0100
TZNAME:CET
DTSTART:20211031T010000
END:STANDARD
BEGIN:DAYLIGHT
TZOFFSETFROM:+0100
TZOFFSETTO:+0200
TZNAME:CEST
DTSTART:20220327T010000
END:DAYLIGHT
BEGIN:STANDARD
TZOFFSETFROM:+0200
TZOFFSETTO:+0100
TZNAME:CET
DTSTART:20221030T010000
END:STANDARD
BEGIN:DAYLIGHT
TZOFFSETFROM:+0100
TZOFFSETTO:+0200
TZNAME:CEST
DTSTART:20230326T010000
END:DAYLIGHT
BEGIN:STANDARD
TZOFFSETFROM:+0200
TZOFFSETTO:+0100
TZNAME:CET
DTSTART:20231029T010000
END:STANDARD
END:VTIMEZONE
BEGIN:VEVENT
DTSTART;TZID=Europe/Paris:20221122T183000
DTEND;TZID=Europe/Paris:20221122T200000
DTSTAMP:20260425T181641
CREATED:20221104T162033Z
LAST-MODIFIED:20221116T165057Z
UID:10000543-1669141800-1669147200@actu.grandangouleme.fr
SUMMARY:Conférence : Les tout-petits face aux écrans\, comment les protéger ?
DESCRIPTION:Conférence animée par le Docteur Anne-Lise DUCANDA\, médecin de PMI\, et experts sur la question des écrans. \nOrganisée par Le Colibri et le REAAP de La Couronne. \nGRATUIT – Réservation obligatoire au 05 45 67 17 00 
URL:https://actu.grandangouleme.fr/evenement/conference-les-tout-petits-face-aux-ecrans-comment-les-proteger/
LOCATION:Théâtre Les 2B\, 1\, Allée des Sports\, La Couronne\, 16400
CATEGORIES:La Couronne
ATTACH;FMTTYPE=image/jpeg:https://actu.grandangouleme.fr/wp-content/uploads/2022/11/Conference-Anne-Lise-DUCANDA-WxZOEl.tmp_.jpg
END:VEVENT
END:VCALENDAR