BEGIN:VCALENDAR
VERSION:2.0
PRODID:-//L&#039;actu GrandAngoulême et ses 38 communes - ECPv6.15.20//NONSGML v1.0//EN
CALSCALE:GREGORIAN
METHOD:PUBLISH
X-ORIGINAL-URL:https://actu.grandangouleme.fr
X-WR-CALDESC:Évènements pour L&#039;actu GrandAngoulême et ses 38 communes
REFRESH-INTERVAL;VALUE=DURATION:PT1H
X-Robots-Tag:noindex
X-PUBLISHED-TTL:PT1H
BEGIN:VTIMEZONE
TZID:Europe/Paris
BEGIN:DAYLIGHT
TZOFFSETFROM:+0100
TZOFFSETTO:+0200
TZNAME:CEST
DTSTART:20210328T010000
END:DAYLIGHT
BEGIN:STANDARD
TZOFFSETFROM:+0200
TZOFFSETTO:+0100
TZNAME:CET
DTSTART:20211031T010000
END:STANDARD
BEGIN:DAYLIGHT
TZOFFSETFROM:+0100
TZOFFSETTO:+0200
TZNAME:CEST
DTSTART:20220327T010000
END:DAYLIGHT
BEGIN:STANDARD
TZOFFSETFROM:+0200
TZOFFSETTO:+0100
TZNAME:CET
DTSTART:20221030T010000
END:STANDARD
BEGIN:DAYLIGHT
TZOFFSETFROM:+0100
TZOFFSETTO:+0200
TZNAME:CEST
DTSTART:20230326T010000
END:DAYLIGHT
BEGIN:STANDARD
TZOFFSETFROM:+0200
TZOFFSETTO:+0100
TZNAME:CET
DTSTART:20231029T010000
END:STANDARD
END:VTIMEZONE
BEGIN:VEVENT
DTSTART;TZID=Europe/Paris:20220617T193000
DTEND;TZID=Europe/Paris:20220617T210000
DTSTAMP:20260425T053812
CREATED:20220518T180535Z
LAST-MODIFIED:20220617T195106Z
UID:10000386-1655494200-1655499600@actu.grandangouleme.fr
SUMMARY:La fête de la danse
DESCRIPTION:Le Comité des fêtes et d’animations culturelles d’Angoulême organise\, le vendredi 17 juin 2022 à l’Espace Carat\, le gala des écoles de danse. \nInformations : 06 16 86 41 36
URL:https://actu.grandangouleme.fr/evenement/la-fete-de-la-danse/
LOCATION:Espace Carat\, 54 avenue Jean Mermoz\, L'ISLE D'ESPAGNAC\, 16340\, France
CATEGORIES:Angoulême,Danse,GrandAngoulême
ATTACH;FMTTYPE=image/jpeg:https://actu.grandangouleme.fr/wp-content/uploads/2022/05/FETE-DANSE-A4-2022-QFXQua.tmp_.jpg
END:VEVENT
END:VCALENDAR