BEGIN:VCALENDAR
VERSION:2.0
PRODID:-//L&#039;actu GrandAngoulême et ses 38 communes - ECPv6.15.20//NONSGML v1.0//EN
CALSCALE:GREGORIAN
METHOD:PUBLISH
X-ORIGINAL-URL:https://actu.grandangouleme.fr
X-WR-CALDESC:Évènements pour L&#039;actu GrandAngoulême et ses 38 communes
REFRESH-INTERVAL;VALUE=DURATION:PT1H
X-Robots-Tag:noindex
X-PUBLISHED-TTL:PT1H
BEGIN:VTIMEZONE
TZID:Europe/Paris
BEGIN:DAYLIGHT
TZOFFSETFROM:+0100
TZOFFSETTO:+0200
TZNAME:CEST
DTSTART:20220327T010000
END:DAYLIGHT
BEGIN:STANDARD
TZOFFSETFROM:+0200
TZOFFSETTO:+0100
TZNAME:CET
DTSTART:20221030T010000
END:STANDARD
BEGIN:DAYLIGHT
TZOFFSETFROM:+0100
TZOFFSETTO:+0200
TZNAME:CEST
DTSTART:20230326T010000
END:DAYLIGHT
BEGIN:STANDARD
TZOFFSETFROM:+0200
TZOFFSETTO:+0100
TZNAME:CET
DTSTART:20231029T010000
END:STANDARD
BEGIN:DAYLIGHT
TZOFFSETFROM:+0100
TZOFFSETTO:+0200
TZNAME:CEST
DTSTART:20240331T010000
END:DAYLIGHT
BEGIN:STANDARD
TZOFFSETFROM:+0200
TZOFFSETTO:+0100
TZNAME:CET
DTSTART:20241027T010000
END:STANDARD
END:VTIMEZONE
BEGIN:VEVENT
DTSTART;TZID=Europe/Paris:20230305T160000
DTEND;TZID=Europe/Paris:20230305T173000
DTSTAMP:20260425T060153
CREATED:20230203T175116Z
LAST-MODIFIED:20230305T200531Z
UID:10000612-1678032000-1678037400@actu.grandangouleme.fr
SUMMARY:Goûter Pestaculaire • ACSEF Freinésie • Espace Matisse
DESCRIPTION:Un goûter plein de spectacles à déguster en famille\, une fresque prequ’historique de l’histoire des déchets et quelques clowneries\, des sourires pour tous\, bien mérités par tous. Buffet goûter payant. Entrée libre.
URL:https://actu.grandangouleme.fr/evenement/gouter-pestaculaire-acsef-freinesie-espace-matisse/
LOCATION:Espace Henri Matisse\, 196 avenue du Général de Gaulle\, SOYAUX\, 16800\, France
CATEGORIES:Soyaux
ATTACH;FMTTYPE=image/jpeg:https://actu.grandangouleme.fr/wp-content/uploads/2023/02/Gouter-pestaculaire-272rnM.tmp_.jpg
ORGANIZER;CN="ACSEF Frein%C3%A9sie":MAILTO:freinesie@gmail.com
END:VEVENT
END:VCALENDAR