BEGIN:VCALENDAR
VERSION:2.0
PRODID:-//L&#039;actu GrandAngoulême et ses 38 communes - ECPv6.15.20//NONSGML v1.0//EN
CALSCALE:GREGORIAN
METHOD:PUBLISH
X-WR-CALNAME:L&#039;actu GrandAngoulême et ses 38 communes
X-ORIGINAL-URL:https://actu.grandangouleme.fr
X-WR-CALDESC:Évènements pour L&#039;actu GrandAngoulême et ses 38 communes
REFRESH-INTERVAL;VALUE=DURATION:PT1H
X-Robots-Tag:noindex
X-PUBLISHED-TTL:PT1H
BEGIN:VTIMEZONE
TZID:Europe/Paris
BEGIN:DAYLIGHT
TZOFFSETFROM:+0100
TZOFFSETTO:+0200
TZNAME:CEST
DTSTART:20210328T010000
END:DAYLIGHT
BEGIN:STANDARD
TZOFFSETFROM:+0200
TZOFFSETTO:+0100
TZNAME:CET
DTSTART:20211031T010000
END:STANDARD
BEGIN:DAYLIGHT
TZOFFSETFROM:+0100
TZOFFSETTO:+0200
TZNAME:CEST
DTSTART:20220327T010000
END:DAYLIGHT
BEGIN:STANDARD
TZOFFSETFROM:+0200
TZOFFSETTO:+0100
TZNAME:CET
DTSTART:20221030T010000
END:STANDARD
BEGIN:DAYLIGHT
TZOFFSETFROM:+0100
TZOFFSETTO:+0200
TZNAME:CEST
DTSTART:20230326T010000
END:DAYLIGHT
BEGIN:STANDARD
TZOFFSETFROM:+0200
TZOFFSETTO:+0100
TZNAME:CET
DTSTART:20231029T010000
END:STANDARD
END:VTIMEZONE
BEGIN:VEVENT
DTSTART;TZID=Europe/Paris:20221005T150000
DTEND;TZID=Europe/Paris:20221005T160000
DTSTAMP:20260425T153207
CREATED:20220927T225100Z
LAST-MODIFIED:20221005T230555Z
UID:10000501-1664982000-1664985600@actu.grandangouleme.fr
SUMMARY:SPECTACLE : « La diseuse » ARLEEN THIBAULT
DESCRIPTION:Tout droit arrivée du Québec\, Arleen nous livre des précieux moments entre contes traditionnels et contemporains\, des histoires qui défilent à coup de parole\, à coup de plaisir…\nDe quoi donner envie de déboucher la bouteille de nos rêves et de la laisser pétiller. Voilà un vrai dépaysement pour les neurones\, une occasion de charger son cœur de rythmes\, d’émotions et de fêtes. \nDans le cadre du Festival Au Fil du Conte. \nDès 8 ans. Gratuit \nEN PARTENARIAT AVEC le Service départemental de la lecture
URL:https://actu.grandangouleme.fr/evenement/spectacle-la-diseuse-arleen-thibault/
LOCATION:Théâtre Les 2B\, 1\, Allée des Sports\, La Couronne\, 16400
CATEGORIES:La Couronne
ATTACH;FMTTYPE=image/png:https://actu.grandangouleme.fr/wp-content/uploads/2022/09/Arleen-Thibaut-FC6ZqI.tmp_.png
END:VEVENT
END:VCALENDAR