BEGIN:VCALENDAR
VERSION:2.0
PRODID:-//L&#039;actu GrandAngoulême et ses 38 communes - ECPv6.15.20//NONSGML v1.0//EN
CALSCALE:GREGORIAN
METHOD:PUBLISH
X-WR-CALNAME:L&#039;actu GrandAngoulême et ses 38 communes
X-ORIGINAL-URL:https://actu.grandangouleme.fr
X-WR-CALDESC:Évènements pour L&#039;actu GrandAngoulême et ses 38 communes
REFRESH-INTERVAL;VALUE=DURATION:PT1H
X-Robots-Tag:noindex
X-PUBLISHED-TTL:PT1H
BEGIN:VTIMEZONE
TZID:Europe/Paris
BEGIN:DAYLIGHT
TZOFFSETFROM:+0100
TZOFFSETTO:+0200
TZNAME:CEST
DTSTART:20250330T010000
END:DAYLIGHT
BEGIN:STANDARD
TZOFFSETFROM:+0200
TZOFFSETTO:+0100
TZNAME:CET
DTSTART:20251026T010000
END:STANDARD
BEGIN:DAYLIGHT
TZOFFSETFROM:+0100
TZOFFSETTO:+0200
TZNAME:CEST
DTSTART:20260329T010000
END:DAYLIGHT
BEGIN:STANDARD
TZOFFSETFROM:+0200
TZOFFSETTO:+0100
TZNAME:CET
DTSTART:20261025T010000
END:STANDARD
BEGIN:DAYLIGHT
TZOFFSETFROM:+0100
TZOFFSETTO:+0200
TZNAME:CEST
DTSTART:20270328T010000
END:DAYLIGHT
BEGIN:STANDARD
TZOFFSETFROM:+0200
TZOFFSETTO:+0100
TZNAME:CET
DTSTART:20271031T010000
END:STANDARD
END:VTIMEZONE
BEGIN:VEVENT
DTSTART;TZID=Europe/Paris:20260204T181500
DTEND;TZID=Europe/Paris:20260204T193000
DTSTAMP:20260424T190649
CREATED:20260109T114449Z
LAST-MODIFIED:20260204T132037Z
UID:10001410-1770228900-1770233400@actu.grandangouleme.fr
SUMMARY:Les 3 nuits des orchestres à Carat – orchestres Ravel\, Gounod et Chabrier
DESCRIPTION:Trois orchestres sur scène : Ravel\, Gounod et Chabrier\nCette dernière soirée met en lumière le parcours progressif des élèves à travers les différents orchestres du conservatoire répartis selon les disciplines et les niveaux. \n·      Orchestre Emmanuel Chabrier (cordes – 2ᵉ cycle) \n·      Orchestre Maurice Ravel (petits cuivres & percussions – 1er cycle) \n·      Orchestre Charles Gounod (harmonie – 2ᵉ cycle) \nEntrée libre – sans réservation (dans la limite des places disponibles)
URL:https://actu.grandangouleme.fr/evenement/les-3-nuits-des-orchestres-a-carat-orchestres-ravel-gounod-et-chabrier/
LOCATION:Salle Rubis – Espace Carat\, 54 Av. Jean Mermoz\, 16340 L'Isle-d'Espagnac\, France
CATEGORIES:Concert d'orchestre,Conservatoire Gabriel Fauré
ATTACH;FMTTYPE=image/jpeg:https://actu.grandangouleme.fr/wp-content/uploads/2026/01/2512_Orchestre-fevrier-Carat_1920x1080_ECRAN-scaled-e1767793658898-sBDfHb.tmp_.jpg
ORGANIZER;CN="Conservatoire Gabriel Faur%C3%A9":MAILTO:conservatoire@grandangouleme.fr
END:VEVENT
BEGIN:VEVENT
DTSTART;TZID=Europe/Paris:20260203T203000
DTEND;TZID=Europe/Paris:20260203T220000
DTSTAMP:20260424T190649
CREATED:20260109T114448Z
LAST-MODIFIED:20260203T132053Z
UID:10001409-1770150600-1770156000@actu.grandangouleme.fr
SUMMARY:Les 3 nuits des orchestres à Carat – orchestre symphonique Fauré & orchestre Debussy
DESCRIPTION:Une soirée placée sous le signe de la transmission : les plus jeunes musiciens partagent la scène avec les élèves les plus avancés. \nL’orchestre Claude Debussy (cordes – 1er cycle) et l’orchestre Symphonique Gabriel Fauré (2ᵉ & 3ᵉ cycles) réunis sur scène pour un deuxième concert exceptionnel. \nEntrée libre – sans réservation (dans la limite des places disponibles)
URL:https://actu.grandangouleme.fr/evenement/les-3-nuits-des-orchestres-a-carat-orchestre-symphonique-faure-orchestre-debussy/
LOCATION:Salle Rubis – Espace Carat\, 54 Av. Jean Mermoz\, 16340 L'Isle-d'Espagnac\, France
CATEGORIES:Concert d'orchestre,Conservatoire Gabriel Fauré
ATTACH;FMTTYPE=image/jpeg:https://actu.grandangouleme.fr/wp-content/uploads/2026/01/2512_Orchestre-fevrier-Carat_1920x1080_ECRAN-scaled-e1767793658898-sBDfHb.tmp_.jpg
ORGANIZER;CN="Conservatoire Gabriel Faur%C3%A9":MAILTO:conservatoire@grandangouleme.fr
END:VEVENT
BEGIN:VEVENT
DTSTART;TZID=Europe/Paris:20260202T203000
DTEND;TZID=Europe/Paris:20260202T220000
DTSTAMP:20260424T190649
CREATED:20260109T114321Z
LAST-MODIFIED:20260202T132045Z
UID:10001408-1770064200-1770069600@actu.grandangouleme.fr
SUMMARY:Les 3 nuits des orchestres à Carat – Concert orchestre Berlioz & Harmonie d’Angoulême
DESCRIPTION:Cette année\, du 2 au 4 février 2026\, les orchestres du Conservatoire Gabriel Fauré investissent la scène de la salle Rubis à l’Espace Carat pour trois soirées exceptionnelles. Un rendez-vous musical unique permettant à tous d’accéder à un concert de grande qualité artistique\, gratuit et ouvert à tous. \nLa première soirée réunit un orchestre d’harmonie (cuivres\, bois\, percussions) transgénérationnel d’environ 70 musiciens\, associant l’Orchestre Berlioz du conservatoire et l’Harmonie d’Angoulême. \nPour préparer cette rencontre\, le chef Volkmar Dietrich\, venu spécialement d’Allemagne\, a dirigé deux sessions intensives de répétitions à l’automne puis lors du week-end du 31 janvier et 1er février. \nEntrée libre – sans réservation (dans la limite des places disponibles)
URL:https://actu.grandangouleme.fr/evenement/les-3-nuits-des-orchestres-a-carat-concert-orchestre-berlioz-harmonie-dangouleme/
LOCATION:Salle Rubis – Espace Carat\, 54 Av. Jean Mermoz\, 16340 L'Isle-d'Espagnac\, France
CATEGORIES:Concert d'orchestre,Conservatoire Gabriel Fauré
ATTACH;FMTTYPE=image/jpeg:https://actu.grandangouleme.fr/wp-content/uploads/2026/01/2512_Orchestre-fevrier-Carat_1920x1080_ECRAN-scaled-e1767793658898-sBDfHb.tmp_.jpg
ORGANIZER;CN="Conservatoire Gabriel Faur%C3%A9":MAILTO:conservatoire@grandangouleme.fr
END:VEVENT
END:VCALENDAR