BEGIN:VCALENDAR
VERSION:2.0
PRODID:-//L&#039;actu GrandAngoulême et ses 38 communes - ECPv6.15.20//NONSGML v1.0//EN
CALSCALE:GREGORIAN
METHOD:PUBLISH
X-ORIGINAL-URL:https://actu.grandangouleme.fr
X-WR-CALDESC:Évènements pour L&#039;actu GrandAngoulême et ses 38 communes
REFRESH-INTERVAL;VALUE=DURATION:PT1H
X-Robots-Tag:noindex
X-PUBLISHED-TTL:PT1H
BEGIN:VTIMEZONE
TZID:Europe/Paris
BEGIN:DAYLIGHT
TZOFFSETFROM:+0100
TZOFFSETTO:+0200
TZNAME:CEST
DTSTART:20250330T010000
END:DAYLIGHT
BEGIN:STANDARD
TZOFFSETFROM:+0200
TZOFFSETTO:+0100
TZNAME:CET
DTSTART:20251026T010000
END:STANDARD
BEGIN:DAYLIGHT
TZOFFSETFROM:+0100
TZOFFSETTO:+0200
TZNAME:CEST
DTSTART:20260329T010000
END:DAYLIGHT
BEGIN:STANDARD
TZOFFSETFROM:+0200
TZOFFSETTO:+0100
TZNAME:CET
DTSTART:20261025T010000
END:STANDARD
BEGIN:DAYLIGHT
TZOFFSETFROM:+0100
TZOFFSETTO:+0200
TZNAME:CEST
DTSTART:20270328T010000
END:DAYLIGHT
BEGIN:STANDARD
TZOFFSETFROM:+0200
TZOFFSETTO:+0100
TZNAME:CET
DTSTART:20271031T010000
END:STANDARD
END:VTIMEZONE
BEGIN:VEVENT
DTSTART;TZID=Europe/Paris:20260425T090000
DTEND;TZID=Europe/Paris:20260425T120000
DTSTAMP:20260420T185709
CREATED:20260418T045140Z
LAST-MODIFIED:20260420T045034Z
UID:10001534-1777107600-1777118400@actu.grandangouleme.fr
SUMMARY:Stand d’information SOLIHA Charente sur le marché
DESCRIPTION:L’équipe de SOLIHA Charente sera présente sur le marché pour vous accompagner dans vos projets de rénovation de l’habitat\, adaptation du logement (perte d’autonomie\, confort\, accessibilité…) : bénéficiez de conseils personnalisés et d’un accompagnement adapté à votre situation. \nSamedi 25 avril\nDe 9h à 12h\nMarché de La Couronne \nUn temps d’échange simple\, gratuit et ouvert à toutes et tous pour mieux comprendre les aides et dispositifs existants. \nUn service de proximité pour améliorer concrètement votre cadre de vie.
URL:https://actu.grandangouleme.fr/evenement/stand-dinformation-soliha-charente-sur-le-marche/
LOCATION:Marché de La Couronne\, Place du Champ de Foire\, La Couronne
CATEGORIES:La Couronne
ATTACH;FMTTYPE=image/jpeg:https://actu.grandangouleme.fr/wp-content/uploads/2026/04/Affiche-Stand-SOLIHA-marche-de-LA-COURONNE-7Kb35J.tmp_.jpg
END:VEVENT
END:VCALENDAR