BEGIN:VCALENDAR
VERSION:2.0
PRODID:-//L&#039;actu GrandAngoulême et ses 38 communes - ECPv6.15.20//NONSGML v1.0//EN
CALSCALE:GREGORIAN
METHOD:PUBLISH
X-WR-CALNAME:L&#039;actu GrandAngoulême et ses 38 communes
X-ORIGINAL-URL:https://actu.grandangouleme.fr
X-WR-CALDESC:Évènements pour L&#039;actu GrandAngoulême et ses 38 communes
REFRESH-INTERVAL;VALUE=DURATION:PT1H
X-Robots-Tag:noindex
X-PUBLISHED-TTL:PT1H
BEGIN:VTIMEZONE
TZID:Europe/Paris
BEGIN:DAYLIGHT
TZOFFSETFROM:+0100
TZOFFSETTO:+0200
TZNAME:CEST
DTSTART:20210328T010000
END:DAYLIGHT
BEGIN:STANDARD
TZOFFSETFROM:+0200
TZOFFSETTO:+0100
TZNAME:CET
DTSTART:20211031T010000
END:STANDARD
BEGIN:DAYLIGHT
TZOFFSETFROM:+0100
TZOFFSETTO:+0200
TZNAME:CEST
DTSTART:20220327T010000
END:DAYLIGHT
BEGIN:STANDARD
TZOFFSETFROM:+0200
TZOFFSETTO:+0100
TZNAME:CET
DTSTART:20221030T010000
END:STANDARD
BEGIN:DAYLIGHT
TZOFFSETFROM:+0100
TZOFFSETTO:+0200
TZNAME:CEST
DTSTART:20230326T010000
END:DAYLIGHT
BEGIN:STANDARD
TZOFFSETFROM:+0200
TZOFFSETTO:+0100
TZNAME:CET
DTSTART:20231029T010000
END:STANDARD
END:VTIMEZONE
BEGIN:VEVENT
DTSTART;TZID=Europe/Paris:20220615T143000
DTEND;TZID=Europe/Paris:20220615T163000
DTSTAMP:20260425T053123
CREATED:20220525T145208Z
LAST-MODIFIED:20220615T162040Z
UID:10000392-1655303400-1655310600@actu.grandangouleme.fr
SUMMARY:Concerts – Musique anciennes
DESCRIPTION:Deux concerts du département de musique ancienne dans le hall du musée d’Angoulême :\n14h30 – 15h30\n15h30 – 16h30 \nDirection : Yuka Saito\, Florence Monzani et Morgane Colin
URL:https://actu.grandangouleme.fr/evenement/concerts-musique-anciennes/
LOCATION:Hall du musée d’Angoulême\, Square Girard II\, rue Corneille\, Angoulême\, 16000
CATEGORIES:Concert,Conservatoire Gabriel Fauré
ATTACH;FMTTYPE=image/png:https://actu.grandangouleme.fr/wp-content/uploads/2022/05/vue-musee-MZcMeO.tmp_.png
ORGANIZER;CN="Conservatoire Gabriel Faur%C3%A9":MAILTO:conservatoire@grandangouleme.fr
END:VEVENT
END:VCALENDAR