BEGIN:VCALENDAR
VERSION:2.0
PRODID:-//L&#039;actu GrandAngoulême et ses 38 communes - ECPv6.15.20//NONSGML v1.0//EN
CALSCALE:GREGORIAN
METHOD:PUBLISH
X-WR-CALNAME:L&#039;actu GrandAngoulême et ses 38 communes
X-ORIGINAL-URL:https://actu.grandangouleme.fr
X-WR-CALDESC:Évènements pour L&#039;actu GrandAngoulême et ses 38 communes
REFRESH-INTERVAL;VALUE=DURATION:PT1H
X-Robots-Tag:noindex
X-PUBLISHED-TTL:PT1H
BEGIN:VTIMEZONE
TZID:Europe/Paris
BEGIN:DAYLIGHT
TZOFFSETFROM:+0100
TZOFFSETTO:+0200
TZNAME:CEST
DTSTART:20230326T010000
END:DAYLIGHT
BEGIN:STANDARD
TZOFFSETFROM:+0200
TZOFFSETTO:+0100
TZNAME:CET
DTSTART:20231029T010000
END:STANDARD
BEGIN:DAYLIGHT
TZOFFSETFROM:+0100
TZOFFSETTO:+0200
TZNAME:CEST
DTSTART:20240331T010000
END:DAYLIGHT
BEGIN:STANDARD
TZOFFSETFROM:+0200
TZOFFSETTO:+0100
TZNAME:CET
DTSTART:20241027T010000
END:STANDARD
BEGIN:DAYLIGHT
TZOFFSETFROM:+0100
TZOFFSETTO:+0200
TZNAME:CEST
DTSTART:20250330T010000
END:DAYLIGHT
BEGIN:STANDARD
TZOFFSETFROM:+0200
TZOFFSETTO:+0100
TZNAME:CET
DTSTART:20251026T010000
END:STANDARD
BEGIN:DAYLIGHT
TZOFFSETFROM:+0100
TZOFFSETTO:+0200
TZNAME:CEST
DTSTART:20260329T010000
END:DAYLIGHT
BEGIN:STANDARD
TZOFFSETFROM:+0200
TZOFFSETTO:+0100
TZNAME:CET
DTSTART:20261025T010000
END:STANDARD
BEGIN:DAYLIGHT
TZOFFSETFROM:+0100
TZOFFSETTO:+0200
TZNAME:CEST
DTSTART:20270328T010000
END:DAYLIGHT
BEGIN:STANDARD
TZOFFSETFROM:+0200
TZOFFSETTO:+0100
TZNAME:CET
DTSTART:20271031T010000
END:STANDARD
END:VTIMEZONE
BEGIN:VEVENT
DTSTART;TZID=Europe/Paris:20260110T203000
DTEND;TZID=Europe/Paris:20260110T220000
DTSTAMP:20260420T090515
CREATED:20251223T095348Z
LAST-MODIFIED:20260110T115217Z
UID:10001383-1768077000-1768082400@actu.grandangouleme.fr
SUMMARY:ANNULÉ – Concert de l’ensemble Epsilon
DESCRIPTION:Hors les murs\n\n	Pour des raisons indépendantes de notre volonté\, nous sommes contraints d’annuler le concert du groupe Epsilon le samedi 10 janvier à 20h30. Il sera reporté à une date ultérieure.  \n  \nDans le cadre du week-end de rencontre du réseau départemental Cuivres sur GrandAngoulême\, un concert de l’ensemble Epsilon se tiendra le samedi 10 janvier à l’espace Matisse de Soyaux. \nNé en 1986\, l’Ensemble Epsilon fêtera en 2026 ses 40 ans d’une exceptionnelle\, riche et intense carrière. \nSon répertoire éclectique englobe les styles les plus divers : baroque\, classique\, romantique et contemporain\, mais aussi jazz ou musique traditionnelle en restant sans cesse à la recherche de nouvelles rencontres et de nouvelles couleurs.
URL:https://actu.grandangouleme.fr/evenement/concert-de-lensemble-epsilon/
LOCATION:Espace Matisse – Soyaux\, 341 avenue du général de Gaulle\, Soyaux\, 16800
CATEGORIES:Concert,Conservatoire Gabriel Fauré
ATTACH;FMTTYPE=image/jpeg:https://actu.grandangouleme.fr/wp-content/uploads/2025/12/epsilon-e1763564494688-DSeUri.tmp_.jpg
ORGANIZER;CN="Conservatoire Gabriel Faur%C3%A9":MAILTO:conservatoire@grandangouleme.fr
END:VEVENT
BEGIN:VEVENT
DTSTART;TZID=Europe/Paris:20240620T183000
DTEND;TZID=Europe/Paris:20240620T200000
DTSTAMP:20260420T090515
CREATED:20240521T035101Z
LAST-MODIFIED:20240523T041217Z
UID:10000877-1718908200-1718913600@actu.grandangouleme.fr
SUMMARY:Concert des orchestres Poulenc\, Ravel et « l’Orchestre À l’École »
DESCRIPTION:Hors les murs\n\n	Orchestres Poulenc\, Ravel et « l’Orchestre À l’École » de l’école Jean Monet de Soyaux\nDirection : Camille Pizon\, Christelle Chazeau\, Clément Péchereau\, Fabien Cherrier et Vincent Léonard \n Entrée libre dans la limite des places disponibles.\n Pensez au co-voiturage : https://covoitmodalis.fr/
URL:https://actu.grandangouleme.fr/evenement/concert-des-orchestres-poulenc-ravel-et-lorchestre-a-lecole/
LOCATION:Espace Matisse – Soyaux\, 341 avenue du général de Gaulle\, Soyaux\, 16800
CATEGORIES:Conservatoire Gabriel Fauré
ATTACH;FMTTYPE=image/jpeg:https://actu.grandangouleme.fr/wp-content/uploads/2024/05/pratique-collective-jeRdCh.tmp_.jpg
ORGANIZER;CN="Conservatoire Gabriel Faur%C3%A9":MAILTO:conservatoire@grandangouleme.fr
END:VEVENT
END:VCALENDAR