BEGIN:VCALENDAR
VERSION:2.0
PRODID:-//L&#039;actu GrandAngoulême et ses 38 communes - ECPv6.15.20//NONSGML v1.0//EN
CALSCALE:GREGORIAN
METHOD:PUBLISH
X-ORIGINAL-URL:https://actu.grandangouleme.fr
X-WR-CALDESC:Évènements pour L&#039;actu GrandAngoulême et ses 38 communes
REFRESH-INTERVAL;VALUE=DURATION:PT1H
X-Robots-Tag:noindex
X-PUBLISHED-TTL:PT1H
BEGIN:VTIMEZONE
TZID:Europe/Paris
BEGIN:DAYLIGHT
TZOFFSETFROM:+0100
TZOFFSETTO:+0200
TZNAME:CEST
DTSTART:20210328T010000
END:DAYLIGHT
BEGIN:STANDARD
TZOFFSETFROM:+0200
TZOFFSETTO:+0100
TZNAME:CET
DTSTART:20211031T010000
END:STANDARD
BEGIN:DAYLIGHT
TZOFFSETFROM:+0100
TZOFFSETTO:+0200
TZNAME:CEST
DTSTART:20220327T010000
END:DAYLIGHT
BEGIN:STANDARD
TZOFFSETFROM:+0200
TZOFFSETTO:+0100
TZNAME:CET
DTSTART:20221030T010000
END:STANDARD
BEGIN:DAYLIGHT
TZOFFSETFROM:+0100
TZOFFSETTO:+0200
TZNAME:CEST
DTSTART:20230326T010000
END:DAYLIGHT
BEGIN:STANDARD
TZOFFSETFROM:+0200
TZOFFSETTO:+0100
TZNAME:CET
DTSTART:20231029T010000
END:STANDARD
END:VTIMEZONE
BEGIN:VEVENT
DTSTART;TZID=Europe/Paris:20221120T163000
DTEND;TZID=Europe/Paris:20221120T173000
DTSTAMP:20260425T203504
CREATED:20221021T215135Z
LAST-MODIFIED:20221115T225039Z
UID:10000537-1668961800-1668965400@actu.grandangouleme.fr
SUMMARY:Concert de l’ensemble des participants au projet « les cuivres anciens »
DESCRIPTION:Après avoir travaillé et partagé durant deux jours par groupe de niveau\, les élèves des conservatoires de la Charente – École départementale de la Charente (EDM)\, conservatoire de GrandCognac et conservatoire de GrandAngoulême – ainsi que les musiciens du Brass Band de Charente vous proposent ce concert\, aboutissement de ce projet pour l’ensemble des participants. \n 
URL:https://actu.grandangouleme.fr/evenement/concert-de-lensemble-des-participants-au-projet-les-cuivres-anciens/
LOCATION:Cathédrale Saint-Pierre – Angoulême\, 16000\, France
CATEGORIES:Concert,Conservatoire Gabriel Fauré
ATTACH;FMTTYPE=image/jpeg:https://actu.grandangouleme.fr/wp-content/uploads/2022/10/visuel-site-8v8quP.tmp_.jpg
ORGANIZER;CN="Conservatoire Gabriel Faur%C3%A9":MAILTO:conservatoire@grandangouleme.fr
END:VEVENT
BEGIN:VEVENT
DTSTART;TZID=Europe/Paris:20221119T193000
DTEND;TZID=Europe/Paris:20221119T210000
DTSTAMP:20260425T203504
CREATED:20221020T215121Z
LAST-MODIFIED:20221115T225039Z
UID:10000534-1668886200-1668891600@actu.grandangouleme.fr
SUMMARY:Concert « Mille regretz » – Musique au temps de Charles Quint
DESCRIPTION:Venez découvrir la musique du 16e et 17e siècles avec deux grands spécialistes des cuivres anciens\, Stefan Legée\, Jean-Pierre Canihac ainsi que les professeurs qui participent à ce projet : Judicäelle Giraudeau Bureau\, Lujza Markova\, Laurence Cherrier et Fabien Cherrier . \nCette évocation de la vie de Charles Quint est portée par\, \n\nStefan Legée\, concertiste international\, au trombone et à la saqueboute (ancêtre du trombone) collabore régulièrement avec les plus grands ensembles de musique ancienne. Il a fondé l’ensemble « Ventosum » axé sur la musique pour cuivres à la Renaissance. Il est professeur à la Haute École de Musique de Genève et au conservatoire de Saint-Maur des Fossés.\nJean-Pierre Canihac\, membre fondateur des « Sacqueboutiers de Toulouse« \, ancien professeur au CNSM de Lyon et au conservatoire de Toulouse.\nJudicäelle Giraudeau Bureau\, professeur à l’École départementale de la Charente\nLujza Markova\, Laurence Cherrier et Fabien Cherrier\, professeurs à  le Conservatoire de GrandAngoulême.
URL:https://actu.grandangouleme.fr/evenement/concert-mille-regretz-musique-au-temps-de-charles-quint/
LOCATION:Cathédrale Saint-Pierre – Angoulême\, 16000\, France
CATEGORIES:Concert,Conservatoire Gabriel Fauré
ATTACH;FMTTYPE=image/jpeg:https://actu.grandangouleme.fr/wp-content/uploads/2022/10/visuel-site-8v8quP.tmp_.jpg
ORGANIZER;CN="Conservatoire Gabriel Faur%C3%A9":MAILTO:conservatoire@grandangouleme.fr
END:VEVENT
END:VCALENDAR