BEGIN:VCALENDAR
VERSION:2.0
PRODID:-//L&#039;actu GrandAngoulême et ses 38 communes - ECPv6.15.20//NONSGML v1.0//EN
CALSCALE:GREGORIAN
METHOD:PUBLISH
X-ORIGINAL-URL:https://actu.grandangouleme.fr
X-WR-CALDESC:Évènements pour L&#039;actu GrandAngoulême et ses 38 communes
REFRESH-INTERVAL;VALUE=DURATION:PT1H
X-Robots-Tag:noindex
X-PUBLISHED-TTL:PT1H
BEGIN:VTIMEZONE
TZID:Europe/Paris
BEGIN:DAYLIGHT
TZOFFSETFROM:+0100
TZOFFSETTO:+0200
TZNAME:CEST
DTSTART:20210328T010000
END:DAYLIGHT
BEGIN:STANDARD
TZOFFSETFROM:+0200
TZOFFSETTO:+0100
TZNAME:CET
DTSTART:20211031T010000
END:STANDARD
BEGIN:DAYLIGHT
TZOFFSETFROM:+0100
TZOFFSETTO:+0200
TZNAME:CEST
DTSTART:20220327T010000
END:DAYLIGHT
BEGIN:STANDARD
TZOFFSETFROM:+0200
TZOFFSETTO:+0100
TZNAME:CET
DTSTART:20221030T010000
END:STANDARD
BEGIN:DAYLIGHT
TZOFFSETFROM:+0100
TZOFFSETTO:+0200
TZNAME:CEST
DTSTART:20230326T010000
END:DAYLIGHT
BEGIN:STANDARD
TZOFFSETFROM:+0200
TZOFFSETTO:+0100
TZNAME:CET
DTSTART:20231029T010000
END:STANDARD
END:VTIMEZONE
BEGIN:VEVENT
DTSTART;VALUE=DATE:20220916
DTEND;VALUE=DATE:20220919
DTSTAMP:20260425T210024
CREATED:20220819T145051Z
LAST-MODIFIED:20220916T163612Z
UID:10000480-1663286400-1663545599@actu.grandangouleme.fr
SUMMARY:Circuit des remparts
DESCRIPTION:Édition 2022 du Circuit des Remparts au travers de ses évènements : les courses\, les concours\, le rallye\, les animations\, et les expositions. \nVous trouverez ci-dessous des informations concernant la circulation et stationnement. \n➡️ Circuit des Remparts – Notes et informations \n➡️ Circulation Circuit des Remparts 2022 – Communiqué de Presse
URL:https://actu.grandangouleme.fr/evenement/circuit-des-remparts/
LOCATION:Angoulême\, Angoulême\, 16000
CATEGORIES:Angoulême,Circuit des Remparts,GrandAngoulême
ATTACH;FMTTYPE=image/jpeg:https://actu.grandangouleme.fr/wp-content/uploads/2022/08/circuit-remparts-pglJOI.tmp_.jpg
END:VEVENT
BEGIN:VEVENT
DTSTART;TZID=Europe/Paris:20220402T183000
DTEND;TZID=Europe/Paris:20220402T200000
DTSTAMP:20260425T210024
CREATED:20220321T162033Z
LAST-MODIFIED:20220402T165120Z
UID:10000340-1648924200-1648929600@actu.grandangouleme.fr
SUMMARY:Foulées d’Angoulême
DESCRIPTION:Les Schneider Electric Foulées d’Angoulême auront lieu le samedi 2 avril 2022. \nVous pourrez retrouver les Mini-foulées à partir de 14h30 au stade Léonide Lacroix à Saint-Cybard puis le 10km à label international à 18h30. \nLe départ aura lieu au stade Chanzy et l’arrivée au stade Léonide Lacroix à Saint-Cybard. Une caravane\, des pompom girls\, des groupes de musique et diverses animations seront au programme. \nInscriptions –> https://www.njuko.net/fouleesg2a/select_competition \nPlus d’infos
URL:https://actu.grandangouleme.fr/evenement/foulees-dangouleme/
LOCATION:Angoulême\, Angoulême\, 16000
CATEGORIES:Angoulême,Course à pied,GrandAngoulême
ATTACH;FMTTYPE=image/jpeg:https://actu.grandangouleme.fr/wp-content/uploads/2022/03/foulees2022-J0s55B.tmp_.jpg
END:VEVENT
BEGIN:VEVENT
DTSTART;VALUE=DATE:20220317
DTEND;VALUE=DATE:20220321
DTSTAMP:20260425T210024
CREATED:20220218T215054Z
LAST-MODIFIED:20220317T155059Z
UID:10000296-1647475200-1647820799@actu.grandangouleme.fr
SUMMARY:Festival International de la bande dessinée
DESCRIPTION:Le Festival d’Angoulême continue d’affirmer sa volonté d’accueillir et de promouvoir les bandes dessinées du monde entier – une démarche en résonance avec le lien fort tissé par notre pays avec ce médium. \nInfo riverain\, aménagement de la circulation
URL:https://actu.grandangouleme.fr/evenement/festival-international-de-la-bande-dessinee/
LOCATION:Angoulême\, Angoulême\, 16000
CATEGORIES:Angoulême,FIBD,GrandAngoulême
ATTACH;FMTTYPE=image/jpeg:https://actu.grandangouleme.fr/wp-content/uploads/2022/02/FIBD2022_AFFICHES_40x60cm-2-3-KI6Bmx.tmp_.jpg
ORGANIZER;CN="Festival International de la Bande Dessin%C3%A9e d&rsquo%3BAngoul%C3%AAme":MAILTO:info@bdangouleme.com
END:VEVENT
END:VCALENDAR