BEGIN:VCALENDAR
VERSION:2.0
PRODID:-//L&#039;actu GrandAngoulême et ses 38 communes - ECPv6.15.20//NONSGML v1.0//EN
CALSCALE:GREGORIAN
METHOD:PUBLISH
X-ORIGINAL-URL:https://actu.grandangouleme.fr
X-WR-CALDESC:Évènements pour L&#039;actu GrandAngoulême et ses 38 communes
REFRESH-INTERVAL;VALUE=DURATION:PT1H
X-Robots-Tag:noindex
X-PUBLISHED-TTL:PT1H
BEGIN:VTIMEZONE
TZID:Europe/Paris
BEGIN:DAYLIGHT
TZOFFSETFROM:+0100
TZOFFSETTO:+0200
TZNAME:CEST
DTSTART:20250330T010000
END:DAYLIGHT
BEGIN:STANDARD
TZOFFSETFROM:+0200
TZOFFSETTO:+0100
TZNAME:CET
DTSTART:20251026T010000
END:STANDARD
BEGIN:DAYLIGHT
TZOFFSETFROM:+0100
TZOFFSETTO:+0200
TZNAME:CEST
DTSTART:20260329T010000
END:DAYLIGHT
BEGIN:STANDARD
TZOFFSETFROM:+0200
TZOFFSETTO:+0100
TZNAME:CET
DTSTART:20261025T010000
END:STANDARD
BEGIN:DAYLIGHT
TZOFFSETFROM:+0100
TZOFFSETTO:+0200
TZNAME:CEST
DTSTART:20270328T010000
END:DAYLIGHT
BEGIN:STANDARD
TZOFFSETFROM:+0200
TZOFFSETTO:+0100
TZNAME:CET
DTSTART:20271031T010000
END:STANDARD
END:VTIMEZONE
BEGIN:VEVENT
DTSTART;TZID=Europe/Paris:20260308T090000
DTEND;TZID=Europe/Paris:20260308T180000
DTSTAMP:20260425T131044
CREATED:20260210T020558Z
LAST-MODIFIED:20260308T033528Z
UID:10001449-1772960400-1772992800@actu.grandangouleme.fr
SUMMARY:Bric-à-brac – La Coronellade
DESCRIPTION:Bric-à-brac – La Coronellade\nDimanche 8 mars – De 9h à 18h \nAllée des Sports\, La Couronne\nEntrée visiteur gratuite \nLa Coronellade organise un bric-à-brac ouvert au public toute la journée\, à l’allée des Sports. Une belle occasion de chiner\, vendre ou simplement flâner dans une ambiance conviviale. \nInformations exposants\n\n\nTarif : 2\,50 € le mètre \n\n\nPlacement sans réservation \n\n\nArrivée des exposants à partir de 6h00 \n\n\n🍴 Buvette et restauration sur place
URL:https://actu.grandangouleme.fr/evenement/bric-a-brac-la-coronellade-2/
LOCATION:Allée des Sports\, La Couronne\, 16400
CATEGORIES:La Couronne
ATTACH;FMTTYPE=image/jpeg:https://actu.grandangouleme.fr/wp-content/uploads/2026/02/BRIC-a-Brac-VF_compressed_page-0001-uVYv9L.tmp_.jpg
END:VEVENT
END:VCALENDAR