BEGIN:VCALENDAR
VERSION:2.0
PRODID:-//L&#039;actu GrandAngoulême et ses 38 communes - ECPv6.15.20//NONSGML v1.0//EN
CALSCALE:GREGORIAN
METHOD:PUBLISH
X-WR-CALNAME:L&#039;actu GrandAngoulême et ses 38 communes
X-ORIGINAL-URL:https://actu.grandangouleme.fr
X-WR-CALDESC:Évènements pour L&#039;actu GrandAngoulême et ses 38 communes
REFRESH-INTERVAL;VALUE=DURATION:PT1H
X-Robots-Tag:noindex
X-PUBLISHED-TTL:PT1H
BEGIN:VTIMEZONE
TZID:Europe/Paris
BEGIN:DAYLIGHT
TZOFFSETFROM:+0100
TZOFFSETTO:+0200
TZNAME:CEST
DTSTART:20250330T010000
END:DAYLIGHT
BEGIN:STANDARD
TZOFFSETFROM:+0200
TZOFFSETTO:+0100
TZNAME:CET
DTSTART:20251026T010000
END:STANDARD
BEGIN:DAYLIGHT
TZOFFSETFROM:+0100
TZOFFSETTO:+0200
TZNAME:CEST
DTSTART:20260329T010000
END:DAYLIGHT
BEGIN:STANDARD
TZOFFSETFROM:+0200
TZOFFSETTO:+0100
TZNAME:CET
DTSTART:20261025T010000
END:STANDARD
BEGIN:DAYLIGHT
TZOFFSETFROM:+0100
TZOFFSETTO:+0200
TZNAME:CEST
DTSTART:20270328T010000
END:DAYLIGHT
BEGIN:STANDARD
TZOFFSETFROM:+0200
TZOFFSETTO:+0100
TZNAME:CET
DTSTART:20271031T010000
END:STANDARD
END:VTIMEZONE
BEGIN:VEVENT
DTSTART;TZID=Europe/Paris:20260217T163000
DTEND;TZID=Europe/Paris:20260217T193000
DTSTAMP:20260420T185311
CREATED:20260118T005759Z
LAST-MODIFIED:20260217T052142Z
UID:10001419-1771345800-1771356600@actu.grandangouleme.fr
SUMMARY:Collecte de sang
DESCRIPTION:L’association des donneurs de sang vous donne rendez-vous pour une collecte de sang à la Maison des compagnons du devoir de 16h30 à 19h30 le mardi 17 février 2026.
URL:https://actu.grandangouleme.fr/evenement/collecte-de-sang-4/
LOCATION:2 Rue Gisèle Halimi 16400 La Couronne
CATEGORIES:La Couronne
ATTACH;FMTTYPE=image/jpeg:https://actu.grandangouleme.fr/wp-content/uploads/2026/01/rs_compagnons-du-devoir-KlsJn3.tmp_.jpg
END:VEVENT
BEGIN:VEVENT
DTSTART;VALUE=DATE:20260124
DTEND;VALUE=DATE:20260126
DTSTAMP:20260420T185311
CREATED:20260106T233628Z
LAST-MODIFIED:20260119T005108Z
UID:10001404-1769212800-1769385599@actu.grandangouleme.fr
SUMMARY:Journées portes ouvertes – Compagnons du Devoir
DESCRIPTION:Les Compagnons du Devoir vous ouvrent leurs portes à l’occasion de deux journées portes ouvertes les 24 et 25 janvier \nLieu : 2 rue Gisèle Halimi \n 
URL:https://actu.grandangouleme.fr/evenement/journees-portes-ouvertes-compagnons-du-devoir-2/
LOCATION:2 Rue Gisèle Halimi 16400 La Couronne
CATEGORIES:La Couronne
ATTACH;FMTTYPE=image/png:https://actu.grandangouleme.fr/wp-content/uploads/2026/01/1-JIYlhD.tmp_.png
END:VEVENT
BEGIN:VEVENT
DTSTART;VALUE=DATE:20260124
DTEND;VALUE=DATE:20260126
DTSTAMP:20260420T185311
CREATED:20251226T232123Z
LAST-MODIFIED:20260124T075140Z
UID:10001399-1769212800-1769385599@actu.grandangouleme.fr
SUMMARY:Les Compagnons du Devoir – Journées Portes Ouvertes
DESCRIPTION:Les Compagnons du Devoir – Journées Portes Ouvertes\nLes 24 et 25 janvier 2026 – Toute la journée – Maison des Compagnons du Devoir\, 2 Rue Gisèle Halimi\, 16400 La Couronne\nEntrée gratuite | Collégiens\, lycéens et tout public \nLes Compagnons du Devoir et du Tour de France vous invitent à découvrir leurs Journées Portes Ouvertes\, organisées autour du thème :\n« Se former à un métier concret et utile ». \nAu programme :\n\n\nDécouverte des métiers manuels et techniques\n(bâtiment\, aménagement\, industrie\, gastronomie\, etc.) \n\n\nPrésentation des parcours de formation\n(du CAP au bac professionnel\, jusqu’à la licence professionnelle et l’executive master) \n\n\nÉchanges avec les apprentis\, les formateurs et les compagnons \n\n\nInformation sur le Tour de France des Compagnons\, la mobilité en France et à l’international (programme Erasmus) \n\n\nChaque année\, les Compagnons du Devoir forment plus de 11 000 jeunes\, femmes et hommes\, dans près de 35 métiers\, au sein de centres de formation certifiés Qualiopi. \n \nInformations pratiques\nPlus d’informations sur www.compagnons-du-devoir.com
URL:https://actu.grandangouleme.fr/evenement/les-compagnons-du-devoir-journees-portes-ouvertes/
LOCATION:2 Rue Gisèle Halimi 16400 La Couronne
CATEGORIES:La Couronne
ATTACH;FMTTYPE=image/png:https://actu.grandangouleme.fr/wp-content/uploads/2025/12/COMPAGNONS-DU-DEVOIR-voF1k2.tmp_.png
END:VEVENT
END:VCALENDAR