BEGIN:VCALENDAR
VERSION:2.0
PRODID:-//L&#039;actu GrandAngoulême et ses 38 communes - ECPv6.15.20//NONSGML v1.0//EN
CALSCALE:GREGORIAN
METHOD:PUBLISH
X-WR-CALNAME:L&#039;actu GrandAngoulême et ses 38 communes
X-ORIGINAL-URL:https://actu.grandangouleme.fr
X-WR-CALDESC:Évènements pour L&#039;actu GrandAngoulême et ses 38 communes
REFRESH-INTERVAL;VALUE=DURATION:PT1H
X-Robots-Tag:noindex
X-PUBLISHED-TTL:PT1H
BEGIN:VTIMEZONE
TZID:Europe/Paris
BEGIN:DAYLIGHT
TZOFFSETFROM:+0100
TZOFFSETTO:+0200
TZNAME:CEST
DTSTART:20250330T010000
END:DAYLIGHT
BEGIN:STANDARD
TZOFFSETFROM:+0200
TZOFFSETTO:+0100
TZNAME:CET
DTSTART:20251026T010000
END:STANDARD
BEGIN:DAYLIGHT
TZOFFSETFROM:+0100
TZOFFSETTO:+0200
TZNAME:CEST
DTSTART:20260329T010000
END:DAYLIGHT
BEGIN:STANDARD
TZOFFSETFROM:+0200
TZOFFSETTO:+0100
TZNAME:CET
DTSTART:20261025T010000
END:STANDARD
BEGIN:DAYLIGHT
TZOFFSETFROM:+0100
TZOFFSETTO:+0200
TZNAME:CEST
DTSTART:20270328T010000
END:DAYLIGHT
BEGIN:STANDARD
TZOFFSETFROM:+0200
TZOFFSETTO:+0100
TZNAME:CET
DTSTART:20271031T010000
END:STANDARD
END:VTIMEZONE
BEGIN:VEVENT
DTSTART;VALUE=DATE:20260429
DTEND;VALUE=DATE:20260512
DTSTAMP:20260425T142218
CREATED:20260411T043649Z
LAST-MODIFIED:20260425T052139Z
UID:10001532-1777420800-1778543999@actu.grandangouleme.fr
SUMMARY:Observons les oiseaux – Exposition
DESCRIPTION:Observons les oiseaux\nExposition\nDu 29 avril au 11 juin\nMédiathèque \nDans le cadre du Festival Graines de Mômes\, la Médiathèque vous invite à découvrir l’exposition Observons les oiseaux\, une expérience immersive mêlant panneaux\, réalité augmentée et supports pédagogiques. \nEn vous plongeant dans cet univers\, vous deviendrez un·e ornithologue en herbe et explorerez les multiples relations qu’entretiennent les humains et les oiseaux depuis des générations\, à travers la littérature\, la musique et l’environnement. \nUne exposition ludique et instructive\, qui invite petit·es et grand·es à observer\, comprendre et s’émerveiller devant le monde des oiseaux et la richesse de leurs liens avec l’humain.
URL:https://actu.grandangouleme.fr/evenement/observons-les-oiseaux-exposition/
LOCATION:La Tréfilerie\, 1 allée des Sports\, La Couronne\, 16400\, France
CATEGORIES:La Couronne
ATTACH;FMTTYPE=image/png:https://actu.grandangouleme.fr/wp-content/uploads/2026/04/VALIDE-Observons-les-oiseaux-Exposition-6QYqkU.tmp_.png
END:VEVENT
BEGIN:VEVENT
DTSTART;TZID=Europe/Paris:20260430T093000
DTEND;TZID=Europe/Paris:20260430T113000
DTSTAMP:20260425T142218
CREATED:20260331T042135Z
LAST-MODIFIED:20260425T052140Z
UID:10001522-1777541400-1777548600@actu.grandangouleme.fr
SUMMARY:Ma santé au quotidien – Le Colibri – CSCS La Couronne
DESCRIPTION:Ma santé au quotidien – Le Colibri – CSCS La Couronne\nDate : Jeudi 30 avril 2026\nHoraires : De 9h30 à 11h30\nLieu : Colibri – La Coloc’ \n 
URL:https://actu.grandangouleme.fr/evenement/ma-sante-au-quotidien-le-colibri-cscs-la-couronne-5/
LOCATION:Le Colibri CSCS\, 1 Allée des Sports\, La Couronne\, France
CATEGORIES:La Couronne
ATTACH;FMTTYPE=image/jpeg:https://actu.grandangouleme.fr/wp-content/uploads/2021/12/photo-par-defaut2-scaled.jpg
END:VEVENT
BEGIN:VEVENT
DTSTART;TZID=Europe/Paris:20260430T183000
DTEND;TZID=Europe/Paris:20260430T200000
DTSTAMP:20260425T142218
CREATED:20260331T155105Z
LAST-MODIFIED:20260424T163606Z
UID:10001523-1777573800-1777579200@actu.grandangouleme.fr
SUMMARY:Audition Patchwork
DESCRIPTION:Audition de classe\n\n	Audition Patchwork (plusieurs disciplines représentées) \n Entrée libre dans la limite des places disponibles.
URL:https://actu.grandangouleme.fr/evenement/audition-patchwork-14/
LOCATION:Auditorium – Conservatoire\, place Henri Dunant\, Angoulême\, 16000\, France
CATEGORIES:Audition,Conservatoire Gabriel Fauré
ATTACH;FMTTYPE=image/jpeg:https://actu.grandangouleme.fr/wp-content/uploads/2025/05/Audition-Patchwork-1-Cd9teg.tmp_.jpg
ORGANIZER;CN="Conservatoire Gabriel Faur%C3%A9":MAILTO:conservatoire@grandangouleme.fr
END:VEVENT
BEGIN:VEVENT
DTSTART;TZID=Europe/Paris:20260501T110000
DTEND;TZID=Europe/Paris:20260501T120000
DTSTAMP:20260425T142218
CREATED:20260401T042244Z
LAST-MODIFIED:20260425T052140Z
UID:10001525-1777633200-1777636800@actu.grandangouleme.fr
SUMMARY:
DESCRIPTION:Verre de l’amitié du 1er mai\nLe jeudi 1er mai à 11h\nEHPAD La Citadelle – 1 rue du Stade\, La Couronne \nOrganisé par l’EHPAD La Citadelle de La Couronne\, ce moment convivial est l’occasion de se retrouver autour d’un verre de l’amitié et de partager le traditionnel grillon charentais. \nUn temps de rencontre ouvert à toutes et tous\, pour célébrer ensemble le 1er mai dans une ambiance chaleureuse.
URL:https://actu.grandangouleme.fr/evenement/31719/
LOCATION:EHPAD La Citadelle\, 1 rue du Stade \, La Couronne\, 16400\, France
CATEGORIES:La Couronne
ATTACH;FMTTYPE=image/png:https://actu.grandangouleme.fr/wp-content/uploads/2026/04/affiche-1er-mai-W9GgwB.tmp_.png
END:VEVENT
BEGIN:VEVENT
DTSTART;TZID=Europe/Paris:20260502T190000
DTEND;TZID=Europe/Paris:20260503T010000
DTSTAMP:20260425T142218
CREATED:20260403T143535Z
LAST-MODIFIED:20260424T155034Z
UID:10001528-1777748400-1777770000@actu.grandangouleme.fr
SUMMARY:La Boum des années 80 // 2 mai 2026
DESCRIPTION:Venez danser et chanter sur les 𝘁𝘂𝗯𝗲𝘀 𝗱𝗲𝘀 𝗮𝗻𝗻𝗲́𝗲𝘀 𝟴𝟬 tous styles confondus ( Pop\, funk\, soleil\, hit français populaires\, zouk \, Disco\, slow … )\nDe la Nostalgie \, des émotions et surtout une superbe ambiance  !\nLors de cette soirée \, replongez exclusivement dans la vrai 𝗮𝗺𝗯𝗶𝗮𝗻𝗰𝗲 𝗱𝗲𝘀 𝗮𝗻𝗻𝗲́𝗲𝘀 𝟴𝟬 ! \n\n\n\n\n\n▶︎ 𝗗𝗿𝗲𝘀𝘀 𝗰𝗼𝗱𝗲\nAnnées 80 \, Disco \, kitch ou juste décontracté !\n\n\n▶︎ Ouverture des portes dès 19H00  ( jusqu’à 1H du matin )\nAlors ? prêt pour une nouvelle soirée de folie  ?\n\nRéserver vos billets\n\nhttps://evenements.waxmusic.fr/la-boum-des-annees-80-angouleme-samedi-02-mai-2026-espace-carat
URL:https://actu.grandangouleme.fr/evenement/la-boum-des-annees-80-2-mai-2026/
LOCATION:Espace Carat\, 54 avenue Jean Mermoz\, L'ISLE D'ESPAGNAC\, 16340\, France
CATEGORIES:Espace Carat,Soirée dansante
ATTACH;FMTTYPE=image/jpeg:https://actu.grandangouleme.fr/wp-content/uploads/2026/04/LA-BOUM-DES-ANNEES-80-ESPACE-CARAT-2-FgiUyf.tmp_.jpg
END:VEVENT
BEGIN:VEVENT
DTSTART;TZID=Europe/Paris:20260502T203000
DTEND;TZID=Europe/Paris:20260502T233000
DTSTAMP:20260425T142218
CREATED:20260422T050544Z
LAST-MODIFIED:20260425T052140Z
UID:10001537-1777753800-1777764600@actu.grandangouleme.fr
SUMMARY:Les Contes Dénaturés
DESCRIPTION:Les Contes Dénaturés \nUne soirée pleine d’imagination avec ‌Les Dénaturés\, troupe de théâtre d’improvisation\, en complicité avec Michel Babillot\, pour revisiter les contes… à leur façon ! \nSamedi 2 mai\n20h30\nThéâtre de La Tréfilerie \nEntrée : 8€\, 5€ pour les -16 ans \nBuvette sur place
URL:https://actu.grandangouleme.fr/evenement/les-contes-denatures/
CATEGORIES:La Couronne
ATTACH;FMTTYPE=image/jpeg:https://actu.grandangouleme.fr/wp-content/uploads/2026/04/contes-denatures-2-scaled-djr5Y1.tmp_.jpg
END:VEVENT
BEGIN:VEVENT
DTSTART;TZID=Europe/Paris:20260506T100000
DTEND;TZID=Europe/Paris:20260506T103000
DTSTAMP:20260425T142218
CREATED:20260406T042106Z
LAST-MODIFIED:20260425T052145Z
UID:10001529-1778061600-1778063400@actu.grandangouleme.fr
SUMMARY:Ma carapace se carapate ! – Par la Cie La Naine Rouge – Festival Petites oreilles en goguette
DESCRIPTION:Ma carapace se carapate ! – Par la Cie La Naine Rouge\nMercredi 6 mai – 10h\nThéâtre de La Tréfilerie \nDans le cadre du festival Petites oreilles en goguette porté par GrandAngoulême\nDe 0 à 5 ans – Gratuit – Sur inscription 05 45 67 29 67 ou mediatheque@lacouronne.fr \nMa Carapace se carapate ! est un spectacle pour très jeune public qui aborde la question de la différence et la place de chacun dans une société. \nPartie 1: Le spectacle \nLes enfants et les accompagnant.e.s plongent avec les comédien.ne.s dans l’eau pour un doux moment sous fond de mer azur et de sable chaud.  \nCe spectacle de marionnettes tricotées conte l’histoire d’une toute jeune tortue qui perd sa carapace le jour de sa première sortie sur la plage. Pour être acceptée par les autres tortues\, elle cherchera à tout prix à en trouver une nouvelle. Elle apprendra dans son périple qu’elle n’est pas obligée de ressembler aux autres pour s’accepter et se faire accepter par l’autre. Ce spectacle est presque entièrement muet\, excepté quelques petites comptines accompagnées au ukulélé ou signées en langue des signes française. \nPartie 2 : L’exploration des fonds marins \nAprès le spectacle\, c’est le moment de patauger et de nager sur le tapis océan en feutrine. Les comédien.ne.s partagent l’espace du spectacle avec les petit.e.s spectateur.rices en herbe qui pourront explorer\, toucher les marionnettes\, interagir avec les personnages\, réentendre le son du ukulélé et surtout partager un moment avec les artistes mais aussi les accompagnant.e.s ! À l’aide de petits animaux maracas sortis pour l’occasion\, les petit.e.s partiront à la découverte du son et des différents rythmes.  \n\nExtrait du spectacle \n\n\n 
URL:https://actu.grandangouleme.fr/evenement/ma-carapace-se-carapate-par-la-cie-la-naine-rouge-festival-petites-oreilles-en-goguette/
CATEGORIES:La Couronne
ATTACH;FMTTYPE=image/png:https://actu.grandangouleme.fr/wp-content/uploads/2026/04/VALIDE-Ma-carapace-se-carapate-bscaqy.tmp_.png
END:VEVENT
BEGIN:VEVENT
DTSTART;TZID=Europe/Paris:20260507T193000
DTEND;TZID=Europe/Paris:20260507T210000
DTSTAMP:20260425T142218
CREATED:20260408T042059Z
LAST-MODIFIED:20260425T052145Z
UID:10001530-1778182200-1778187600@actu.grandangouleme.fr
SUMMARY:Le Méchant\, Très Méchant Roi et la Tour d’Ivoire en Plastique – Par Tiou
DESCRIPTION:Le Méchant\, Très Méchant Roi et la Tour d’Ivoire en Plastique – Par Tiou\nJeudi 7 mai – 19h30\nThéâtre de La Tréfilerie\nSpectacle musical illustré\nÀ partir de 6 ans – Tarifs Tréfilerie – Sur réservation \n  \nElliot\, un garçon timide et rêveur\, rencontre un mystérieux pianiste qui le plonge dans une ville\nfuturiste où la musique est interdite par un méchant\, très méchant roi. \n\nAvec l’aide d’un groupe d’enfants marginaux vivant dans les égouts de la ville\, ils lancent une rébellion musicale pour retrouver la créativité et la liberté dans cette société de consommation asservie par la technologie. \n\nParviendront-ils à se débarrasser de cette tour d’ivoire en plastique\, d’où le roi tyrannique contrôle et espionne ses citoyen·nes ? \n  \nTout public – Tarifs 8€ / 5€ / 4€ TR. – Théâtre de La Tréfilerie – 1 allée des Sports\, La Couronne – Réservations sur la billetterie \nRéservez votre place dès maintenant en cliquant ici : Le Méchant\, Très Méchant Roi et la Tour d’Ivoire en Plastique – Tiou \n 
URL:https://actu.grandangouleme.fr/evenement/le-mechant-tres-mechant-roi-et-la-tour-divoire-en-plastique-par-tiou/
LOCATION:La Tréfilerie\, 1 allée des Sports\, La Couronne\, 16400\, France
CATEGORIES:La Couronne
ATTACH;FMTTYPE=image/png:https://actu.grandangouleme.fr/wp-content/uploads/2026/04/VALIDE-Le-Mechant-tres-Mechant-Roi-et-la-Tour-dIvoire-en-Plastique-A4-0h9OEp.tmp_.png
END:VEVENT
BEGIN:VEVENT
DTSTART;TZID=Europe/Paris:20260508T103000
DTEND;TZID=Europe/Paris:20260508T113000
DTSTAMP:20260425T142218
CREATED:20260425T052145Z
LAST-MODIFIED:20260425T052145Z
UID:10001543-1778236200-1778239800@actu.grandangouleme.fr
SUMMARY:81e anniversaire de la Victoire du 8 Mai 1945
DESCRIPTION:Jean-François DAURÉ\, Maire de La Couronne et son équipe municipale ont l’honneur de vous inviter à la commémoration du 81ᵉ anniversaire de la Victoire du 8 mai 1945\n \nVendredi 8 mai 2026 à 10h30\n \nRassemblement à 10h15 au Monument aux Morts – Place de l’Hôtel de Ville
URL:https://actu.grandangouleme.fr/evenement/81e-anniversaire-de-la-victoire-du-8-mai-1945/
CATEGORIES:La Couronne
ATTACH;FMTTYPE=image/png:https://actu.grandangouleme.fr/wp-content/uploads/2026/04/Invitation-Commemoration-8-mai-2026-scaled-2nCslu.tmp_.png
END:VEVENT
BEGIN:VEVENT
DTSTART;TZID=Europe/Paris:20260509T143000
DTEND;TZID=Europe/Paris:20260509T153000
DTSTAMP:20260425T142218
CREATED:20260422T162045Z
LAST-MODIFIED:20260424T163606Z
UID:10001538-1778337000-1778340600@actu.grandangouleme.fr
SUMMARY:Audition de basson
DESCRIPTION:Audition de basson de la classe de F. Leblois \nGratuit. Dans la limite des places disponibles.
URL:https://actu.grandangouleme.fr/evenement/audition-de-basson-2/
LOCATION:Auditorium de L’Alpha – Angoulême\, Angoulême
CATEGORIES:Audition,Conservatoire Gabriel Fauré
ATTACH;FMTTYPE=image/jpeg:https://actu.grandangouleme.fr/wp-content/uploads/2025/05/audition-classe-mNI0F7.tmp_.jpg
ORGANIZER;CN="Conservatoire Gabriel Faur%C3%A9":MAILTO:conservatoire@grandangouleme.fr
END:VEVENT
BEGIN:VEVENT
DTSTART;TZID=Europe/Paris:20260513T103000
DTEND;TZID=Europe/Paris:20260513T113000
DTSTAMP:20260425T142219
CREATED:20260413T043655Z
LAST-MODIFIED:20260425T052154Z
UID:10001533-1778668200-1778671800@actu.grandangouleme.fr
SUMMARY:La magie d’Aliyah – Par la Cie MANUA – Sortie de résidence
DESCRIPTION:La magie d’Aliyah – Par la Cie MANUA – Sortie de résidence\nDate : Mercredi 13 mai – 10h30\nLieu : La Tréfilerie\nSur réservation \nLa Tréfilerie vous invite à la sortie de résidence de la Cie MANUA\, avec La magie d’Aliyah. \nPour ses 10 ans\, Lola reçoit un cadeau pas tout à fait comme les autres … \nCe qui devait être une simple fête d’anniversaire\, se transforme rapidement en une aventure incroyable. Entre rêves\, chansons et surprises inattendues\, les souhaits de Lola prennent une dimension qu’elle n’aurait jamais imaginé. Et lorsque l’imaginaire commence à devenir réalité … Tout devient possible. \nUn spectacle interactif\, drôle et féerique\, qui embarque petits et grands dans un anniversaire vraiment pas comme les autres. \nRéservez votre place dès maintenant en cliquant ici : La magie d’Aliyah – Par la Cie MANUA – Sortie de résidence
URL:https://actu.grandangouleme.fr/evenement/la-magie-daliyah-par-la-cie-manua-sortie-de-residence/
LOCATION:La Tréfilerie\, 1 allée des Sports\, La Couronne\, 16400\, France
CATEGORIES:La Couronne
ATTACH;FMTTYPE=image/png:https://actu.grandangouleme.fr/wp-content/uploads/2026/04/VALIDE-La-magie-dAliyah-9IVX4B.tmp_.png
END:VEVENT
BEGIN:VEVENT
DTSTART;TZID=Europe/Paris:20260516T100000
DTEND;TZID=Europe/Paris:20260517T190000
DTSTAMP:20260425T142219
CREATED:20240421T200527Z
LAST-MODIFIED:20260424T155035Z
UID:10000829-1778925600-1779044400@actu.grandangouleme.fr
SUMMARY:Salon Auto Sport Collection & Prestige // 16 – 17 mai 2026
DESCRIPTION:Programme 2026
URL:https://actu.grandangouleme.fr/evenement/salon-auto-sport-collection-prestige-18-19-mai-2024/
LOCATION:Espace Carat\, 54 avenue Jean Mermoz\, L'ISLE D'ESPAGNAC\, 16340\, France
CATEGORIES:Espace Carat,Salon
ATTACH;FMTTYPE=image/jpeg:https://actu.grandangouleme.fr/wp-content/uploads/2026/04/ascpo-26-WiCciz.tmp_.jpg
END:VEVENT
BEGIN:VEVENT
DTSTART;TZID=Europe/Paris:20260521T093000
DTEND;TZID=Europe/Paris:20260521T113000
DTSTAMP:20260425T142219
CREATED:20260421T045118Z
LAST-MODIFIED:20260425T052154Z
UID:10001535-1779355800-1779363000@actu.grandangouleme.fr
SUMMARY:Ma santé au quotidien – Le Colibri – CSCS La Couronne
DESCRIPTION:Ma santé au quotidien – Le Colibri – CSCS La Couronne\nDate : Jeudi 21 mai 2026\nHoraires : De 9h30 à 11h30\nLieu : Colibri – La Coloc’ \n 
URL:https://actu.grandangouleme.fr/evenement/ma-sante-au-quotidien-le-colibri-cscs-la-couronne-6/
LOCATION:Le Colibri CSCS\, 1 Allée des Sports\, La Couronne\, France
CATEGORIES:La Couronne
ATTACH;FMTTYPE=image/jpeg:https://actu.grandangouleme.fr/wp-content/uploads/2021/12/photo-par-defaut2-scaled.jpg
END:VEVENT
BEGIN:VEVENT
DTSTART;TZID=Europe/Paris:20260521T150000
DTEND;TZID=Europe/Paris:20260521T173000
DTSTAMP:20260425T142219
CREATED:20260421T045139Z
LAST-MODIFIED:20260425T052159Z
UID:10001536-1779375600-1779384600@actu.grandangouleme.fr
SUMMARY:Fil ton projet
DESCRIPTION: Rendez-vous le jeudi 21 mai 2025 de 15h à 17h30 à la médiathèque. \nApportez votre matériel • Tout public • Gratuit \nVenez pratiquer le crochet\, le point de croix\, le tricot ou tout autre art du fil de votre choix ! Un moment privilégié pour échanger des astuces\, des savoirs ou tout simplement pour apprendre. \nLa médiathèque vous offre le café !
URL:https://actu.grandangouleme.fr/evenement/fil-ton-projet-9/
LOCATION:La Tréfilerie\, 1 allée des Sports\, La Couronne\, 16400\, France
CATEGORIES:La Couronne
ATTACH;FMTTYPE=image/png:https://actu.grandangouleme.fr/wp-content/uploads/2026/04/Fil-ton-projet-9-VP3epE.tmp_.png
END:VEVENT
BEGIN:VEVENT
DTSTART;TZID=Europe/Paris:20260523T100000
DTEND;TZID=Europe/Paris:20260523T120000
DTSTAMP:20260425T142219
CREATED:20260423T050545Z
LAST-MODIFIED:20260425T052159Z
UID:10001539-1779530400-1779537600@actu.grandangouleme.fr
SUMMARY:Atelier création arbre pop-up
DESCRIPTION:Atelier création arbre pop-up\nSamedi 23 mai – 10h\nThéâtre de La Tréfilerie \nAtelier de création d’un arbre pop-up avec Gilles Freluche\, dans le cadre du Festival Graines de Mômes.
URL:https://actu.grandangouleme.fr/evenement/atelier-creation-arbre-pop-up/
LOCATION:La Tréfilerie\, 1 allée des Sports\, La Couronne\, 16400\, France
CATEGORIES:La Couronne
ATTACH;FMTTYPE=image/png:https://actu.grandangouleme.fr/wp-content/uploads/2026/04/VALIDE-Atelier-creation-arbre-pop-up-A4-cFWFy6.tmp_.png
END:VEVENT
BEGIN:VEVENT
DTSTART;TZID=Europe/Paris:20260523T110000
DTEND;TZID=Europe/Paris:20260523T120000
DTSTAMP:20260425T142219
CREATED:20260423T163551Z
LAST-MODIFIED:20260424T163607Z
UID:10001541-1779534000-1779537600@actu.grandangouleme.fr
SUMMARY:Audition de hautbois
DESCRIPTION:Audition de hautbois de la classe de J. Martin. \nGratuit. Dans la limite des places disponibles.
URL:https://actu.grandangouleme.fr/evenement/audition-de-hautbois/
LOCATION:Amphi Brassens – Conservatoire\, place Henri Dunant\, Angoulême\, 16000\, France
CATEGORIES:Audition,Conservatoire Gabriel Fauré
ATTACH;FMTTYPE=image/jpeg:https://actu.grandangouleme.fr/wp-content/uploads/2025/05/audition-classe-mNI0F7.tmp_.jpg
END:VEVENT
BEGIN:VEVENT
DTSTART;TZID=Europe/Paris:20260523T110000
DTEND;TZID=Europe/Paris:20260523T120000
DTSTAMP:20260425T142219
CREATED:20260423T163558Z
LAST-MODIFIED:20260424T163618Z
UID:10001542-1779534000-1779537600@actu.grandangouleme.fr
SUMMARY:Audition de guitare
DESCRIPTION:Audition de guitare de la classe d’A. Moufflet \nGratuit. Dans la limite des places disponibles.
URL:https://actu.grandangouleme.fr/evenement/audition-de-guitare-2/
LOCATION:Auditorium de L’Alpha – Angoulême\, Angoulême
CATEGORIES:Audition,Conservatoire Gabriel Fauré
ATTACH;FMTTYPE=image/jpeg:https://actu.grandangouleme.fr/wp-content/uploads/2025/05/audition-classe-mNI0F7.tmp_.jpg
ORGANIZER;CN="Conservatoire Gabriel Faur%C3%A9":MAILTO:conservatoire@grandangouleme.fr
END:VEVENT
BEGIN:VEVENT
DTSTART;TZID=Europe/Paris:20260523T113000
DTEND;TZID=Europe/Paris:20260523T123000
DTSTAMP:20260425T142219
CREATED:20260423T050558Z
LAST-MODIFIED:20260425T052200Z
UID:10001540-1779535800-1779539400@actu.grandangouleme.fr
SUMMARY:Atelier cyanotype
DESCRIPTION:Atelier cyanotype\nDates : Samedi 23 mai 2026\nHoraire : 11h30\nLieu : Théâtre de La Tréfilerie – La Couronne \nAtelier cyanotype avec Gilles Freluche\, dans le cadre du Festival Graines de Mômes.
URL:https://actu.grandangouleme.fr/evenement/atelier-cyanotype/
LOCATION:La Tréfilerie\, 1 allée des Sports\, La Couronne\, 16400\, France
CATEGORIES:La Couronne
ATTACH;FMTTYPE=image/png:https://actu.grandangouleme.fr/wp-content/uploads/2026/04/VALIDE-Atelier-cyanotype-A4-Mrpw55.tmp_.png
END:VEVENT
END:VCALENDAR