BEGIN:VCALENDAR
VERSION:2.0
PRODID:-//L&#039;actu GrandAngoulême et ses 38 communes - ECPv6.15.20//NONSGML v1.0//EN
CALSCALE:GREGORIAN
METHOD:PUBLISH
X-ORIGINAL-URL:https://actu.grandangouleme.fr
X-WR-CALDESC:Évènements pour L&#039;actu GrandAngoulême et ses 38 communes
REFRESH-INTERVAL;VALUE=DURATION:PT1H
X-Robots-Tag:noindex
X-PUBLISHED-TTL:PT1H
BEGIN:VTIMEZONE
TZID:Europe/Paris
BEGIN:DAYLIGHT
TZOFFSETFROM:+0100
TZOFFSETTO:+0200
TZNAME:CEST
DTSTART:20220327T010000
END:DAYLIGHT
BEGIN:STANDARD
TZOFFSETFROM:+0200
TZOFFSETTO:+0100
TZNAME:CET
DTSTART:20221030T010000
END:STANDARD
BEGIN:DAYLIGHT
TZOFFSETFROM:+0100
TZOFFSETTO:+0200
TZNAME:CEST
DTSTART:20230326T010000
END:DAYLIGHT
BEGIN:STANDARD
TZOFFSETFROM:+0200
TZOFFSETTO:+0100
TZNAME:CET
DTSTART:20231029T010000
END:STANDARD
BEGIN:DAYLIGHT
TZOFFSETFROM:+0100
TZOFFSETTO:+0200
TZNAME:CEST
DTSTART:20240331T010000
END:DAYLIGHT
BEGIN:STANDARD
TZOFFSETFROM:+0200
TZOFFSETTO:+0100
TZNAME:CET
DTSTART:20241027T010000
END:STANDARD
END:VTIMEZONE
BEGIN:VEVENT
DTSTART;TZID=Europe/Paris:20230916T080000
DTEND;TZID=Europe/Paris:20230917T170000
DTSTAMP:20260420T014229
CREATED:20230820T095748Z
LAST-MODIFIED:20230824T090922Z
UID:10000754-1694851200-1694970000@actu.grandangouleme.fr
SUMMARY:Journées Européennes du Patrimoine
DESCRIPTION:
URL:https://actu.grandangouleme.fr/evenement/journees-europeennes-du-patrimoine/
CATEGORIES:La Couronne,Patrimoine
ATTACH;FMTTYPE=image/jpeg:https://actu.grandangouleme.fr/wp-content/uploads/2023/08/Affiche-JEP-VF-5T2urD.tmp_.jpg
END:VEVENT
BEGIN:VEVENT
DTSTART;TZID=Europe/Paris:20230908T080000
DTEND;TZID=Europe/Paris:20230910T170000
DTSTAMP:20260420T014229
CREATED:20230820T095745Z
LAST-MODIFIED:20230824T090922Z
UID:10000753-1694160000-1694365200@actu.grandangouleme.fr
SUMMARY:Fest’ovale COC Rugby
DESCRIPTION:
URL:https://actu.grandangouleme.fr/evenement/festovale-coc-rugby/
CATEGORIES:La Couronne
ATTACH;FMTTYPE=image/jpeg:https://actu.grandangouleme.fr/wp-content/uploads/2023/08/Festovale-1-w3Raad.tmp_.jpg
END:VEVENT
BEGIN:VEVENT
DTSTART;TZID=Europe/Paris:20230902T140000
DTEND;TZID=Europe/Paris:20230902T190000
DTSTAMP:20260420T014229
CREATED:20230820T095742Z
LAST-MODIFIED:20230824T090922Z
UID:10000752-1693663200-1693681200@actu.grandangouleme.fr
SUMMARY:Place aux Sports et aux Associations
DESCRIPTION:
URL:https://actu.grandangouleme.fr/evenement/place-aux-sports-et-aux-associations-2/
CATEGORIES:La Couronne,Sport
ATTACH;FMTTYPE=image/jpeg:https://actu.grandangouleme.fr/wp-content/uploads/2023/08/A4-2023-scaled-BwAhEI.tmp_.jpg
END:VEVENT
BEGIN:VEVENT
DTSTART;TZID=Europe/Paris:20230825T180000
DTEND;TZID=Europe/Paris:20230825T220000
DTSTAMP:20260420T014229
CREATED:20230820T170030Z
LAST-MODIFIED:20230821T190055Z
UID:10000756-1692986400-1693000800@actu.grandangouleme.fr
SUMMARY:Marché des Producteurs de Pays
DESCRIPTION:
URL:https://actu.grandangouleme.fr/evenement/marche-des-producteurs-de-pays/
LOCATION:Rue des Écoles\, Rue des Écoles\, DIGNAC\, 16410\, France
CATEGORIES:Dignac
ATTACH;FMTTYPE=image/jpeg:https://actu.grandangouleme.fr/wp-content/uploads/2023/08/20230810_082030_0001-scaled-95AGRR.tmp_.jpg
ORGANIZER;CN="Mairie de Dignac":MAILTO:mairie@dignac.fr
END:VEVENT
BEGIN:VEVENT
DTSTART;TZID=Europe/Paris:20230727T220000
DTEND;TZID=Europe/Paris:20230727T220000
DTSTAMP:20260420T014229
CREATED:20230713T182130Z
LAST-MODIFIED:20230719T184639Z
UID:10000750-1690495200-1690495200@actu.grandangouleme.fr
SUMMARY:Ciné Plein Air
DESCRIPTION:
URL:https://actu.grandangouleme.fr/evenement/cine-plein-air-2/
CATEGORIES:La Couronne
ATTACH;FMTTYPE=image/jpeg:https://actu.grandangouleme.fr/wp-content/uploads/2023/07/Cine-Plein-Air1-uXLngI.tmp_.jpg
END:VEVENT
BEGIN:VEVENT
DTSTART;TZID=Europe/Paris:20230724T080000
DTEND;TZID=Europe/Paris:20230803T170000
DTSTAMP:20260420T014229
CREATED:20230718T183630Z
LAST-MODIFIED:20230719T184639Z
UID:10000751-1690185600-1691082000@actu.grandangouleme.fr
SUMMARY:Village éphémère
DESCRIPTION:
URL:https://actu.grandangouleme.fr/evenement/village-ephemere/
CATEGORIES:La Couronne
ATTACH;FMTTYPE=image/jpeg:https://actu.grandangouleme.fr/wp-content/uploads/2023/07/flyer-Village-ephemere-.Ateleirs-parents-enfants-i8v5Qf.tmp_.jpg
END:VEVENT
BEGIN:VEVENT
DTSTART;VALUE=DATE:20230723
DTEND;VALUE=DATE:20230724
DTSTAMP:20260420T014229
CREATED:20230705T154219Z
LAST-MODIFIED:20230719T184639Z
UID:10000748-1690070400-1690156799@actu.grandangouleme.fr
SUMMARY:Dressage CLUB
DESCRIPTION:
URL:https://actu.grandangouleme.fr/evenement/dressage-club/
CATEGORIES:La Couronne
ATTACH;FMTTYPE=image/jpeg:https://actu.grandangouleme.fr/wp-content/uploads/2023/07/355148419_751034130359607_243264879604892610_n-00yx16.tmp_.jpg
END:VEVENT
BEGIN:VEVENT
DTSTART;TZID=Europe/Paris:20230722T200000
DTEND;TZID=Europe/Paris:20230722T213000
DTSTAMP:20260420T014229
CREATED:20230707T152742Z
LAST-MODIFIED:20230719T170542Z
UID:10000749-1690056000-1690061400@actu.grandangouleme.fr
SUMMARY:CLOWN / ACROBATIE / CHANT • “Caillasse” • Cie Le Guichet • Parvis de l’espace Henri Matisse
DESCRIPTION:[SOYAUX L’ETE]\n[SOIRS BLEUS de GrandAngoulême] \nTout public.\nEntrée libre.\nPlus d’infos : 05 45 97 87 25/24. \nCaillasse nous plonge dans l’histoire des révoltés de toutes les époques\, des lanceurs de pavés\, de celles et ceux qui n’avaient que la caillasse pour attaquer ou se défendre. Avec un humour délirant et parfois décapant\, les deux protagonistes mêlent jeu et acrobatie\, chant a cappella et percussions de ferrailles dans un spectacle à l’univers grinçant où l’humour et la poésie sont cependant omniprésents.
URL:https://actu.grandangouleme.fr/evenement/clown-acrobatie-chant-caillasse-cie-le-guichet-parvis-de-lespace-henri-matisse/
LOCATION:Espace Henri Matisse\, 196 avenue du Général de Gaulle\, SOYAUX\, 16800\, France
CATEGORIES:Soyaux
ATTACH;FMTTYPE=image/jpeg:https://actu.grandangouleme.fr/wp-content/uploads/2023/07/Compagnie-Le-Guichet-C5kRGo.tmp_.jpg
END:VEVENT
BEGIN:VEVENT
DTSTART;TZID=Europe/Paris:20230714T200000
DTEND;TZID=Europe/Paris:20230714T210000
DTSTAMP:20260420T014229
CREATED:20230614T142129Z
LAST-MODIFIED:20230714T161755Z
UID:10000735-1689364800-1689368400@actu.grandangouleme.fr
SUMMARY:ACROBATIE / DANSE / CLOWN / MUSIQUE • “Essorage” • Compagnie Artisan du risque • Parvis de Soëlys
DESCRIPTION:[SOYAUX L’ETE]\n[SOIRS BLEUS de GrandAngoulême] \nTout public.\nEntrée libre.\nPlus d’infos : 05 45 97 87 25/24. \nL’homme qui dansait avec son vélo.\nDanseur à vélo\, biker\, circassien\, acrobate\, cascadeur\, véloman …\nGuillaume monte sur un BMX à 19 ans et lie vite une relation forte avec cet objet\, qui nourrit son imaginaire et lui donne envie de créer.\nSon projet solo se construit alors autour de l’histoire d’un homme qui a le guidon qui penche : son quotidien lui fait perdre les pédales. \nLutter contre ou apprivoiser le petit vélo dans sa tête pour retrouver l’équilibre ? Un BMX fait danser un homme en quête de lui-même. Une véritable prouesse poétique.
URL:https://actu.grandangouleme.fr/evenement/acrobatie-danse-clown-musique-essorage-compagnie-artisan-du-risque-parvis-de-soelys/
LOCATION:Soëlys\, 2 place Jean-Jacques Rousseau\, SOYAUX\, 16800\, France
CATEGORIES:Soyaux
ATTACH;FMTTYPE=image/jpeg:https://actu.grandangouleme.fr/wp-content/uploads/2023/06/Compagnie-Artisan-du-risque-LHyvXH.tmp_.jpg
END:VEVENT
BEGIN:VEVENT
DTSTART;TZID=Europe/Paris:20230712T183000
DTEND;TZID=Europe/Paris:20230712T223000
DTSTAMP:20260420T014229
CREATED:20230613T132158Z
LAST-MODIFIED:20230712T145037Z
UID:10000708-1689186600-1689201000@actu.grandangouleme.fr
SUMMARY:Soirs Bleus Dignac
DESCRIPTION:
URL:https://actu.grandangouleme.fr/evenement/soirs-bleus-dignac/
LOCATION:Place des Écoles\, Place des Écoles\, DIGNAC\, 16410\, France
CATEGORIES:Dignac
ATTACH;FMTTYPE=image/jpeg:https://actu.grandangouleme.fr/wp-content/uploads/2023/06/diapo-soirs-bleus-2023-7jrMpU.tmp_.jpg
ORGANIZER;CN="Mairie de Dignac":MAILTO:mairie@dignac.fr
END:VEVENT
BEGIN:VEVENT
DTSTART;TZID=Europe/Paris:20230712T080000
DTEND;TZID=Europe/Paris:20230802T170000
DTSTAMP:20260420T014229
CREATED:20230705T154217Z
LAST-MODIFIED:20230711T162604Z
UID:10000747-1689148800-1690995600@actu.grandangouleme.fr
SUMMARY:Mercredi\, je lis
DESCRIPTION:Retrouvez « Mercredi\, je lis » à la Médiathèque Espace Les 2B \nPour les 0-5 ans : 10H \nPour les 6-11 ans : 15H \nLes mercredis 12\, 19\, 26 juillet et 2 août. \nCes temps de lecture seront animés en partenariat avec des bénévoles de l’association Lire et faire lire Charente. \nHoraires d’ouverture de la médiathèque : \nLundi fermeture hebdomadaire \nMardi 10h à 12h – 15h à 18h \nMercredi 10h à 12h – 15h à 18h \nJeudi 10h à 12h – 15h à 18h \nVendredi 10h à 12h – 15h à 18h \nSamedi 9h à 13h \nPour plus d’informations : 05 45 67 29 67 \n 
URL:https://actu.grandangouleme.fr/evenement/mercredi-je-lis/
CATEGORIES:La Couronne
ATTACH;FMTTYPE=image/jpeg:https://actu.grandangouleme.fr/wp-content/uploads/2023/07/Mercredi-je-lis-jpm1MR.tmp_.jpg
END:VEVENT
BEGIN:VEVENT
DTSTART;TZID=Europe/Paris:20230708T200000
DTEND;TZID=Europe/Paris:20230708T230000
DTSTAMP:20260420T014229
CREATED:20230608T152028Z
LAST-MODIFIED:20230708T145625Z
UID:10000705-1688846400-1688857200@actu.grandangouleme.fr
SUMMARY:Gala de danse Urban Section // 8 juillet 2023
DESCRIPTION:Cette année nous vous transportons de l’autre côté de l’Atlantique à la découverte de notre « Rêve Américain »\n\n\nNew-York\, Miami\, Brodway\, Hollywood\, le Bronx… des bancs de l’université à la mythique finale du superbowl ….\n\n\nMais c’est aussi une face plus sombre … la ségrégation\, le racisme sans oublier les gangsters des années 20 qui faisaient rage dans les ruelles sombres des années folles…\n\n\nNous vous ferons découvrir tous ces univers à travers plus de 2h de show …. et comme d’habitude… on vous réserve pleins de surprises \n\n\nPour que le plaisir continue\, le parvis de Carat sera animé jusqu’à 2h du matin par un DJ pour profiter tous ensemble de ce moment !\n\n\nRestauration sur place\nOuverture parvis à 18 h\nOuverture des portes à 19 h 15\nShow à 20 h\n\nAchetez vos billets : https://amilevent-inscriptions.com/reve-americain-2023/select_competition
URL:https://actu.grandangouleme.fr/evenement/gala-de-danse-urban-section-8-juillet-2023/
LOCATION:Espace Carat\, 54 avenue Jean Mermoz\, L'ISLE D'ESPAGNAC\, 16340\, France
CATEGORIES:Espace Carat,Spectacle
ATTACH;FMTTYPE=image/jpeg:https://actu.grandangouleme.fr/wp-content/uploads/2023/06/UB_Gala_2023_encart_espace-carat_400x600-JROCVp.tmp_.jpg
END:VEVENT
BEGIN:VEVENT
DTSTART;TZID=Europe/Paris:20230708T183000
DTEND;TZID=Europe/Paris:20230708T200000
DTSTAMP:20260420T014229
CREATED:20230608T130622Z
LAST-MODIFIED:20230708T155101Z
UID:10000704-1688841000-1688846400@actu.grandangouleme.fr
SUMMARY:Soirs Bleus – Concert Inisfree
DESCRIPTION:Dans le cadre du programme culturel estival de Grand Angoulême\, les Soirs Bleus\, vous est proposé en partenariat avec le Conseil municipale et le Comité des fêtes\, un concert musical gratuit. \nSAMEDI 8 JUILLET à 18h30 sur le Parvis de la mairie \nConcert du groupe musical INISFREE \nUn répertoire composé des plus célèbres chansons du patrimoine irlandais. De magnifiques mélodies servies par une voix unique\, celle de Jan Widger\, chanteuse de Dublin\, de formation classique et jazz\, qui interprète avec passion\, émotion\, sensibilité\, les ballades de son Irlande natale ; une voix pure\, en prise directe avec des racines anciennes… \nBuvette et restauration sur place \nContacts : 06 71 93 98 75 / mairie@bouex.fr \n  \nLien site internet Les Soirs bleus
URL:https://actu.grandangouleme.fr/evenement/soirs-bleus-concert-inisfree/
LOCATION:Place de la maire de BOUEX\, 100 rue de la mairie\, BOUEX\, 16410
CATEGORIES:Bouëx
ATTACH;FMTTYPE=image/jpeg:https://actu.grandangouleme.fr/wp-content/uploads/2022/07/Capture-tqkwB3.tmp_.jpg
ORGANIZER;CN="Conseil municipal/Comit%C3%A9 des f%C3%AAtes":MAILTO:mairie@bouex.fr
END:VEVENT
BEGIN:VEVENT
DTSTART;TZID=Europe/Paris:20230707T190000
DTEND;TZID=Europe/Paris:20230707T200000
DTSTAMP:20260420T014229
CREATED:20230621T143006Z
LAST-MODIFIED:20230707T155038Z
UID:10000739-1688756400-1688760000@actu.grandangouleme.fr
SUMMARY:Spectacle de danse contemporaine
DESCRIPTION:DANSE CONTEMPORAINE\n\nLes élèves de la classe de danse contemporaine de Candice Guilloux vous invitent à découvrir le travail réalisé tout au long de l’année. \nSans réservation \nDans la limite des places disponibles
URL:https://actu.grandangouleme.fr/evenement/spectacle-de-danse-contemporaine/
LOCATION:Espace Franquin\, 1 bd Berthelot\, Angoulême\, 16000
CATEGORIES:Conservatoire Gabriel Fauré,Spectacle
ATTACH;FMTTYPE=image/jpeg:https://actu.grandangouleme.fr/wp-content/uploads/2023/06/IMG_0359-scaled-e1686647745917-8cEtwC.tmp_.jpg
ORGANIZER;CN="Conservatoire Gabriel Faur%C3%A9":MAILTO:conservatoire@grandangouleme.fr
END:VEVENT
BEGIN:VEVENT
DTSTART;TZID=Europe/Paris:20230707T180000
DTEND;TZID=Europe/Paris:20230707T210000
DTSTAMP:20260420T014229
CREATED:20230705T154207Z
LAST-MODIFIED:20230707T160734Z
UID:10000746-1688752800-1688763600@actu.grandangouleme.fr
SUMMARY:Vendredi Sports
DESCRIPTION:
URL:https://actu.grandangouleme.fr/evenement/vendredi-sports/
CATEGORIES:La Couronne
ATTACH;FMTTYPE=image/png:https://actu.grandangouleme.fr/wp-content/uploads/2023/07/Copie_de_Office_Municipal_des_Sports-KyioWY.tmp_.png
END:VEVENT
BEGIN:VEVENT
DTSTART;TZID=Europe/Paris:20230707T160000
DTEND;TZID=Europe/Paris:20230707T190000
DTSTAMP:20260420T014229
CREATED:20221005T190935Z
LAST-MODIFIED:20230706T143833Z
UID:10000515-1688745600-1688756400@actu.grandangouleme.fr
SUMMARY:Marché Local Dignac
DESCRIPTION:
URL:https://actu.grandangouleme.fr/evenement/marche-local-dignac-10/
LOCATION:Hangar\, 1 Route du Mas\, DIGNAC\, 16410
CATEGORIES:Dignac
ATTACH;FMTTYPE=image/jpeg:https://actu.grandangouleme.fr/wp-content/uploads/2022/02/csm_marche-producteurs_448cb6b630-3opYlk.tmp_.jpg
ORGANIZER;CN="Mairie de Dignac":MAILTO:mairie@dignac.fr
END:VEVENT
BEGIN:VEVENT
DTSTART;TZID=Europe/Paris:20230706T190000
DTEND;TZID=Europe/Paris:20230706T203000
DTSTAMP:20260420T014229
CREATED:20230613T132153Z
LAST-MODIFIED:20230706T155426Z
UID:10000707-1688670000-1688675400@actu.grandangouleme.fr
SUMMARY:Spectacle de danse classique – Sur réservation
DESCRIPTION:CLASSE DE MARIE SOUPERBAT\n\n« C’est la nuit\, la lune éclaire les étoiles sous le regard émerveillé des enfants qui aperçoivent l’astéroïde B612\, planète du Petit Prince. \nSur cet astre\, la journée du Petit Prince est bien rythmée. D’abord il y a les trois volcans à ramoner\, ensuite le Petit Prince doit libèrer le mouton de la caisse que lui a dessiné l’aviateur\, puis il faut arracher les mauvaises herbes… et surtout ne pas laisser les baobabs pousser. Le Petit Prince s’accorde une pause pour prendre soin de sa rose. Il lui raconte ce que signifie « apprivoiser » comme le renard lui a appris lors de son voyage sur Terre.\nUne fois la planète en état\, le Petit Prince se met à rêver en regardant ses 43 couchers de soleil. Il repense à l’aviateur dans le désert\, au renard et à son secret : « On ne voit bien qu’avec le cœur. L’essentiel est invisible pour les yeux ».
URL:https://actu.grandangouleme.fr/evenement/spectacle-de-danse-classique-sur-reservation-2/
LOCATION:Espace Franquin\, 1 bd Berthelot\, Angoulême\, 16000
CATEGORIES:Conservatoire Gabriel Fauré,Spectacle
ATTACH;FMTTYPE=image/jpeg:https://actu.grandangouleme.fr/wp-content/uploads/2023/06/2023-A3-danse-site-xR6XVb.tmp_.jpg
ORGANIZER;CN="Conservatoire Gabriel Faur%C3%A9":MAILTO:conservatoire@grandangouleme.fr
END:VEVENT
BEGIN:VEVENT
DTSTART;TZID=Europe/Paris:20230705T190000
DTEND;TZID=Europe/Paris:20230705T203000
DTSTAMP:20260420T014229
CREATED:20230613T132148Z
LAST-MODIFIED:20230705T154205Z
UID:10000706-1688583600-1688589000@actu.grandangouleme.fr
SUMMARY:Spectacle de danse classique – Sur réservation
DESCRIPTION:DANSE CLASSIQUE\n\n« C’est la nuit\, la lune éclaire les étoiles sous le regard émerveillé des enfants qui aperçoivent l’astéroïde B612\, planète du Petit Prince. \nSur cet astre\, la journée du Petit Prince est bien rythmée. D’abord il y a les trois volcans à ramoner\, ensuite le Petit Prince doit libèrer le mouton de la caisse que lui a dessiné l’aviateur\, puis il faut arracher les mauvaises herbes… et surtout ne pas laisser les baobabs pousser. Le Petit Prince s’accorde une pause pour prendre soin de sa rose. Il lui raconte ce que signifie « apprivoiser » comme le renard lui a appris lors de son voyage sur Terre.\nUne fois la planète en état\, le Petit Prince se met à rêver en regardant ses 43 couchers de soleil. Il repense à l’aviateur dans le désert\, au renard et à son secret : « On ne voit bien qu’avec le cœur. L’essentiel est invisible pour les yeux ».
URL:https://actu.grandangouleme.fr/evenement/spectacle-de-danse-classique-sur-reservation/
LOCATION:Espace Franquin\, 1 bd Berthelot\, Angoulême\, 16000
CATEGORIES:Conservatoire Gabriel Fauré,Spectacle
ATTACH;FMTTYPE=image/jpeg:https://actu.grandangouleme.fr/wp-content/uploads/2023/06/2023-A3-danse-site-xR6XVb.tmp_.jpg
ORGANIZER;CN="Conservatoire Gabriel Faur%C3%A9":MAILTO:conservatoire@grandangouleme.fr
END:VEVENT
BEGIN:VEVENT
DTSTART;TZID=Europe/Paris:20230705T183000
DTEND;TZID=Europe/Paris:20230705T220000
DTSTAMP:20260420T014229
CREATED:20230614T132129Z
LAST-MODIFIED:20230705T154207Z
UID:10000714-1688581800-1688594400@actu.grandangouleme.fr
SUMMARY:Les soirs bleus
DESCRIPTION:[𝐄́𝐕𝐄́𝐍𝐄𝐌𝐄𝐍𝐓] 𝐿𝑒𝑠 𝑆𝑜𝑖𝑟𝑠 𝐵𝑙𝑒𝑢𝑠 \n\n\n𝟓 … 𝟒 … 𝟑 … 𝟐 … 𝟏\n\n\n La 5ème édition des Soirs Bleus se déroulera du 10 juin au 22 septembre.\n \n\n\nVenez partager cette aventure culturelle  à La Couronne le 05 juillet 2023 !\n \n\n\nAcrobatie aérienne\, humour et guitare de haut vol seront au programme\, présenté par la Cie Monsieur Le Directeur dès 18H30.\n \n Suivi d’une évasion musicale avec le concert “Tour Rider 2022” du groupe Éméa à partir de 20h30. \n \n\n\nAu Jardin public Eugène BUREAU\n \n\n\nBuvette et restauration sur place proposée par l’association « La Couronne : Avenir & Patrimoine »\n\n\n Spectacles GRATUITS dans le cadre des Soirs Bleus organisés par GrandAngoulême Culture\n\n\n\n\n\n  \n\nhttps://www.lacouronne.fr/wp-content/uploads/2023/06/Teaser-3.mp4\n 
URL:https://actu.grandangouleme.fr/evenement/les-soirs-bleus/
CATEGORIES:La Couronne
ATTACH;FMTTYPE=image/jpeg:https://actu.grandangouleme.fr/wp-content/uploads/2023/06/2304_SoirsBleus_LivretA5_60p_FINAL-WEB_Page_01-EZpy2C.tmp_.jpg
END:VEVENT
BEGIN:VEVENT
DTSTART;TZID=Europe/Paris:20230704T200000
DTEND;TZID=Europe/Paris:20230704T210000
DTSTAMP:20260420T014229
CREATED:20230621T143003Z
LAST-MODIFIED:20230704T151601Z
UID:10000738-1688500800-1688504400@actu.grandangouleme.fr
SUMMARY:Concert d’ensembles de violoncelles au jardin vert
DESCRIPTION:Concert\n\nDécouvrez un ensemble de violoncelles (une trentaine) pour entendre les Bacchianas Brasileiras de Villa-Lobos.\nAvec  les grands élèves du réseau « Territoire Poitou-Charentes » et leurs professeurs. Jacques Nicolas accompagnera ses élèves du conservatoire. \n* repli à l’auditorium du conservatoire en cas d’intempéries
URL:https://actu.grandangouleme.fr/evenement/concert-densembles-de-violoncelles-au-jardin-vert/
LOCATION:Jardin Vert\, Angoulême\, France
CATEGORIES:Concert,Conservatoire Gabriel Fauré
ATTACH;FMTTYPE=image/jpeg:https://actu.grandangouleme.fr/wp-content/uploads/2023/06/violoncelle-e1686556028668-AKsYaq.tmp_.jpg
ORGANIZER;CN="Conservatoire Gabriel Faur%C3%A9":MAILTO:conservatoire@grandangouleme.fr
END:VEVENT
BEGIN:VEVENT
DTSTART;TZID=Europe/Paris:20230703T203000
DTEND;TZID=Europe/Paris:20230703T220000
DTSTAMP:20260420T014229
CREATED:20230621T142858Z
LAST-MODIFIED:20230703T145227Z
UID:10000737-1688416200-1688421600@actu.grandangouleme.fr
SUMMARY:Danse classique – 3e cycle
DESCRIPTION:DANSE CLASSIQUE\n\nLes élèves de la classe de danse classique de Patrick Sarrazin vous invitent à découvrir le travail réalisé tout au long de l’année. \nSans réservation. \nDans la limite des places disponibles
URL:https://actu.grandangouleme.fr/evenement/danse-classique-3e-cycle/
LOCATION:Espace Franquin\, 1 bd Berthelot\, Angoulême\, 16000
CATEGORIES:Conservatoire Gabriel Fauré,Spectacle
ATTACH;FMTTYPE=image/jpeg:https://actu.grandangouleme.fr/wp-content/uploads/2023/06/danse-ps-WP0fhB.tmp_.jpg
ORGANIZER;CN="Conservatoire Gabriel Faur%C3%A9":MAILTO:conservatoire@grandangouleme.fr
END:VEVENT
BEGIN:VEVENT
DTSTART;TZID=Europe/Paris:20230702T170000
DTEND;TZID=Europe/Paris:20230702T233000
DTSTAMP:20260420T014229
CREATED:20230606T132130Z
LAST-MODIFIED:20230702T144118Z
UID:10000697-1688317200-1688340600@actu.grandangouleme.fr
SUMMARY:Musique et Patrimoine à Dignac
DESCRIPTION:
URL:https://actu.grandangouleme.fr/evenement/musique-et-patrimoine-a-dignac/
LOCATION:Église de Dignac\, Dignac\, 16410
CATEGORIES:Dignac
ATTACH;FMTTYPE=image/jpeg:https://actu.grandangouleme.fr/wp-content/uploads/2023/06/20230606_103429_0001-hhqw3l.tmp_.jpg
END:VEVENT
BEGIN:VEVENT
DTSTART;TZID=Europe/Paris:20230701T203000
DTEND;TZID=Europe/Paris:20230701T214500
DTSTAMP:20260420T014229
CREATED:20230606T135042Z
LAST-MODIFIED:20230701T145041Z
UID:10000703-1688243400-1688247900@actu.grandangouleme.fr
SUMMARY:CONCERT DE MUSIQUE FRANCAISE A CAPPELA • Ensemble Vocal de l’Abbaye aux Dames (EVAD) • Eglise St Joseph l’Artisan
DESCRIPTION:Programme exclusivement français explorant les époques (de la Renaissance à l’époque moderne) et de différents styles (sacré\, profane et traditionnel). Entrée : 10 €\nRenseignements : admin@evad-ensemble.fr / Billetterie à l’entrée du concert et en ligne sur www.evad-ensemble.fr
URL:https://actu.grandangouleme.fr/evenement/concert-de-musique-francaise-a-cappela-ensemble-vocal-de-labbaye-aux-dames-evad-eglise-st-joseph-lartisan/
LOCATION:Eglise St Joseph l’Artisan\, 70 rue Vaucouleurs\, Soyaux\, 16800\, France
CATEGORIES:Soyaux
ATTACH;FMTTYPE=image/jpeg:https://actu.grandangouleme.fr/wp-content/uploads/2023/06/EVAD-ey0NVQ.tmp_.jpg
END:VEVENT
BEGIN:VEVENT
DTSTART;TZID=Europe/Paris:20230701T180000
DTEND;TZID=Europe/Paris:20230701T180000
DTSTAMP:20260420T014229
CREATED:20230614T132059Z
LAST-MODIFIED:20230701T145623Z
UID:10000713-1688234400-1688234400@actu.grandangouleme.fr
SUMMARY:Marche et dîne
DESCRIPTION:[𝐄́𝐕𝐄́𝐍𝐄𝐌𝐄𝐍𝐓] 𝑀𝑎𝑟𝑐ℎ𝑒 𝑒𝑡 𝑑𝑖̂𝑛𝑒 🥾🥗 \n✨ Venez arpenter nos chemins couronnais le temps d’une soirée.\nPour sa 10ème édition retrouvez 4️⃣ parcours : \n👉 Parcours sportif de 14km \n👉 Parcours tout public 12km \n👉 Parcours tout public 8km \n👉 Randonnée santé encadrée 5km \n🏁 Départ et arrivée au terrain de Moto Cross 📍 \n🕦Départ entre 18h et 19h pour les parcours libres et 🕦 18h30 pour la 🥾randonnée santé. \n🎶 Groupe musical et soirée dansante 💃. \nℹ️ Inscriptions obligatoires avant le 26 juin 🔗 Bulletin d’inscription à télécharger Marche et Dîne\, par 📞 06 40 30 96 25 ou par 📧gregismarion.oms@gmail.com \n \n 
URL:https://actu.grandangouleme.fr/evenement/marche-et-dine-2/
CATEGORIES:La Couronne
ATTACH;FMTTYPE=image/png:https://actu.grandangouleme.fr/wp-content/uploads/2023/06/Capture-decran-2023-05-15-a-10.48.04-YsZr2i.tmp_.png
END:VEVENT
BEGIN:VEVENT
DTSTART;TZID=Europe/Paris:20230701T153000
DTEND;TZID=Europe/Paris:20230701T170000
DTSTAMP:20260420T014229
CREATED:20230614T132621Z
LAST-MODIFIED:20230701T145041Z
UID:10000734-1688225400-1688230800@actu.grandangouleme.fr
SUMMARY:Classe de chant lyrique
DESCRIPTION:Réprésentation CHANT LYRIQUE « OPÉRA »\n\nLes élèves de la classe de chant lyrique de Roxanne Comiotto vous invitent à découvrir le travail réalisé tout au long de l’année.
URL:https://actu.grandangouleme.fr/evenement/classe-de-classe/
LOCATION:Auditorium – Conservatoire\, place Henri Dunant\, Angoulême\, 16000\, France
CATEGORIES:Concert,Conservatoire Gabriel Fauré
ATTACH;FMTTYPE=image/jpeg:https://actu.grandangouleme.fr/wp-content/uploads/2023/06/Chant-lyrique-7-e1685096450650-AhvxqV.tmp_.jpg
ORGANIZER;CN="Conservatoire Gabriel Faur%C3%A9":MAILTO:conservatoire@grandangouleme.fr
END:VEVENT
BEGIN:VEVENT
DTSTART;TZID=Europe/Paris:20230630T190000
DTEND;TZID=Europe/Paris:20230630T203000
DTSTAMP:20260420T014229
CREATED:20230614T132620Z
LAST-MODIFIED:20230630T145032Z
UID:10000733-1688151600-1688157000@actu.grandangouleme.fr
SUMMARY:Classe de saxophone
DESCRIPTION:CONCERT DE CLASSE DE SAXOPHONE\n\nLes élèves de la classe de saxophone de Christelle Chazeau vous invitent à découvrir le travail réalisé tout au long de l’année.
URL:https://actu.grandangouleme.fr/evenement/classe-de-saxophone/
LOCATION:Auditorium – Conservatoire\, place Henri Dunant\, Angoulême\, 16000\, France
CATEGORIES:Conservatoire Gabriel Fauré,Représentation
ATTACH;FMTTYPE=image/jpeg:https://actu.grandangouleme.fr/wp-content/uploads/2023/06/visuel-9cfds6.tmp_.jpg
ORGANIZER;CN="Conservatoire Gabriel Faur%C3%A9":MAILTO:conservatoire@grandangouleme.fr
END:VEVENT
BEGIN:VEVENT
DTSTART;TZID=Europe/Paris:20230630T180000
DTEND;TZID=Europe/Paris:20230630T190000
DTSTAMP:20260420T014229
CREATED:20230627T145147Z
LAST-MODIFIED:20230630T145031Z
UID:10000745-1688148000-1688151600@actu.grandangouleme.fr
SUMMARY:« Tous dehors »
DESCRIPTION:Classe de flûte traversière\n\nRetrouvez la classe de Didier Nicolle avec harpe et guitare.
URL:https://actu.grandangouleme.fr/evenement/tous-dehors-4/
CATEGORIES:Audition de classes,Conservatoire Gabriel Fauré
ATTACH;FMTTYPE=image/jpeg:https://actu.grandangouleme.fr/wp-content/uploads/2023/06/Fotolia_54427491_Subscription_XXL-e1397485075121-oBdRmO.tmp_.jpg
END:VEVENT
BEGIN:VEVENT
DTSTART;TZID=Europe/Paris:20230630T163000
DTEND;TZID=Europe/Paris:20230630T193000
DTSTAMP:20260420T014229
CREATED:20230614T132056Z
LAST-MODIFIED:20230630T145030Z
UID:10000712-1688142600-1688153400@actu.grandangouleme.fr
SUMMARY:Don du sang
DESCRIPTION:Journée mondiale des donneurs de sang ! \nRendez-vous le 30 juin 2023 à la Salle des fêtes de La Couronne à partir de 16h30 : dondesang.efs.sante.fr \n \n  \n 
URL:https://actu.grandangouleme.fr/evenement/don-du-sang-2/
CATEGORIES:La Couronne
ATTACH;FMTTYPE=image/jpeg:https://actu.grandangouleme.fr/wp-content/uploads/2023/06/don-du-sang-ZMh4hl.tmp_.jpg
END:VEVENT
BEGIN:VEVENT
DTSTART;TZID=Europe/Paris:20230629T190000
DTEND;TZID=Europe/Paris:20230629T203000
DTSTAMP:20260420T014229
CREATED:20230621T142856Z
LAST-MODIFIED:20230629T150046Z
UID:10000736-1688065200-1688070600@actu.grandangouleme.fr
SUMMARY:Méli-Mélo FMO
DESCRIPTION:Représentation\n\nLes élèves de la classe de formation musicale de Carole Perragin vous invitent à découvrir le travail réalisé tout au long de l’année.
URL:https://actu.grandangouleme.fr/evenement/meli-melo-fmo/
LOCATION:Auditorium du conservatoire – Angoulême\, place Henri Dunant\, Angoulême\, 16000\, France
CATEGORIES:Concert,Conservatoire Gabriel Fauré
ATTACH;FMTTYPE=image/jpeg:https://actu.grandangouleme.fr/wp-content/uploads/2023/06/22-05-concert-e1673967271259-lxdE98.tmp_.jpg
ORGANIZER;CN="Conservatoire Gabriel Faur%C3%A9":MAILTO:conservatoire@grandangouleme.fr
END:VEVENT
BEGIN:VEVENT
DTSTART;TZID=Europe/Paris:20230629T090000
DTEND;TZID=Europe/Paris:20230629T120000
DTSTAMP:20260420T014229
CREATED:20230623T140846Z
LAST-MODIFIED:20230629T142258Z
UID:10000741-1688029200-1688040000@actu.grandangouleme.fr
SUMMARY:DIGNAC : Pour prévenir le diabète
DESCRIPTION:
URL:https://actu.grandangouleme.fr/evenement/dignac-pour-prevenir-le-diabete/
LOCATION:Maison de Santé de Dignac\, 39 Rue de la Clé d'Or\, DIGNAC\, 16410\, France
CATEGORIES:Dignac
ATTACH;FMTTYPE=image/jpeg:https://actu.grandangouleme.fr/wp-content/uploads/2023/06/Affiche-projet-Diabete-Dignac-Final-1-hmq4u1.tmp_.jpg
END:VEVENT
END:VCALENDAR