BEGIN:VCALENDAR
VERSION:2.0
PRODID:-//L&#039;actu GrandAngoulême et ses 38 communes - ECPv6.15.20//NONSGML v1.0//EN
CALSCALE:GREGORIAN
METHOD:PUBLISH
X-ORIGINAL-URL:https://actu.grandangouleme.fr
X-WR-CALDESC:Évènements pour L&#039;actu GrandAngoulême et ses 38 communes
REFRESH-INTERVAL;VALUE=DURATION:PT1H
X-Robots-Tag:noindex
X-PUBLISHED-TTL:PT1H
BEGIN:VTIMEZONE
TZID:Europe/Paris
BEGIN:DAYLIGHT
TZOFFSETFROM:+0100
TZOFFSETTO:+0200
TZNAME:CEST
DTSTART:20230326T010000
END:DAYLIGHT
BEGIN:STANDARD
TZOFFSETFROM:+0200
TZOFFSETTO:+0100
TZNAME:CET
DTSTART:20231029T010000
END:STANDARD
BEGIN:DAYLIGHT
TZOFFSETFROM:+0100
TZOFFSETTO:+0200
TZNAME:CEST
DTSTART:20240331T010000
END:DAYLIGHT
BEGIN:STANDARD
TZOFFSETFROM:+0200
TZOFFSETTO:+0100
TZNAME:CET
DTSTART:20241027T010000
END:STANDARD
BEGIN:DAYLIGHT
TZOFFSETFROM:+0100
TZOFFSETTO:+0200
TZNAME:CEST
DTSTART:20250330T010000
END:DAYLIGHT
BEGIN:STANDARD
TZOFFSETFROM:+0200
TZOFFSETTO:+0100
TZNAME:CET
DTSTART:20251026T010000
END:STANDARD
END:VTIMEZONE
BEGIN:VEVENT
DTSTART;TZID=Europe/Paris:20240322T200000
DTEND;TZID=Europe/Paris:20240322T200000
DTSTAMP:20260419T215047
CREATED:20240221T184249Z
LAST-MODIFIED:20240322T035243Z
UID:10000783-1711137600-1711137600@actu.grandangouleme.fr
SUMMARY:Vole Eddie Vole !
DESCRIPTION:
URL:https://actu.grandangouleme.fr/evenement/vole-eddie-vole/
CATEGORIES:Culture,La Couronne
ATTACH;FMTTYPE=image/jpeg:https://actu.grandangouleme.fr/wp-content/uploads/2024/02/affiche-40x60-OK-tHHiOb.tmp_.jpg
END:VEVENT
BEGIN:VEVENT
DTSTART;TZID=Europe/Paris:20240322T080000
DTEND;TZID=Europe/Paris:20240412T170000
DTSTAMP:20260419T215047
CREATED:20240320T034018Z
LAST-MODIFIED:20240322T035243Z
UID:10000813-1711094400-1712941200@actu.grandangouleme.fr
SUMMARY:Exposition  » Histoire\, Sport et Citoyenneté « 
DESCRIPTION:Exposition au Centre Culturel La Couronne – GRATUIT 
URL:https://actu.grandangouleme.fr/evenement/exposition-histoire-sport-et-citoyennete/
CATEGORIES:Culture,La Couronne
ATTACH;FMTTYPE=image/jpeg:https://actu.grandangouleme.fr/wp-content/uploads/2024/03/Affiche_expo_casden-2-ocSEFz.tmp_.jpg
END:VEVENT
BEGIN:VEVENT
DTSTART;TZID=Europe/Paris:20240321T203000
DTEND;TZID=Europe/Paris:20240321T220000
DTSTAMP:20260419T215047
CREATED:20240306T014615Z
LAST-MODIFIED:20240321T002332Z
UID:10000794-1711053000-1711058400@actu.grandangouleme.fr
SUMMARY:Mousse et Pampre  ou  les agapes de Bacchus & Cupidon
DESCRIPTION:Ensemble clément janequin\n\nLes Conservatoires de GrandAngoulême et  de Grand Cognac se sont associés afin de produire un concert autour de l’ensemble Clément Janequin; cet ensemble est une référence internationale avec un répertoire de chansons polyphoniques françaises de La Renaissance.\nLes élèves des départements de Musiques Anciennes assureront le lever de rideau puis laisseront la place à l’ensemble Clément Janequin composé de : \n\nDominique Visse\, contreténor\, haute-contre et fondateur de l’ensemble\nHugues Primard : ténor\nVincent Bouchot : baryton\nRenaud Delaigue : basse\nÉric Bellocq : luth\n\nCe concert est gratuit sur réservation dans la limite des places disponibles. \nRenseignements et réservations\nau 05 45 82 19 39 – conservatoire@grand-cognac.fr \nLe progamme : \n\nLoyset Compere 1445-1518\nNous sommes de l’ordre de Saint Babouyn\nAnonyme\nFrapes petit coup Jehan mon amy\nAnonyme\nFricassée (Aupres de vous)\nClaudin de Sermizy 1490-1562\nHau hau je boys\nGuillaume Costeley 1530-1606\nElle craint l’esperon\nAdrien Le Roy 1520-1598\nAllemande «Le Pied de Cheval» et Branles de Champagne (luth)\nRoland de Lassus 1532-1594\nUn jeune moine est sorti du couvent\nNinot le Petit fl c1500-1520\nMon amy m’avoit promis\nClément Janequin 1485-1558\nTetin refaict plus blanc qu’un œuf\nClaudin de Sermizy\nLa la maistre Pierre\nClément Janequin\nOr vien çà mamye Perrette\nPierre Attaingnant (éditeur) 1494-1552\nBasses danses «Sancerre» et «Beurre Frais» (luth)\nRoland de Lassus\nLuscecit jam o socii\nClément Janequin\nUng jour Robin vint Margot empoigner\nMittantier fl 1536-1547\nLaissons amour qui nous fait tant souffrir\nClaude Lejeune 1528/30-1600\nJe bois à toy mon compagnon\nClément Janequin\nLa chasse
URL:https://actu.grandangouleme.fr/evenement/mousse-et-pampre-ou-les-agapes-de-bacchus-cupidon/
LOCATION:Château de Cognac\, 127 Bd Denfert Rochereau\, Cognac\, 16100\, France
CATEGORIES:Concert,Conservatoire Gabriel Fauré
ATTACH;FMTTYPE=image/jpeg:https://actu.grandangouleme.fr/wp-content/uploads/2024/03/site-QvARNb.tmp_.jpg
ORGANIZER;CN="Conservatoire Grand Cognac":MAILTO:conservatoire@grand-cognac.fr
END:VEVENT
BEGIN:VEVENT
DTSTART;TZID=Europe/Paris:20240319T100000
DTEND;TZID=Europe/Paris:20240319T110000
DTSTAMP:20260419T215047
CREATED:20240219T162521Z
LAST-MODIFIED:20240319T032141Z
UID:10000782-1710842400-1710846000@actu.grandangouleme.fr
SUMMARY:Lecture sans frontières
DESCRIPTION:
URL:https://actu.grandangouleme.fr/evenement/lecture-sans-frontieres/
CATEGORIES:Culture,La Couronne
ATTACH;FMTTYPE=image/jpeg:https://actu.grandangouleme.fr/wp-content/uploads/2024/03/Ajouter-un-sous-titre-3-1-YfBPYH.tmp_.jpg
END:VEVENT
BEGIN:VEVENT
DTSTART;TZID=Europe/Paris:20240316T140000
DTEND;TZID=Europe/Paris:20240316T160000
DTSTAMP:20260419T215047
CREATED:20240307T015328Z
LAST-MODIFIED:20240315T235057Z
UID:10000797-1710597600-1710604800@actu.grandangouleme.fr
SUMMARY:Concert des classes de trombone et de trompette
DESCRIPTION:Audition de classe\n\n	professeur : Fabien Cherrier\n Entrée libre dans la limite des places disponibles.
URL:https://actu.grandangouleme.fr/evenement/concert-des-classes-de-trombone-et-de-trompette/
LOCATION:Amphi Brassens – Conservatoire\, place Henri Dunant\, Angoulême\, 16000\, France
CATEGORIES:Conservatoire Gabriel Fauré
ATTACH;FMTTYPE=image/jpeg:https://actu.grandangouleme.fr/wp-content/uploads/2024/03/tomb_trumpet-OdJjRG.tmp_.jpg
ORGANIZER;CN="Conservatoire Gabriel Faur%C3%A9":MAILTO:conservatoire@grandangouleme.fr
END:VEVENT
BEGIN:VEVENT
DTSTART;TZID=Europe/Paris:20240315T193000
DTEND;TZID=Europe/Paris:20240315T210000
DTSTAMP:20260419T215047
CREATED:20240307T015326Z
LAST-MODIFIED:20240315T235057Z
UID:10000796-1710531000-1710536400@actu.grandangouleme.fr
SUMMARY:Hommage à Gabriel Fauré
DESCRIPTION:Concert lyrique\n\n	À l’occasion du centième anniversaire de la mort de Gabriel Fauré\nDirection : Roxanne Comiotto\nSpectacle sur réservation. Ouverture de la billetterie en ligne le 1er mars 2024 \nFormulaire de réservation\nBilletterie Weezevent\n \n Entrée libre sur réservation\nLes réservations se font dans la limite des places disponibles en remplissant le formulaire ci-dessus.\nUne fois la réservation effectuée vous recevrez vos billets sous forme numérique à l’adresse de courriel indiquée dans le formulaire.\nVous pouvez les imprimer ou nous les présenter directement sur votre smartphone.\nEn cas de difficultés avec l’outil numérique\, 10 places seront disponibles à l’accueil du conservatoire 45 minutes avant le début du spectacle.\n\n Ne soyez pas en retard\, au risque de perdre votre réservation !\nUne réservation reste valide jusqu’à l’heure du début du spectacle. Passé cet horaire\, les billets non retirés sont de nouveau rendus accessibles à la réservation.\n 5 places PMR (Personnes à Mobilité Réduite) sont disponibles.\nPour réserver vos places merci de nous contacter au 05 45 95 21 69.
URL:https://actu.grandangouleme.fr/evenement/hommage-a-gabriel-faure/
CATEGORIES:Conservatoire Gabriel Fauré
ATTACH;FMTTYPE=image/jpeg:https://actu.grandangouleme.fr/wp-content/uploads/2024/03/gabriel_faure-Iw5BQV.tmp_.jpg
END:VEVENT
BEGIN:VEVENT
DTSTART;TZID=Europe/Paris:20240313T100000
DTEND;TZID=Europe/Paris:20240313T110000
DTSTAMP:20260419T215047
CREATED:20240212T145247Z
LAST-MODIFIED:20240313T015444Z
UID:10000774-1710324000-1710327600@actu.grandangouleme.fr
SUMMARY:Bébés Lecteurs
DESCRIPTION:
URL:https://actu.grandangouleme.fr/evenement/bebes-lecteurs-2/
CATEGORIES:Culture,La Couronne
ATTACH;FMTTYPE=image/jpeg:https://actu.grandangouleme.fr/wp-content/uploads/2024/03/4-PJecB1.tmp_.jpg
END:VEVENT
BEGIN:VEVENT
DTSTART;TZID=Europe/Paris:20240309T203000
DTEND;TZID=Europe/Paris:20240309T203000
DTSTAMP:20260419T215047
CREATED:20240209T124342Z
LAST-MODIFIED:20240309T000817Z
UID:10000772-1710016200-1710016200@actu.grandangouleme.fr
SUMMARY:L’association « LE QUEBEC AUTREMENT »
DESCRIPTION:
URL:https://actu.grandangouleme.fr/evenement/lassociation-le-quebec-autrement/
CATEGORIES:Culture,La Couronne
ATTACH;FMTTYPE=image/jpeg:https://actu.grandangouleme.fr/wp-content/uploads/2024/02/2024-Affiche-spectacle-Quebec-Zkb0kQ.tmp_.jpg
END:VEVENT
BEGIN:VEVENT
DTSTART;TZID=Europe/Paris:20240309T183000
DTEND;TZID=Europe/Paris:20240309T233000
DTSTAMP:20260419T215047
CREATED:20240224T045406Z
LAST-MODIFIED:20240309T081913Z
UID:10000786-1710009000-1710027000@actu.grandangouleme.fr
SUMMARY:Loto Association Parents d’Élèves
DESCRIPTION:
URL:https://actu.grandangouleme.fr/evenement/loto-association-parents-deleves/
LOCATION:Salle polyvalente\, DIGNAC\, 16410\, France
CATEGORIES:Dignac
ATTACH;FMTTYPE=image/jpeg:https://actu.grandangouleme.fr/wp-content/uploads/2024/02/SOIREE-LOTO-NibZQd.tmp_.jpg
ORGANIZER;CN="Association des Parents d&#8217%3B%C3%89l%C3%A8ves de Dignac":MAILTO:ape-dignac@outlook.fr
END:VEVENT
BEGIN:VEVENT
DTSTART;TZID=Europe/Paris:20240309T140000
DTEND;TZID=Europe/Paris:20240309T213000
DTSTAMP:20260419T215047
CREATED:20240212T180348Z
LAST-MODIFIED:20240309T030542Z
UID:10000776-1709992800-1710019800@actu.grandangouleme.fr
SUMMARY:Michel Chion
DESCRIPTION:Rencontre et concert\n\n14h Conférence : « UN PARCOURS DANS LA MUSIQUE CONCRÈTE » \nÀ partir d’extraits musicaux et audio-visuels issus de ses œuvres\, Michel Chion nous parlera de la façon dont il aborde la composition musicale et secondairement de son rapport à l’image.\nSeront ainsi abordés les questions d’écriture sur support\, de forme musicale au service de ce qu’il nomme « un art des sons fixés». \n20h Concert : Diktat\n7 fragments des récits de Melchisedech \n\nRÉVEIL\nAMOUR\nLE PROPHÈTE\nLA VIERGE FOLLE\nLE TRAVAIL\nAGITATION\nNUIT\n\nDe l’éveil à la nuit\, Melchisedech\, clochard-prophète\, monologue et se remémore les fragments réels ou imaginaires d’une vie d’épopée\, d’amour et de travail \, qui le mène à la déchéance. \nLivret en français\, allemand et “blave”: M.C\nVoix: Michel Chion (les voix de Melchisedech)\, Lanie Goodman (Donna)\nCommande du Groupe de Musique Expérimentale de Marseille\, réalisée dans ses studios en 1979\, révision en 2006. \n 
URL:https://actu.grandangouleme.fr/evenement/michel-chion/
LOCATION:Auditorium du conservatoire – Angoulême\, place Henri Dunant\, Angoulême\, 16000\, France
CATEGORIES:conférence-concert,Conservatoire Gabriel Fauré
ATTACH;FMTTYPE=image/jpeg:https://actu.grandangouleme.fr/wp-content/uploads/2024/02/site-2wJvmt.tmp_.jpg
ORGANIZER;CN="Conservatoire Gabriel Faur%C3%A9":MAILTO:conservatoire@grandangouleme.fr
END:VEVENT
BEGIN:VEVENT
DTSTART;TZID=Europe/Paris:20240309T093000
DTEND;TZID=Europe/Paris:20240309T180000
DTSTAMP:20260419T215047
CREATED:20240215T192152Z
LAST-MODIFIED:20240309T030541Z
UID:10000780-1709976600-1710007200@actu.grandangouleme.fr
SUMMARY:L’art de la diminution
DESCRIPTION:Ateliers pratiques\n\nDe 9h30 à 12 et de 14h à 18h \n 
URL:https://actu.grandangouleme.fr/evenement/lart-de-la-diminution-2/
LOCATION:Salle du temps libre – Gond Pontouvre\, 74\, rue de l'Egalité\, Le Gond-Pontouvre\, Nouvelle-Aquitaine\, 16160\, France
CATEGORIES:Atelier,Conservatoire Gabriel Fauré
ATTACH;FMTTYPE=image/jpeg:https://actu.grandangouleme.fr/wp-content/uploads/2024/02/site-franck-9YvreQ.tmp_.jpg
ORGANIZER;CN="Conservatoire Gabriel Faur%C3%A9":MAILTO:conservatoire@grandangouleme.fr
END:VEVENT
BEGIN:VEVENT
DTSTART;TZID=Europe/Paris:20240308T210000
DTEND;TZID=Europe/Paris:20240308T223000
DTSTAMP:20260419T215047
CREATED:20240207T152958Z
LAST-MODIFIED:20240221T195736Z
UID:10000762-1709931600-1709937000@actu.grandangouleme.fr
SUMMARY:SPECTACLE MUSICAL ET SOURIANT • “Souvenirs de saltimbanques” • Mike et Riké de Sinsémilia
DESCRIPTION:Ces deux-là ont écumé les scènes et festivals de France pendant 30 ans\, connu l’énorme succès du tube “Tout le bonheur du monde” et vécu 1000 aventures avec Sinsémilia. Dans ce spectacle musical inclassable et atypique\, ils vous invitent à vous plonger avec eux dans les souvenirs souvent drôles et parfois émouvants de leur folle aventure.\nFans de Sinsémilia ou pas\, le voyage peut commencer et il va vous surprendre !\n \n12 € / 9 €* / gratuit moins de 12 ans – Tout public à partir de 12 ans\nRenseignements : 05 45 97 87 25/24\n*Pass culture
URL:https://actu.grandangouleme.fr/evenement/spectacle-musical-et-souriant-souvenirs-de-saltimbanques-mike-et-rike-de-sinsemilia/
LOCATION:Espace Henri Matisse\, 196 avenue du Général de Gaulle\, SOYAUX\, 16800\, France
CATEGORIES:Soyaux
ATTACH;FMTTYPE=image/jpeg:https://actu.grandangouleme.fr/wp-content/uploads/2024/02/Mike-et-rike-vcwTkd.tmp_.jpg
END:VEVENT
BEGIN:VEVENT
DTSTART;TZID=Europe/Paris:20240308T180000
DTEND;TZID=Europe/Paris:20240308T193000
DTSTAMP:20260419T215047
CREATED:20240215T192150Z
LAST-MODIFIED:20240308T025503Z
UID:10000779-1709920800-1709926200@actu.grandangouleme.fr
SUMMARY:L’art de la diminution
DESCRIPTION:Conférence de William Dongois\n\nLa diminution de La Renaissance à l’époque baroque \n 
URL:https://actu.grandangouleme.fr/evenement/lart-de-la-diminution/
LOCATION:Salle du temps libre – Gond Pontouvre\, 74\, rue de l'Egalité\, Le Gond-Pontouvre\, Nouvelle-Aquitaine\, 16160\, France
CATEGORIES:Conservatoire Gabriel Fauré
ATTACH;FMTTYPE=image/jpeg:https://actu.grandangouleme.fr/wp-content/uploads/2024/02/site-franck-9YvreQ.tmp_.jpg
ORGANIZER;CN="Conservatoire Gabriel Faur%C3%A9":MAILTO:conservatoire@grandangouleme.fr
END:VEVENT
BEGIN:VEVENT
DTSTART;TZID=Europe/Paris:20240308T180000
DTEND;TZID=Europe/Paris:20240308T180000
DTSTAMP:20260419T215047
CREATED:20240226T192133Z
LAST-MODIFIED:20240303T234508Z
UID:10000790-1709920800-1709920800@actu.grandangouleme.fr
SUMMARY:Ciné/débat – Les incorrectes – Dans le cadre de la Quinzaine de l’Égalité
DESCRIPTION:Projection du film documentaire « Les Incorrectes » sur Alice Milliat suivi d’un débat et d’un apéro dinatoire.  \nOrganisé par le Département La Charente et le CDOS – Théâtre Les 2B – Réservations : 06 16 09 71 23 – earrive@lacharente.fr 
URL:https://actu.grandangouleme.fr/evenement/cine-debat-les-incorrectes-dans-le-cadre-de-la-quinzaine-de-legalite/
CATEGORIES:Culture,La Couronne
ATTACH;FMTTYPE=image/png:https://actu.grandangouleme.fr/wp-content/uploads/2024/02/2024-02-AFFICHE-egalite-A3-ngH8wJ.tmp_.png
END:VEVENT
BEGIN:VEVENT
DTSTART;TZID=Europe/Paris:20240308T080000
DTEND;TZID=Europe/Paris:20240308T180000
DTSTAMP:20260419T215047
CREATED:20240304T235255Z
LAST-MODIFIED:20240307T235405Z
UID:10000793-1709884800-1709920800@actu.grandangouleme.fr
SUMMARY:Invitation – Projection du film Les Incorrectes
DESCRIPTION:Réservation : \nEstelle ARRIVE\nDépartement de la Charente\nearrive@lacharente.fr\n05 16 09 71 23 – 06 26 74 48 87
URL:https://actu.grandangouleme.fr/evenement/invitation-projection-du-film-les-incorrectes/
CATEGORIES:Culture,La Couronne
ATTACH;FMTTYPE=image/jpeg:https://actu.grandangouleme.fr/wp-content/uploads/2024/03/Invitation_Les-Incorrectes-scaled-Bynbln.tmp_.jpg
END:VEVENT
BEGIN:VEVENT
DTSTART;TZID=Europe/Paris:20240306T190000
DTEND;TZID=Europe/Paris:20240306T190000
DTSTAMP:20260419T215047
CREATED:20240226T192132Z
LAST-MODIFIED:20240306T233936Z
UID:10000789-1709751600-1709751600@actu.grandangouleme.fr
SUMMARY:Spectacle Hors Normes Par la Cie Betty Blues – Dans le cadre de la Quinzaine de l’Égalité
DESCRIPTION:
URL:https://actu.grandangouleme.fr/evenement/spectacle-hors-normes-par-la-cie-betty-blues-dans-le-cadre-de-la-quinzaine-de-legalite/
CATEGORIES:Culture,La Couronne
ATTACH;FMTTYPE=image/png:https://actu.grandangouleme.fr/wp-content/uploads/2024/03/hors-normes-w6ooeM.tmp_.png
END:VEVENT
BEGIN:VEVENT
DTSTART;TZID=Europe/Paris:20240305T193000
DTEND;TZID=Europe/Paris:20240305T210000
DTSTAMP:20260419T215047
CREATED:20240214T182705Z
LAST-MODIFIED:20240305T010847Z
UID:10000778-1709667000-1709672400@actu.grandangouleme.fr
SUMMARY:Concert musique électroacoustique
DESCRIPTION:Direction Éric Broitmann\n\n Entrée libre dans la limite des places disponibles.
URL:https://actu.grandangouleme.fr/evenement/concert-musique-electroacoustique-2/
LOCATION:Auditorium du conservatoire – Angoulême\, place Henri Dunant\, Angoulême\, 16000\, France
CATEGORIES:Conservatoire Gabriel Fauré
ATTACH;FMTTYPE=image/jpeg:https://actu.grandangouleme.fr/wp-content/uploads/2024/02/Fotolia_34344273_Subscription_XL-e1397652888298-29eNTe.tmp_.jpg
ORGANIZER;CN="Conservatoire Gabriel Faur%C3%A9":MAILTO:conservatoire@grandangouleme.fr
END:VEVENT
BEGIN:VEVENT
DTSTART;TZID=Europe/Paris:20240304T193000
DTEND;TZID=Europe/Paris:20240304T210000
DTSTAMP:20260419T215047
CREATED:20240214T182704Z
LAST-MODIFIED:20240304T005920Z
UID:10000777-1709580600-1709586000@actu.grandangouleme.fr
SUMMARY:Concert musique électroacoustique
DESCRIPTION:Direction Éric Broitmann\n\n Entrée libre dans la limite des places disponibles.
URL:https://actu.grandangouleme.fr/evenement/concert-musique-electroacoustique/
LOCATION:Auditorium du conservatoire – Angoulême\, place Henri Dunant\, Angoulême\, 16000\, France
CATEGORIES:Concert,Conservatoire Gabriel Fauré
ATTACH;FMTTYPE=image/jpeg:https://actu.grandangouleme.fr/wp-content/uploads/2024/02/Fotolia_34344273_Subscription_XL-e1397652888298-29eNTe.tmp_.jpg
ORGANIZER;CN="Conservatoire Gabriel Faur%C3%A9":MAILTO:conservatoire@grandangouleme.fr
END:VEVENT
BEGIN:VEVENT
DTSTART;TZID=Europe/Paris:20240304T080000
DTEND;TZID=Europe/Paris:20240331T170000
DTSTAMP:20260419T215047
CREATED:20240302T221109Z
LAST-MODIFIED:20240305T001351Z
UID:10000792-1709539200-1711904400@actu.grandangouleme.fr
SUMMARY:Concours de nouvelles – Dans le cadre de la Quinzaine de l’Égalité
DESCRIPTION:
URL:https://actu.grandangouleme.fr/evenement/concours-de-nouvelles-dans-le-cadre-de-la-quinzaine-de-legalite/
CATEGORIES:Culture,La Couronne
ATTACH;FMTTYPE=image/png:https://actu.grandangouleme.fr/wp-content/uploads/2024/03/Capture-decran-2024-03-04-a-11.15.39-VJs4mu.tmp_.png
END:VEVENT
BEGIN:VEVENT
DTSTART;TZID=Europe/Paris:20240304T080000
DTEND;TZID=Europe/Paris:20240315T170000
DTSTAMP:20260419T215047
CREATED:20240226T192119Z
LAST-MODIFIED:20240305T001352Z
UID:10000788-1709539200-1710522000@actu.grandangouleme.fr
SUMMARY:Exposition Paroles de Femmes – Dans le cadre de la Quinzaine de l’Égalité
DESCRIPTION:Rétrospective « Paroles de Femmes » pour porter la voix des bénévoles\, des habitantes.  \nHoraires d’ouverture du Colibri – Salle d’activité du Colibri – Tout public 
URL:https://actu.grandangouleme.fr/evenement/exposition-paroles-de-femmes-dans-le-cadre-de-la-quinzaine-de-legalite/
CATEGORIES:Culture,La Couronne
ATTACH;FMTTYPE=image/png:https://actu.grandangouleme.fr/wp-content/uploads/2024/03/2024-02-AFFICHE-egalite-A3-1-X4GpMw.tmp_.png
END:VEVENT
BEGIN:VEVENT
DTSTART;TZID=Europe/Paris:20240303T080000
DTEND;TZID=Europe/Paris:20240303T180000
DTSTAMP:20260419T215047
CREATED:20240226T192115Z
LAST-MODIFIED:20240303T234507Z
UID:10000787-1709452800-1709488800@actu.grandangouleme.fr
SUMMARY:Concert – Sortie de résidence : Merci Demimot – Gratuit
DESCRIPTION: 
URL:https://actu.grandangouleme.fr/evenement/concert-sortie-de-residence-merci-demimot-gratuit/
CATEGORIES:Culture,La Couronne
ATTACH;FMTTYPE=image/jpeg:https://actu.grandangouleme.fr/wp-content/uploads/2024/02/AFFICHE-1-1-88OmgW.tmp_.jpg
END:VEVENT
BEGIN:VEVENT
DTSTART;TZID=Europe/Paris:20240302T080000
DTEND;TZID=Europe/Paris:20240303T170000
DTSTAMP:20260419T215047
CREATED:20240207T152957Z
LAST-MODIFIED:20240221T195735Z
UID:10000761-1709366400-1709485200@actu.grandangouleme.fr
SUMMARY:STAGE DE DANSE & SOIREE DANSANTE AVEC DJ • Urban Section • Espace Matisse
DESCRIPTION:
URL:https://actu.grandangouleme.fr/evenement/stage-de-danse-soiree-dansante-avec-dj-urban-section-espace-matisse/
LOCATION:Espace Henri Matisse\, 196 avenue du Général de Gaulle\, SOYAUX\, 16800\, France
CATEGORIES:Soyaux
ATTACH;FMTTYPE=image/jpeg:https://actu.grandangouleme.fr/wp-content/uploads/2021/12/photo-par-defaut2-scaled.jpg
END:VEVENT
BEGIN:VEVENT
DTSTART;TZID=Europe/Paris:20240228T150000
DTEND;TZID=Europe/Paris:20240228T170000
DTSTAMP:20260419T215047
CREATED:20240209T124341Z
LAST-MODIFIED:20240228T215455Z
UID:10000771-1709132400-1709139600@actu.grandangouleme.fr
SUMMARY:Ateliers créations
DESCRIPTION:
URL:https://actu.grandangouleme.fr/evenement/ateliers-creations-2/
CATEGORIES:Culture,La Couronne
ATTACH;FMTTYPE=image/png:https://actu.grandangouleme.fr/wp-content/uploads/2024/02/4-IfUHro.tmp_.png
END:VEVENT
BEGIN:VEVENT
DTSTART;TZID=Europe/Paris:20240224T200000
DTEND;TZID=Europe/Paris:20240224T223000
DTSTAMP:20260419T215047
CREATED:20240208T155532Z
LAST-MODIFIED:20240224T204756Z
UID:10000768-1708804800-1708813800@actu.grandangouleme.fr
SUMMARY:Michel Sardou // 24 Février 2024
DESCRIPTION:Le grand retour sur scène \n4 ans après sa « DERNIÈRE DANSE » qui avait réuni plus de 450 000 spectateurs\, Michel SARDOU crée la surprise en annonçant son grand retour sur scène pour « Je me souviens d’un adieu » une tournée en France\, Belgique et Suisse à partir du 3 octobre 2023. \nMichel Sardou se produira à l’Espace Carat le samedi 24 Février 2024\, il interprétera ses plus grands succès\,  \nentouré d’un orchestre d’une vingtaine de musiciens.
URL:https://actu.grandangouleme.fr/evenement/michel-sardou-24-fevrier-2024/
LOCATION:Espace Carat\, 54 avenue Jean Mermoz\, L'ISLE D'ESPAGNAC\, 16340\, France
CATEGORIES:Concert,Espace Carat
ATTACH;FMTTYPE=image/jpeg:https://actu.grandangouleme.fr/wp-content/uploads/2024/02/michel-sardou-WJGOos.tmp_.jpg
END:VEVENT
BEGIN:VEVENT
DTSTART;TZID=Europe/Paris:20240223T143000
DTEND;TZID=Europe/Paris:20240223T170000
DTSTAMP:20260419T215047
CREATED:20240209T124106Z
LAST-MODIFIED:20240223T182929Z
UID:10000770-1708698600-1708707600@actu.grandangouleme.fr
SUMMARY:Projection de films et rencontre cinéaste
DESCRIPTION:
URL:https://actu.grandangouleme.fr/evenement/projection-de-films-et-rencontre-cineaste/
CATEGORIES:Citoyenneté,Culture,La Couronne
ATTACH;FMTTYPE=image/jpeg:https://actu.grandangouleme.fr/wp-content/uploads/2024/02/Support_Com_FIFCA-dOqMVB.tmp_.jpg
END:VEVENT
BEGIN:VEVENT
DTSTART;TZID=Europe/Paris:20240221T150000
DTEND;TZID=Europe/Paris:20240221T170000
DTSTAMP:20260419T215047
CREATED:20240208T105138Z
LAST-MODIFIED:20240221T181554Z
UID:10000766-1708527600-1708534800@actu.grandangouleme.fr
SUMMARY:Ateliers Créations
DESCRIPTION:
URL:https://actu.grandangouleme.fr/evenement/ateliers-creations/
CATEGORIES:Culture,La Couronne
ATTACH;FMTTYPE=image/png:https://actu.grandangouleme.fr/wp-content/uploads/2024/02/4-IfUHro.tmp_.png
END:VEVENT
BEGIN:VEVENT
DTSTART;TZID=Europe/Paris:20240217T160000
DTEND;TZID=Europe/Paris:20240217T180000
DTSTAMP:20260419T215047
CREATED:20240208T155548Z
LAST-MODIFIED:20240217T205509Z
UID:10000769-1708185600-1708192800@actu.grandangouleme.fr
SUMMARY:Concert de la classe de percussions
DESCRIPTION:Classe de Yohann Fievet\n\nRetrouvez les élèves de perçussions de la classe de Yohann Fievet. L’ensemble des élèves sera présent pour cette dernière représentation avec leur professeur actuel. \n\n Entrée libre dans la limite des places disponibles.
URL:https://actu.grandangouleme.fr/evenement/concert-de-la-classe-de-percussions/
LOCATION:Auditorium du conservatoire – Angoulême\, place Henri Dunant\, Angoulême\, 16000\, France
CATEGORIES:Concert,Conservatoire Gabriel Fauré
ATTACH;FMTTYPE=image/jpeg:https://actu.grandangouleme.fr/wp-content/uploads/2024/02/percu-classique-VdhRuX.tmp_.jpg
ORGANIZER;CN="Conservatoire Gabriel Faur%C3%A9":MAILTO:conservatoire@grandangouleme.fr
END:VEVENT
BEGIN:VEVENT
DTSTART;TZID=Europe/Paris:20240217T143000
DTEND;TZID=Europe/Paris:20240217T173000
DTSTAMP:20260419T215047
CREATED:20240207T152950Z
LAST-MODIFIED:20240217T194151Z
UID:10000760-1708180200-1708191000@actu.grandangouleme.fr
SUMMARY:Soëlys\, ça me dit ! • Animations associatives pour les familles
DESCRIPTION:RUE POUR TOUS « Une rue au cœur de Soëlys »\n14h30-17h30 – Parvis de Soëlys / Place Mistinguett / Repli à l’intérieur en cas de mauvais temps\nCSC FLEP / Bibliothèque pour tous / Association pour l’École Ouverte SA XV / Centre d’information Jeunesse (CIJ)\n \nRez-de-chaussée de Soëlys\nParcours de motricité pour les enfants de moins de 6 ans\nAteliers créatifs : masques\, arlequin\, scoubidou\, lettre personnalisée\nDécouverte d’instruments de musique\nLudothèque et espace jeux par l’École Ouverte\n \nAu 1er étage\nINFOS JEUNESSE\nCIJ\n \nAu 2ème étage\n15h\nLECTURE ANIMÉE par Marianne Soupé\nAssociation pour l’École Ouverte\n \nACCÈS AUX POSTES INFORMATIQUE – Espace numérique\nCyberbase\n \nPRÊTS ET RETOURS DE LIVRES\nBibliothèque pour Tous\n« Retrouve Oscar le squelette et ses copains »\nBibliothèque pour tous / Association pour l’École Ouverte\n \nA l’extérieur de Soëlys\nParvis : atelier danse\nDans la rue : quiddich\, badminton\, tir à l’arc\nPlace Mistinguett : dessin d’observation\, jeux géants\, fil à souhaits\nParking de la place : animation sportive rugby et multisports par le SA XV\n \nBuvette et bar à soupe sur place.
URL:https://actu.grandangouleme.fr/evenement/soelys-ca-me-dit-animations-associatives-pour-les-familles/
LOCATION:Soëlys\, 2 place Jean-Jacques Rousseau\, SOYAUX\, 16800\, France
CATEGORIES:Soyaux
ATTACH;FMTTYPE=image/jpeg:https://actu.grandangouleme.fr/wp-content/uploads/2024/02/Affiche_soelys_ca_me_dit-17-fev-WEB-U0Nx4F.tmp_.jpg
ORGANIZER;CN="Ville de Soyaux":MAILTO:mairie@mairie-soyaux.fr
END:VEVENT
BEGIN:VEVENT
DTSTART;TZID=Europe/Paris:20240216T200000
DTEND;TZID=Europe/Paris:20240216T220000
DTSTAMP:20260419T215047
CREATED:20240208T155529Z
LAST-MODIFIED:20240216T192216Z
UID:10000767-1708113600-1708120800@actu.grandangouleme.fr
SUMMARY:Sellig // 16 février 2024
DESCRIPTION:Dans le nouveau spectacle écrit et mis en scène par Sellig\, l’humoriste va encore plus loin dans l’exploration de notre quotidien. \nPour notre plus grand plaisir il décortique avec un humour piquant et une précision diabolique des situations enapparences banales qui se révèlent être en réalité bien plus complexes que ce\nqu’elles laissent paraître.\nIl vous parlera de son apprentissage musclé en cuisine et de sa « cinquantetroizaine » apparemment plus difficile à avaler que la cinquantaine.\nPour finir vous passerez un Noël à l’ancienne\, et surtout inoubliable\, chez sa célèbre soeur et son non moins charismatique beau-frère\, Bernard.\nAu final\, vos tracas\, vos agacements et vos énervements du jour s’envoleront comme par magie pendant 1h30… \nSoyez les bienvenus dans l’épisode 6 \nAchetez vos billets \n 
URL:https://actu.grandangouleme.fr/evenement/sellig-16-fevrier-2024/
LOCATION:Espace Carat\, 54 avenue Jean Mermoz\, L'ISLE D'ESPAGNAC\, 16340\, France
CATEGORIES:Espace Carat,Spectacle
ATTACH;FMTTYPE=image/jpeg:https://actu.grandangouleme.fr/wp-content/uploads/2024/02/SELLIG-miJ6DX.tmp_.jpg
END:VEVENT
BEGIN:VEVENT
DTSTART;TZID=Europe/Paris:20240216T163000
DTEND;TZID=Europe/Paris:20240216T193000
DTSTAMP:20260419T215047
CREATED:20240208T105136Z
LAST-MODIFIED:20240216T160008Z
UID:10000765-1708101000-1708111800@actu.grandangouleme.fr
SUMMARY:Don du sang
DESCRIPTION:
URL:https://actu.grandangouleme.fr/evenement/don-du-sang-3/
CATEGORIES:Citoyenneté,La Couronne
ATTACH;FMTTYPE=image/jpeg:https://actu.grandangouleme.fr/wp-content/uploads/2024/02/rs_la_couronne_1-hX9d1L.tmp_.jpg
END:VEVENT
END:VCALENDAR