BEGIN:VCALENDAR
VERSION:2.0
PRODID:-//L&#039;actu GrandAngoulême et ses 38 communes - ECPv6.15.20//NONSGML v1.0//EN
CALSCALE:GREGORIAN
METHOD:PUBLISH
X-ORIGINAL-URL:https://actu.grandangouleme.fr
X-WR-CALDESC:Évènements pour L&#039;actu GrandAngoulême et ses 38 communes
REFRESH-INTERVAL;VALUE=DURATION:PT1H
X-Robots-Tag:noindex
X-PUBLISHED-TTL:PT1H
BEGIN:VTIMEZONE
TZID:Europe/Paris
BEGIN:DAYLIGHT
TZOFFSETFROM:+0100
TZOFFSETTO:+0200
TZNAME:CEST
DTSTART:20230326T010000
END:DAYLIGHT
BEGIN:STANDARD
TZOFFSETFROM:+0200
TZOFFSETTO:+0100
TZNAME:CET
DTSTART:20231029T010000
END:STANDARD
BEGIN:DAYLIGHT
TZOFFSETFROM:+0100
TZOFFSETTO:+0200
TZNAME:CEST
DTSTART:20240331T010000
END:DAYLIGHT
BEGIN:STANDARD
TZOFFSETFROM:+0200
TZOFFSETTO:+0100
TZNAME:CET
DTSTART:20241027T010000
END:STANDARD
BEGIN:DAYLIGHT
TZOFFSETFROM:+0100
TZOFFSETTO:+0200
TZNAME:CEST
DTSTART:20250330T010000
END:DAYLIGHT
BEGIN:STANDARD
TZOFFSETFROM:+0200
TZOFFSETTO:+0100
TZNAME:CET
DTSTART:20251026T010000
END:STANDARD
END:VTIMEZONE
BEGIN:VEVENT
DTSTART;TZID=Europe/Paris:20240515T080000
DTEND;TZID=Europe/Paris:20240515T173000
DTSTAMP:20260419T172446
CREATED:20240503T052125Z
LAST-MODIFIED:20240515T062047Z
UID:10000842-1715760000-1715794200@actu.grandangouleme.fr
SUMMARY:Assemblée générale Le Colibri – CSCS La Couronne
DESCRIPTION:
URL:https://actu.grandangouleme.fr/evenement/assemblee-generale-le-colibri-cscs-la-couronne/
CATEGORIES:CSCS,La Couronne
ATTACH;FMTTYPE=image/jpeg:https://actu.grandangouleme.fr/wp-content/uploads/2024/05/437562015_737577105228740_4204975223107053130_n-Efz8bd.tmp_.jpg
END:VEVENT
BEGIN:VEVENT
DTSTART;VALUE=DATE:20240511
DTEND;VALUE=DATE:20240512
DTSTAMP:20260419T172446
CREATED:20240425T045026Z
LAST-MODIFIED:20240511T062025Z
UID:10000832-1715385600-1715471999@actu.grandangouleme.fr
SUMMARY:VACARME(S) OU COMMENT L’HOMME MARCHE SUR LA TERRE
DESCRIPTION:
URL:https://actu.grandangouleme.fr/evenement/vacarnes-ou-comment-lhomme-marche-sur-la-terre/
LOCATION:Théâtre – La Couronne\, 1 Allée des Sports\, La Couronne\, 16400\, France
CATEGORIES:Culture,La Couronne
ATTACH;FMTTYPE=image/png:https://actu.grandangouleme.fr/wp-content/uploads/2024/04/VACARNES-RtbH2s.tmp_.png
END:VEVENT
BEGIN:VEVENT
DTSTART;TZID=Europe/Paris:20240508T103000
DTEND;TZID=Europe/Paris:20240508T120000
DTSTAMP:20260419T172446
CREATED:20240503T052117Z
LAST-MODIFIED:20240508T060530Z
UID:10000841-1715164200-1715169600@actu.grandangouleme.fr
SUMMARY:Commémoration du 79ème anniversaire de la Victoire du 8 mai 1945
DESCRIPTION:
URL:https://actu.grandangouleme.fr/evenement/commemoration-du-79eme-anniversaire-de-la-victoire-du-8-mai-1945/
CATEGORIES:Citoyenneté,La Couronne
ATTACH;FMTTYPE=image/jpeg:https://actu.grandangouleme.fr/wp-content/uploads/2024/05/8-mai-Place-de-lHotel-de-Ville-1-apqEJj.tmp_.jpg
END:VEVENT
BEGIN:VEVENT
DTSTART;TZID=Europe/Paris:20240505T143000
DTEND;TZID=Europe/Paris:20240505T203000
DTSTAMP:20260419T172446
CREATED:20240503T052117Z
LAST-MODIFIED:20240505T055023Z
UID:10000840-1714919400-1714941000@actu.grandangouleme.fr
SUMMARY:Thé dansant
DESCRIPTION:Le COC RUGBY organise un thé dansant le dimanche 5 mai de 14H30 à 20H30 à la Salle des Fêtes de La Couronne.
URL:https://actu.grandangouleme.fr/evenement/the-dansant-2/
CATEGORIES:Citoyenneté,La Couronne,Sport
ATTACH;FMTTYPE=image/jpeg:https://actu.grandangouleme.fr/wp-content/uploads/2021/12/photo-par-defaut2-scaled.jpg
END:VEVENT
BEGIN:VEVENT
DTSTART;TZID=Europe/Paris:20240504T100000
DTEND;TZID=Europe/Paris:20240504T130000
DTSTAMP:20260419T172446
CREATED:20240503T052114Z
LAST-MODIFIED:20240504T053539Z
UID:10000839-1714816800-1714827600@actu.grandangouleme.fr
SUMMARY:Atelier « jeux de société »
DESCRIPTION:
URL:https://actu.grandangouleme.fr/evenement/atelier-jeux-de-societe/
CATEGORIES:CSCS,La Couronne
ATTACH;FMTTYPE=image/jpeg:https://actu.grandangouleme.fr/wp-content/uploads/2024/05/434468527_729992085987242_48769259390533300_n-Gt5oVo.tmp_.jpg
END:VEVENT
BEGIN:VEVENT
DTSTART;TZID=Europe/Paris:20240504T093000
DTEND;TZID=Europe/Paris:20240504T180000
DTSTAMP:20260419T172446
CREATED:20240405T013537Z
LAST-MODIFIED:20240504T030543Z
UID:10000824-1714815000-1714845600@actu.grandangouleme.fr
SUMMARY:Portes ouvertes
DESCRIPTION:le conservatoire ouvre ses portes\n\n L’ensemble du déroulé afin que vous puissiez organiser votre venue selon vos envies.\nDes formats papier seront à votre disposition à partir du 29 avril 2024. \nDe 9h30 à 18h\, vous pourrez assister à de nombreuses représentations et ouvrir les portes pour échanger avec les enseignants…\nVitrine des disciplines enseignées\, cette journée offre la possibilité d’explorer l’étendue des 86 disciplines enseignées : des ateliers (dès 4 ans) jusqu’aux pratiques collectives qui sont ouvertes\, pour certaines\, aux adultes.\nC’est un moment important de la vie du conservatoire car l’ensemble de l’équipe est disponible pour faire découvrir toute la palette des instruments enseignés mais aussi la danse classique ou contemporaine et le théâtre.\nQue vous soyez décidé pour telle pratique ou que vous hésitiez entre plusieurs\, c’est l’occasion de conforter votre souhait.\nL’ensemble de l’équipe administrative sera à votre service pour retirer un dossier de préinscription\, vous informer sur la grille tarifaire qui permet à toutes et tous d’offrir\, à ses enfants\, une ouverture culturelle.\nDès 9h30 et jusqu’à 18h 45\, les représentations se succéderont pour des durées entre 5 et 20 mn à l’auditorium\, dans les amphis mais aussi dans les salles de cours et peut-être sur le parvis si la météo le permet. \nÀ bientôt.
URL:https://actu.grandangouleme.fr/evenement/portes-ouvertes-2/
LOCATION:Conservatoire Gabriel Fauré\, Conservatoire Gabriel Fauré\, 3 Place Henri Dunant\, Angoulême\, 16000\, France
CATEGORIES:Conservatoire Gabriel Fauré
ATTACH;FMTTYPE=image/jpeg:https://actu.grandangouleme.fr/wp-content/uploads/2024/04/PO-v5WQUN.tmp_.jpg
ORGANIZER;CN="Conservatoire Gabriel Faur%C3%A9":MAILTO:conservatoire@grandangouleme.fr
END:VEVENT
BEGIN:VEVENT
DTSTART;TZID=Europe/Paris:20240504T090000
DTEND;TZID=Europe/Paris:20240504T180000
DTSTAMP:20260419T172446
CREATED:20240503T052112Z
LAST-MODIFIED:20240504T053539Z
UID:10000838-1714813200-1714845600@actu.grandangouleme.fr
SUMMARY:Éco-lympiades
DESCRIPTION:
URL:https://actu.grandangouleme.fr/evenement/eco-lympiades/
CATEGORIES:La Couronne,Sport
ATTACH;FMTTYPE=image/jpeg:https://actu.grandangouleme.fr/wp-content/uploads/2024/05/439813316_956540743138379_6833162002714467743_n-9tR1zF.tmp_.jpg
END:VEVENT
BEGIN:VEVENT
DTSTART;VALUE=DATE:20240504
DTEND;VALUE=DATE:20240505
DTSTAMP:20260419T172446
CREATED:20240424T043948Z
LAST-MODIFIED:20240504T053539Z
UID:10000831-1714780800-1714867199@actu.grandangouleme.fr
SUMMARY:Portes ouvertes Club des Ainés « joie de vivre »
DESCRIPTION:
URL:https://actu.grandangouleme.fr/evenement/portes-ouvertes-club-des-aines-joie-de-vivre/
LOCATION:Bâtiment des Convers de l’Abbaye\, La Couronne\, 16400
CATEGORIES:Citoyenneté,La Couronne
ATTACH;FMTTYPE=image/png:https://actu.grandangouleme.fr/wp-content/uploads/2024/04/club-joie-de-vivre-JPO-e1713876937152-CbnPbe.tmp_.png
END:VEVENT
BEGIN:VEVENT
DTSTART;TZID=Europe/Paris:20240501T080000
DTEND;TZID=Europe/Paris:20240531T170000
DTSTAMP:20260419T172446
CREATED:20240501T051055Z
LAST-MODIFIED:20240501T051055Z
UID:10000835-1714550400-1717174800@actu.grandangouleme.fr
SUMMARY:Ce mois-ci à La Couronne
DESCRIPTION:
URL:https://actu.grandangouleme.fr/evenement/ce-mois-ci-a-la-couronne-2/
CATEGORIES:Citoyenneté,Culture,La Couronne,Sport
ATTACH;FMTTYPE=image/jpeg:https://actu.grandangouleme.fr/wp-content/uploads/2024/05/Ce-mois-ci-scaled-3D5mWs.tmp_.jpg
END:VEVENT
BEGIN:VEVENT
DTSTART;TZID=Europe/Paris:20240430T183000
DTEND;TZID=Europe/Paris:20240430T200000
DTSTAMP:20260419T172446
CREATED:20240331T011151Z
LAST-MODIFIED:20240430T030835Z
UID:10000822-1714501800-1714507200@actu.grandangouleme.fr
SUMMARY:Patchwork
DESCRIPTION:Audition de classes\n\n	Présentation de plusieurs disciplines\n Entrée libre dans la limite des places disponibles.
URL:https://actu.grandangouleme.fr/evenement/patchwork-2/
LOCATION:Auditorium – Conservatoire\, place Henri Dunant\, Angoulême\, 16000\, France
CATEGORIES:Conservatoire Gabriel Fauré
ATTACH;FMTTYPE=image/jpeg:https://actu.grandangouleme.fr/wp-content/uploads/2023/03/2302-patchwork-ReeT3R.tmp_.jpg
ORGANIZER;CN="Conservatoire Gabriel Faur%C3%A9":MAILTO:conservatoire@grandangouleme.fr
END:VEVENT
BEGIN:VEVENT
DTSTART;TZID=Europe/Paris:20240430T173000
DTEND;TZID=Europe/Paris:20240430T180000
DTSTAMP:20260419T172446
CREATED:20240331T010845Z
LAST-MODIFIED:20240430T030835Z
UID:10000821-1714498200-1714500000@actu.grandangouleme.fr
SUMMARY:Concert préparatoire à l’enseignement supérieur
DESCRIPTION:CPES\n\nVioleta Aranda : flûte traversière \nÀ travers la Musique et la Danse\, on découvre une histoire d’Amour « impossible » entre le Soleil et la Lune. Même si elle n’est pas aussi lumineuse que lui\, la Lune comprendra qu’elle n’en est pourtant pas moins belle. L’obscurité n’est-elle pas tout autant indispensable que la lumière pour le cycle de la vie ? Le Soleil\, lui\, l’aime bel et bien telle qu’elle est. Au fil de cette proposition onirique\, leur Amour deviendra possible et ils se réuniront pour ne former plus qu’un … l’Éclipse.\nPetite histoire qui nous rappelle qu’on ne peut pas aimer sans d’abord s’aimer soi-même. \n1. Voyelles. Sophie LACAZE\nPièce pour flûte seule\, avec le récitatif d’un poème de Arthur RIMBAUD où la flûte retranscrit le sens du poème.\nC’est la présentation des deux protagonistes: la voix et la flûte symbolisant respectivement le Soleil et la Lune. Cette dernière essaye de ressembler au Soleil en “l’imitant”.\n2. Couleur Neige. Sophie DUFEUTRELLE\nPièce pour flûte seule\, où l’on peut apprécier plusieurs possibilités techniques de la flûte qui se rapprochent de celles de la voix.\nC’est la représentation du caractère de la Lune : délicate\, un peu mystérieuse et mélancolique.\n3. Entr’Acte. Jacques IBERT\nPièce pour flûte et guitare. Ici\, il y a seulement le Soleil en scène\, c’est la représentation de son caractère : fort et passionnel.\n4. Danzas fantásticas\, Op. 22 n° III: Orgía\, de Joaquin TURINA (Arrangement pour flûte et guitare par Violeta ARANDA)\nLa Lune se réaffirme\, en imitant encore un peu le caractère puissant du Soleil\, mais elle se trouve enfin belle et danse pour elle-même\, en se regardant dans un miroir.\n5. Texte de: La Nuit\, de Grand Corps Malade\, avec improvisation à partir du Clair de lune\, de Claude DEBUSSY\nTransition avant l’Éclipse\, dans laquelle la danse s’inspire de la gravure de Francisco de GOYA : El sueño de la razón produce monstruos (Le sommeil de la raison engendre des monstres). C’est l’histoire d’une personne qui retrouve son inspiration dans la Nuit (élément que représente à la Lune) et dans laquelle « les monstres » (chauves-souris\, et chouettes) aident l’artiste à réveiller son inconscient.\n6. Three Beats for Beatbox flûte: I et II mouvements. Greg PATILLO\nPièce pour flûte seule\, où fusionnent des techniques de la voix et de la flûte.\nLa Lune s’accepte telle quelle\, ce qui rend enfin possible l’Amour entre eux ; La Lune et le Soleil dansent ensemble se fondant en une Éclipse. \nEn collaboration avec :\nCompagnie de Danse Contemporaine : Cie Cambio \n\nMarion COELO\, Texte de La Nuit\, avec improvisation à partir du Clair de lune\, Three Beats for Beatbox flûte: I et II mouvements\nAlyssia PAUL\, Voyelles\, Three Beats for Beatbox flûte: I et II mouvements\nElodie POSAT\, Voyelles\nNoé RICHÉ-SIMON\, Couleur Neige\nEmilie TRONCHE\, Entr’Acte\nNoémie TROUVÉ\, Danzas fantásticas\, n° III : Orgía\n\nSupervision chorégraphique : Cléa HOURANT \nGuitare classique : Valerii URIASIEV\, Entr’Acte\, Danzas fantásticas\, n° III : Orgía \n  \n Entrée libre dans la limite des places disponibles.
URL:https://actu.grandangouleme.fr/evenement/concert-preparatoire-a-lenseignement-superieur/
LOCATION:Auditorium – Conservatoire\, place Henri Dunant\, Angoulême\, 16000\, France
CATEGORIES:Conservatoire Gabriel Fauré
ATTACH;FMTTYPE=image/jpeg:https://actu.grandangouleme.fr/wp-content/uploads/2024/03/v_aranda_web-9nOlJd.tmp_.jpg
ORGANIZER;CN="Conservatoire Gabriel Faur%C3%A9":MAILTO:conservatoire@grandangouleme.fr
END:VEVENT
BEGIN:VEVENT
DTSTART;TZID=Europe/Paris:20240428T093000
DTEND;TZID=Europe/Paris:20240428T133000
DTSTAMP:20260419T172446
CREATED:20240330T042144Z
LAST-MODIFIED:20240428T045128Z
UID:10000820-1714296600-1714311000@actu.grandangouleme.fr
SUMMARY:Troc aux plantes
DESCRIPTION:
URL:https://actu.grandangouleme.fr/evenement/troc-aux-plantes/
CATEGORIES:Citoyenneté,La Couronne
ATTACH;FMTTYPE=image/jpeg:https://actu.grandangouleme.fr/wp-content/uploads/2024/03/433913086_720479686938482_4886223910204895784_n-zEPSzf.tmp_.jpg
END:VEVENT
BEGIN:VEVENT
DTSTART;TZID=Europe/Paris:20240424T200000
DTEND;TZID=Europe/Paris:20240424T220000
DTSTAMP:20260419T172446
CREATED:20240325T185534Z
LAST-MODIFIED:20240424T202040Z
UID:10000814-1713988800-1713996000@actu.grandangouleme.fr
SUMMARY:Messmer // 24 avril 2024
DESCRIPTION:
URL:https://actu.grandangouleme.fr/evenement/messmer-24-avril-2024/
LOCATION:Espace Carat\, 54 avenue Jean Mermoz\, L'ISLE D'ESPAGNAC\, 16340\, France
CATEGORIES:Espace Carat,Spectacle
ATTACH;FMTTYPE=image/jpeg:https://actu.grandangouleme.fr/wp-content/uploads/2024/03/MESSMER-SITE-1-5grgvH.tmp_.jpg
END:VEVENT
BEGIN:VEVENT
DTSTART;TZID=Europe/Paris:20240424T150000
DTEND;TZID=Europe/Paris:20240424T160000
DTSTAMP:20260419T172446
CREATED:20240330T042141Z
LAST-MODIFIED:20240424T043947Z
UID:10000819-1713970800-1713974400@actu.grandangouleme.fr
SUMMARY:Animation – Carte pop-up
DESCRIPTION:
URL:https://actu.grandangouleme.fr/evenement/animation-carte-pop-up-2/
CATEGORIES:Culture,La Couronne
ATTACH;FMTTYPE=image/jpeg:https://actu.grandangouleme.fr/wp-content/uploads/2024/03/434430785_933429958787610_7954279578866635624_n-Rjwnur.tmp_.jpg
END:VEVENT
BEGIN:VEVENT
DTSTART;TZID=Europe/Paris:20240417T150000
DTEND;TZID=Europe/Paris:20240417T160000
DTSTAMP:20260419T172446
CREATED:20240330T042125Z
LAST-MODIFIED:20240417T043526Z
UID:10000818-1713366000-1713369600@actu.grandangouleme.fr
SUMMARY:Animation – Carte pop-up
DESCRIPTION:
URL:https://actu.grandangouleme.fr/evenement/animation-carte-pop-up/
CATEGORIES:Culture,La Couronne
ATTACH;FMTTYPE=image/jpeg:https://actu.grandangouleme.fr/wp-content/uploads/2024/03/434188994_933429968787609_7948885820006575184_n-j8XKaZ.tmp_.jpg
END:VEVENT
BEGIN:VEVENT
DTSTART;TZID=Europe/Paris:20240415T200000
DTEND;TZID=Europe/Paris:20240415T200000
DTSTAMP:20260419T172446
CREATED:20240316T025029Z
LAST-MODIFIED:20240326T042130Z
UID:10000802-1713211200-1713211200@actu.grandangouleme.fr
SUMMARY:Projection film documentaire WOMAN – Dans le cadre de la quinzaine de l’Égalité
DESCRIPTION:
URL:https://actu.grandangouleme.fr/evenement/projection-film-documentaire-woman-dans-le-cadre-de-la-quinzaine-de-legalite/
CATEGORIES:Culture,La Couronne
ATTACH;FMTTYPE=image/png:https://actu.grandangouleme.fr/wp-content/uploads/2024/03/Projection-woman-CDAgok.tmp_.png
END:VEVENT
BEGIN:VEVENT
DTSTART;TZID=Europe/Paris:20240414T143000
DTEND;TZID=Europe/Paris:20240414T170000
DTSTAMP:20260419T172446
CREATED:20240330T042121Z
LAST-MODIFIED:20240414T043525Z
UID:10000817-1713105000-1713114000@actu.grandangouleme.fr
SUMMARY:Hommage aux combattant·es Républicain·es espagnol·es
DESCRIPTION:
URL:https://actu.grandangouleme.fr/evenement/hommage-aux-combattant%c2%b7es-republicain%c2%b7es-espagnol%c2%b7es/
CATEGORIES:Citoyenneté,La Couronne
ATTACH;FMTTYPE=image/jpeg:https://actu.grandangouleme.fr/wp-content/uploads/2024/03/Invitation-ceremonie-scaled-y1YI3B.tmp_.jpg
END:VEVENT
BEGIN:VEVENT
DTSTART;TZID=Europe/Paris:20240412T180000
DTEND;TZID=Europe/Paris:20240412T190000
DTSTAMP:20260419T172446
CREATED:20240319T000545Z
LAST-MODIFIED:20240412T020806Z
UID:10000806-1712944800-1712948400@actu.grandangouleme.fr
SUMMARY:Concert de classe – accordéon
DESCRIPTION:Audition de classe\n\n	Professeur : Paul Grollier\n Entrée libre dans la limite des places disponibles.
URL:https://actu.grandangouleme.fr/evenement/concert-de-classe-accordeon/
LOCATION:Auditorium – Conservatoire\, place Henri Dunant\, Angoulême\, 16000\, France
CATEGORIES:Conservatoire Gabriel Fauré
ATTACH;FMTTYPE=image/jpeg:https://actu.grandangouleme.fr/wp-content/uploads/2021/12/photo-par-defaut2-scaled.jpg
ORGANIZER;CN="Conservatoire Gabriel Faur%C3%A9":MAILTO:conservatoire@grandangouleme.fr
END:VEVENT
BEGIN:VEVENT
DTSTART;TZID=Europe/Paris:20240411T183000
DTEND;TZID=Europe/Paris:20240411T200000
DTSTAMP:20260419T172446
CREATED:20240319T000544Z
LAST-MODIFIED:20240411T020530Z
UID:10000805-1712860200-1712865600@actu.grandangouleme.fr
SUMMARY:Patchwork
DESCRIPTION:Audition de classes\n\n	Présentation de plusieurs disciplines\n Entrée libre dans la limite des places disponibles.
URL:https://actu.grandangouleme.fr/evenement/patchwork/
LOCATION:Auditorium – Conservatoire\, place Henri Dunant\, Angoulême\, 16000\, France
CATEGORIES:Conservatoire Gabriel Fauré
ATTACH;FMTTYPE=image/jpeg:https://actu.grandangouleme.fr/wp-content/uploads/2023/03/2302-patchwork-ReeT3R.tmp_.jpg
ORGANIZER;CN="Conservatoire Gabriel Faur%C3%A9":MAILTO:conservatoire@grandangouleme.fr
END:VEVENT
BEGIN:VEVENT
DTSTART;TZID=Europe/Paris:20240410T100000
DTEND;TZID=Europe/Paris:20240410T110000
DTSTAMP:20260419T172446
CREATED:20240311T013521Z
LAST-MODIFIED:20240410T042026Z
UID:10000800-1712743200-1712746800@actu.grandangouleme.fr
SUMMARY:Bébés Lecteurs
DESCRIPTION:
URL:https://actu.grandangouleme.fr/evenement/bebes-lecteurs-3/
CATEGORIES:Culture,La Couronne
ATTACH;FMTTYPE=image/jpeg:https://actu.grandangouleme.fr/wp-content/uploads/2024/03/5-VOBCM5.tmp_.jpg
END:VEVENT
BEGIN:VEVENT
DTSTART;TZID=Europe/Paris:20240407T150000
DTEND;TZID=Europe/Paris:20240407T160000
DTSTAMP:20260419T172446
CREATED:20240319T203655Z
LAST-MODIFIED:20240407T220529Z
UID:10000811-1712502000-1712505600@actu.grandangouleme.fr
SUMMARY:SPECTACLE MUSICAL • “Le roi lion” • Cie Les Joyeux Farfadets • Espace Matisse
DESCRIPTION:Gratuit (participation au chapeau)\nRenseignements : 05 45 97 87 25/24 \nUne comédie musicale mêlant théâtre et danse faisant évoluer sur scène 12 comédiens et danseurs accompagnés par Sylvie Buisson sur des textes en grande partie improvisés et sur des chorégraphies imaginées par Catherine Goursaud. La troupe de théâtre « Les joyeux farfadets » est composée d’adultes en situation de handicap de la résidence « Les Sources » ADAPEI 16. \nUn spectacle riche en émotions et en prouesses individuelles qui ravira les petits et grands ! 
URL:https://actu.grandangouleme.fr/evenement/spectacle-musical-le-roi-lion-cie-les-joyeux-farfadets-espace-matisse/
LOCATION:Espace Henri Matisse\, 196 avenue du Général de Gaulle\, SOYAUX\, 16800\, France
CATEGORIES:Soyaux
ATTACH;FMTTYPE=image/jpeg:https://actu.grandangouleme.fr/wp-content/uploads/2024/03/Farfadets-web-1-OMaUeF.tmp_.jpg
END:VEVENT
BEGIN:VEVENT
DTSTART;TZID=Europe/Paris:20240406T203000
DTEND;TZID=Europe/Paris:20240406T230000
DTSTAMP:20260419T172446
CREATED:20240308T025459Z
LAST-MODIFIED:20240406T220527Z
UID:10000798-1712435400-1712444400@actu.grandangouleme.fr
SUMMARY:Soirée danse et théâtre – Les Bourdichoux
DESCRIPTION:Samedi 6 avril à 20h30 à la Salle des fêtes\nLe Comité des fêtes de Bouëx reçoit Les Bourdichoux pour une grande soirée de danses et théâtre avec en deuxième partie de soirée \nNoces feras-tu ? De Joël Contival\nMariage\, manigances et magot. Une tante d’Hollywood veut absolument marier son neveu\, qui est le seul héritier de la famille. Cependant il n’a pas toutes ses facultés. Mais pourquoi cette tante est elle si pressée de marier son neveu ? \nSecrets de famille\, manigances\, argent sont au programme et bien sûr éclats de rires ! \nTarif 8e dès 12ans
URL:https://actu.grandangouleme.fr/evenement/soiree-danse-et-theatre-les-bourdichoux/
LOCATION:Salle des Fêtes\, 4 Place du 14 Juillet\, 16400 La Couronne\, La Couronne
CATEGORIES:Bouëx
ATTACH;FMTTYPE=image/png:https://actu.grandangouleme.fr/wp-content/uploads/2024/03/affiche-bourdichoux-6-avril-W2T8xJ.tmp_.png
END:VEVENT
BEGIN:VEVENT
DTSTART;TZID=Europe/Paris:20240405T203000
DTEND;TZID=Europe/Paris:20240405T220000
DTSTAMP:20260419T172446
CREATED:20240319T000543Z
LAST-MODIFIED:20240405T013532Z
UID:10000804-1712349000-1712354400@actu.grandangouleme.fr
SUMMARY:Concert « Monk’s groove »
DESCRIPTION:Big band\n\nDirection : Didier Freboeuf\n Entrée libre dans la limite des places disponibles.
URL:https://actu.grandangouleme.fr/evenement/concert-monks-groove/
LOCATION:CSCS Rives de Charente – Angoulême\, 5 quai du halage\, Angoulême\, 16000
CATEGORIES:Conservatoire Gabriel Fauré
ATTACH;FMTTYPE=image/jpeg:https://actu.grandangouleme.fr/wp-content/uploads/2024/03/2022-big-band-eNpOBs.tmp_.jpg
END:VEVENT
BEGIN:VEVENT
DTSTART;TZID=Europe/Paris:20240405T160000
DTEND;TZID=Europe/Paris:20240405T190000
DTSTAMP:20260419T172446
CREATED:20240306T072507Z
LAST-MODIFIED:20240405T113527Z
UID:10000795-1712332800-1712343600@actu.grandangouleme.fr
SUMMARY:Marché local
DESCRIPTION:
URL:https://actu.grandangouleme.fr/evenement/marche-local/
LOCATION:Hangar\, 1 Route du Mas\, DIGNAC\, 16410
CATEGORIES:Dignac
ATTACH;FMTTYPE=image/jpeg:https://actu.grandangouleme.fr/wp-content/uploads/2024/03/actus-marche-local-Avril-24-5HU5wA.tmp_.jpg
ORGANIZER;CN="Mairie de Dignac":MAILTO:mairie@dignac.fr
END:VEVENT
BEGIN:VEVENT
DTSTART;TZID=Europe/Paris:20240404T180000
DTEND;TZID=Europe/Paris:20240404T200000
DTSTAMP:20260419T172446
CREATED:20240319T203654Z
LAST-MODIFIED:20240404T215025Z
UID:10000810-1712253600-1712260800@actu.grandangouleme.fr
SUMMARY:CONFERENCE SPORT ET HANDICAP • “Une aventure humaine plus forte que le handicap” • Association Ensemble Déplaçons Les Montagnes • Salle du conseil – Mairie
DESCRIPTION:Cette rencontre sera une introduction à plusieurs évènements à venir\, organisés par la Municipalité de Soyaux sur la thématique du handicap en lien avec la culture\, le sport et l’éducation sur notre territoire.\nAu cours de cette soirée\, nous mettrons à l’honneur différents sportifs en situation de handicap (paralympiques) dont la volonté et le courage sont porteurs d’espoir.\nCette conférence sera animée par Claudine Dumargue – conseillère municipale en charge du handicap et en présence de Robert Jabouille – adjoint au Maire en charge des associations. \nHandisport et sport adapté\, quelle(s) différence(s) ? \nAu programme de la soirée : \n\nProjection du reportage de la diagonale des fous réalisé par l’équipe Ensemble Déplaçons Les Montagnes\nProjection de vidéos d’Enzo Bruno\n\nTémoignages de sportifs : \n\nEnzo Bruno – nageur handisport\, coaché par Nicolas Gendry. Il interviendra sur les défis sur lesquels il s’engage : traversée Fort Boyard/La Rochelle\, traversée de la Manche…\nPascaline Dalseme – Brevet d’État monitrice d’équitation et autrice de l’ouvrage « la tête dans les nuages\, les pieds dans les étriers »\, témoignera du parrainage possible entre valide/handi dans le cadre d’activités sportives.\nMagali Rousset – championne tennis de table accompagnée de son éducateur sportif Xavier Léger (ADAPEI)\n\nEn présence de partenaires : \n\nChantal Étienne – Présidente de l’ADAPEI\nDidier Gesson – membre de l’ADAPEI\nBabeth Cohen – Présidente du Comité Départemental du Sport Adapté en Charente\nClémence Boudet – membre de l’association « Les Bulles de Matteo »\n\nOuvert à tous. \nEntrée libre – SUR INSCRIPTION à communication@mairie-soyaux.fr\n05 45 97 83 50 \nDans la continuité de la semaine olympique et paralympique\, deux autres manifestations sont organisées sur la commune : \n\ndimanche 7 avril à 15h : spectacle musical « le roi lion » de la Cie Les Joyeux Farfadets\nsamedi 13 avril à 14h : Soëlys ça me dit fête les jeux olympiques !
URL:https://actu.grandangouleme.fr/evenement/conference-sport-et-handicap-une-aventure-humaine-plus-forte-que-le-handicap-association-ensemble-deplacons-les-montagnes-salle-du-conseil-mairie/
LOCATION:Mairie – Salle du conseil municipal\, 235 avenue du Général de Gaulle\, Soyaux\, 16800\, France
CATEGORIES:Soyaux
ATTACH;FMTTYPE=image/jpeg:https://actu.grandangouleme.fr/wp-content/uploads/2024/03/Conference-sport-et-handicap-du-4-04-2024-zAvPnP.tmp_.jpg
ORGANIZER;CN="Ville de Soyaux":MAILTO:mairie@mairie-soyaux.fr
END:VEVENT
BEGIN:VEVENT
DTSTART;TZID=Europe/Paris:20240403T133000
DTEND;TZID=Europe/Paris:20240403T163000
DTSTAMP:20260419T172446
CREATED:20240330T042119Z
LAST-MODIFIED:20240403T042027Z
UID:10000816-1712151000-1712161800@actu.grandangouleme.fr
SUMMARY:Chasse aux œufs
DESCRIPTION:
URL:https://actu.grandangouleme.fr/evenement/chasse-aux-oeufs/
CATEGORIES:Citoyenneté,La Couronne
ATTACH;FMTTYPE=image/jpeg:https://actu.grandangouleme.fr/wp-content/uploads/2024/03/432771321_424420953611124_533093587741218331_n-e3jmbJ.tmp_.jpg
END:VEVENT
BEGIN:VEVENT
DTSTART;TZID=Europe/Paris:20240402T183000
DTEND;TZID=Europe/Paris:20240402T193000
DTSTAMP:20260419T172446
CREATED:20240319T000542Z
LAST-MODIFIED:20240402T012029Z
UID:10000803-1712082600-1712086200@actu.grandangouleme.fr
SUMMARY:Concert des classes de violon
DESCRIPTION:Audition de classes\n\n	Classe de Cécile Mardikian\, Arnaud Chataigner\, Jesus Lopez Porras\n Entrée libre dans la limite des places disponibles.
URL:https://actu.grandangouleme.fr/evenement/concert-des-classes-de-violon/
LOCATION:Auditorium – Conservatoire\, place Henri Dunant\, Angoulême\, 16000\, France
CATEGORIES:Conservatoire Gabriel Fauré
ATTACH;FMTTYPE=image/jpeg:https://actu.grandangouleme.fr/wp-content/uploads/2022/05/violon-baroque-xm4gCh.tmp_.jpg
ORGANIZER;CN="Conservatoire Gabriel Faur%C3%A9":MAILTO:conservatoire@grandangouleme.fr
END:VEVENT
BEGIN:VEVENT
DTSTART;TZID=Europe/Paris:20240402T080000
DTEND;TZID=Europe/Paris:20240406T170000
DTSTAMP:20260419T172446
CREATED:20240330T042056Z
LAST-MODIFIED:20240402T042025Z
UID:10000815-1712044800-1712422800@actu.grandangouleme.fr
SUMMARY:Semaine Olympique et Paralympique
DESCRIPTION:
URL:https://actu.grandangouleme.fr/evenement/semaine-olympique-et-paralympique/
CATEGORIES:La Couronne,Sport
ATTACH;FMTTYPE=image/png:https://actu.grandangouleme.fr/wp-content/uploads/2024/03/Capture-decran-2024-03-29-a-14.13.30-WOoIWR.tmp_.png
END:VEVENT
BEGIN:VEVENT
DTSTART;TZID=Europe/Paris:20240401T140000
DTEND;TZID=Europe/Paris:20240401T170000
DTSTAMP:20260419T172446
CREATED:20240319T203653Z
LAST-MODIFIED:20240401T213530Z
UID:10000809-1711980000-1711990800@actu.grandangouleme.fr
SUMMARY:CHASSE AUX OEUFS • Secours Populaire Français • Parc Salvador Allende
DESCRIPTION:Renseignements : Martine Mathey Doret – 06 81 77 48 58 – spfsoyaux@orange.fr
URL:https://actu.grandangouleme.fr/evenement/chasse-aux-oeufs-secours-populaire-francais-parc-salvador-allende/
LOCATION:Parc Salvador Allende\, Rue Romain Rolland\, SOYAUX\, 16800\, France
CATEGORIES:Soyaux
ATTACH;FMTTYPE=image/jpeg:https://actu.grandangouleme.fr/wp-content/uploads/2024/03/Oeufs-de-Paques-Chasse-aux-oeufs-p1wZ1U.tmp_.jpg
ORGANIZER;CN="Secours Populaire":MAILTO:spfsoyaux@orange.fr
END:VEVENT
BEGIN:VEVENT
DTSTART;TZID=Europe/Paris:20240401T080000
DTEND;TZID=Europe/Paris:20240430T170000
DTSTAMP:20260419T172446
CREATED:20240331T042127Z
LAST-MODIFIED:20240401T042144Z
UID:10000823-1711958400-1714496400@actu.grandangouleme.fr
SUMMARY:Ce mois-ci à La Couronne
DESCRIPTION:
URL:https://actu.grandangouleme.fr/evenement/ce-mois-ci-a-la-couronne/
CATEGORIES:Citoyenneté,La Couronne
ATTACH;FMTTYPE=image/jpeg:https://actu.grandangouleme.fr/wp-content/uploads/2024/03/STAGE-MULTISPORTS-Office-Municipal-des-Sports-3-scaled-LqIAXr.tmp_.jpg
END:VEVENT
END:VCALENDAR